BEGIN:VCALENDAR
VERSION:2.0
PRODID:-//Visitvac - ECPv6.15.20//NONSGML v1.0//EN
CALSCALE:GREGORIAN
METHOD:PUBLISH
X-WR-CALNAME:Visitvac
X-ORIGINAL-URL:https://visitvac.hu
X-WR-CALDESC:Események Visitvac
REFRESH-INTERVAL;VALUE=DURATION:PT1H
X-Robots-Tag:noindex
X-PUBLISHED-TTL:PT1H
BEGIN:VTIMEZONE
TZID:Europe/Budapest
BEGIN:DAYLIGHT
TZOFFSETFROM:+0100
TZOFFSETTO:+0200
TZNAME:CEST
DTSTART:20250330T010000
END:DAYLIGHT
BEGIN:STANDARD
TZOFFSETFROM:+0200
TZOFFSETTO:+0100
TZNAME:CET
DTSTART:20251026T010000
END:STANDARD
BEGIN:DAYLIGHT
TZOFFSETFROM:+0100
TZOFFSETTO:+0200
TZNAME:CEST
DTSTART:20260329T010000
END:DAYLIGHT
BEGIN:STANDARD
TZOFFSETFROM:+0200
TZOFFSETTO:+0100
TZNAME:CET
DTSTART:20261025T010000
END:STANDARD
BEGIN:DAYLIGHT
TZOFFSETFROM:+0100
TZOFFSETTO:+0200
TZNAME:CEST
DTSTART:20270328T010000
END:DAYLIGHT
BEGIN:STANDARD
TZOFFSETFROM:+0200
TZOFFSETTO:+0100
TZNAME:CET
DTSTART:20271031T010000
END:STANDARD
END:VTIMEZONE
BEGIN:VEVENT
DTSTART;TZID=Europe/Budapest:20260424T090000
DTEND;TZID=Europe/Budapest:20260426T163000
DTSTAMP:20260424T013835
CREATED:20260317T091544Z
LAST-MODIFIED:20260317T091544Z
UID:10001500-1777021200-1777221000@visitvac.hu
SUMMARY:Születés hete
DESCRIPTION:Sok szeretettel várunk\nminden leendő\, kis – és nagybabás családot a VIII. Váci Születés hetére! \nAz idei Születés hete egy kis önkéntes csapat munkájából szerveződött\, Csizek Ildikó és Kiss-Németh Anita által.\nA programoknak nincs fix díjuk\, 2000-3000 Ft adománnyal tudjátok támogatni a munkánkat\, a költségeinket és segíteni\, hogy a jövőre is meg tudjuk tartani. \nA részvétel regisztrációhoz kötött! \nREGISZTRÁLJ ITT: https://forms.gle/a2NPbvRZZ36jAnqP9 \n  \nPROGRAMOK: \nPÉNTEK \n9.00 – 10.15\nPozitív\, játékos megoldások nevelési helyzetekre\nKátai Zsoltné – Evi\, a Mosolyteremtő \n10.30 – 11.45\nSzoptatás – hozzátáplálás a gyakorlatban\nPilling Martina \n12.15 – 13.30\nAludjatok Jól!\nNagy Rőzse \n13.45 – 15.00\nTermészetes babaápolás\nHarsányi Zita \n15.15 – 16.30\nTeShow – az életre szóló társasjáték\nBogdán Réka \nSZOMBAT \n10.00 – 12.00\nVárandós jóga és relaxáció kismamáknak\nCsizek Ildikó \n10.00 – 12.00\nApás beszélgetőkör édesapáknak (külön teremben)\nBrózik Péter \n12.30 – 14.00\nA szülés szakaszai és jellemzői\nCsizek Ildikó\, Kiss-Németh Anita \n14.30 – 15.30\nEzeket jó tudni a császármetszésről\nAmbrus Gyöngy \n15.45 – 17.45\nSzülésfelkészítő gyakorlat\nCsizek Ildikó\, Kiss-Németh Anita \nVASÁRNAP \n10.00 – 11.30\nSzoptatás és tévhitek\nNajat Nárcisz \n12.00 – 13.30\nÉletszakaszok\, mint fordulópontok a párkapcsolatban- eltávolodás vagy a szövetség megerősítése\nIllés Hilda \n13.45-15.00\nSzülés utáni regeneráció\, hegkezelés. Mit tegyél hogy jól legyél?\nRottenbacher Mónika \n15.15 – 16.30\nGyermekágy – az első 6 hét gyakorlati tippjei\nKátai Zsoltné – Evi\, a Mosolyteremtő\, Csizek Ildikó\, Kiss-Németh Anita \nJÓ TUDNI:\n– Étel-ital fogyasztása megengedett\, amennyiben ügyelsz a tisztaság fenntartására. \n– Az előadások alatt és között is nyugodtan szoptathatod kisbabádat. \n– A kismanók számára lesz pelenkázó\, bili\, szűkítő\, játszósarok. \nA programváltozás jogát fenntartjuk. Változás esetén e-mailben tájékoztatjuk a regisztrált családokat. \nHelyszín: 8-s\, Végh Dezső terem
URL:https://visitvac.hu/event/szuletes-hete/
LOCATION:Madách Imre Művelődési Központ\, Dr. Csányi László krt. 63.\, Vác\, 2600\, Magyarország
ATTACH;FMTTYPE=image/png:https://visitvac.hu/wp-content/uploads/2026/03/szuletes-hete_0424.png
END:VEVENT
END:VCALENDAR