BEGIN:VCALENDAR
VERSION:2.0
PRODID:-//Visitvac - ECPv6.15.20//NONSGML v1.0//EN
CALSCALE:GREGORIAN
METHOD:PUBLISH
X-ORIGINAL-URL:https://visitvac.hu
X-WR-CALDESC:Események Visitvac
REFRESH-INTERVAL;VALUE=DURATION:PT1H
X-Robots-Tag:noindex
X-PUBLISHED-TTL:PT1H
BEGIN:VTIMEZONE
TZID:Europe/Budapest
BEGIN:DAYLIGHT
TZOFFSETFROM:+0100
TZOFFSETTO:+0200
TZNAME:CEST
DTSTART:20250330T010000
END:DAYLIGHT
BEGIN:STANDARD
TZOFFSETFROM:+0200
TZOFFSETTO:+0100
TZNAME:CET
DTSTART:20251026T010000
END:STANDARD
BEGIN:DAYLIGHT
TZOFFSETFROM:+0100
TZOFFSETTO:+0200
TZNAME:CEST
DTSTART:20260329T010000
END:DAYLIGHT
BEGIN:STANDARD
TZOFFSETFROM:+0200
TZOFFSETTO:+0100
TZNAME:CET
DTSTART:20261025T010000
END:STANDARD
BEGIN:DAYLIGHT
TZOFFSETFROM:+0100
TZOFFSETTO:+0200
TZNAME:CEST
DTSTART:20270328T010000
END:DAYLIGHT
BEGIN:STANDARD
TZOFFSETFROM:+0200
TZOFFSETTO:+0100
TZNAME:CET
DTSTART:20271031T010000
END:STANDARD
END:VTIMEZONE
BEGIN:VEVENT
DTSTART;TZID=Europe/Budapest:20260529T190000
DTEND;TZID=Europe/Budapest:20260529T220000
DTSTAMP:20260419T175713
CREATED:20260219T134832Z
LAST-MODIFIED:20260219T134832Z
UID:10001468-1780081200-1780092000@visitvac.hu
SUMMARY:Sick Sox Koncert
DESCRIPTION:Koncert\nSziasztok! \nRég jelentkeztünk.\nDe most újra itt vagyunk!\nRengeteg új dallal és izgalmas fordulattal!\nGyertek és töltsétek velünk ezt a kétszer ötven percet!\nVárunk!! \nJegyinformáció hamarosan!
URL:https://visitvac.hu/event/sick-sox-koncert/
LOCATION:Madách Imre Művelődési Központ\, Dr. Csányi László krt. 63.\, Vác\, 2600\, Magyarország
ATTACH;FMTTYPE=image/png:https://visitvac.hu/wp-content/uploads/2026/02/Sick-sox_0529.png
END:VEVENT
BEGIN:VEVENT
DTSTART;TZID=Europe/Budapest:20260531T100000
DTEND;TZID=Europe/Budapest:20260531T170000
DTSTAMP:20260419T175713
CREATED:20260325T101444Z
LAST-MODIFIED:20260325T101444Z
UID:10001510-1780221600-1780246800@visitvac.hu
SUMMARY:Gyereknap
DESCRIPTION:Egész nap várjuk a gyerekeket\n10.00: Kovácsovics Fruzsina \n11.00: Kerekítő foglalkozás Hertel Szilvivel \n11.00: Kutyaduma – kutyás bemutató \n11:30: Freestyler Focis bemutató \n14:00: Táncbemutatók \n15:00: Jack Spenót – Interaktív Kalóz Show \n15:00 – 17:00: Kézműves foglalkozás \nA nap folyamán: \nJátékos tudomány – Furfangos Csudavilág 10:00 – 17:00 \nLufihajtogató bohóc 10:00 – 12:00 \nKreatív ügyességi játékok 9:30 – 12:00 \nHajfonás 10.00 – 17:00 \nArcfestés 10.00 – 17:00 \nLégvár 10:00 – 17:00 \nVattacukor \nKürtős kalács \nLángos \nFagyi \nJégkása \nAz esemény díjtalanul látogatható! \nEsőhelyszín: Madách Imre Művelődési Központ \nA rendezvény kiemelt támogatója a Duna-Dráva Cement Kft. és a Continental Kft.
URL:https://visitvac.hu/event/gyereknap/
LOCATION:Madách Imre Művelődési Központ\, Dr. Csányi László krt. 63.\, Vác\, 2600\, Magyarország
ATTACH;FMTTYPE=image/png:https://visitvac.hu/wp-content/uploads/2026/03/gyereknap_0531.png
END:VEVENT
BEGIN:VEVENT
DTSTART;TZID=Europe/Budapest:20260606T170000
DTEND;TZID=Europe/Budapest:20260606T190000
DTSTAMP:20260419T175713
CREATED:20260325T121621Z
LAST-MODIFIED:20260325T121621Z
UID:10001511-1780765200-1780772400@visitvac.hu
SUMMARY:Hol volt\, hol nem volt – mesél a színpad
DESCRIPTION:Gála előadás\na Thália Művészeti Egyesület szólistáival és Ifjúsági csoportjával. \nKoreográfia: Mézes Judit\nRendező: Bálint Brigitta\nMűvészeti vezető: Brenner Judit \nSzólisták: Grubits Blanka\, Szreseny Dóra\, Megyesi Enikő\, Nábelek Sára\, Veres Réka\, Vizhányó Zina \nFotó: Pomaházi Roland \nJegyár: 3000 Ft \nJegyek hamarosan kaphatók jegypénztárunkban!
URL:https://visitvac.hu/event/hol-volt-hol-nem-volt-mesel-a-szinpad/
LOCATION:Madách Imre Művelődési Központ\, Dr. Csányi László krt. 63.\, Vác\, 2600\, Magyarország
ATTACH;FMTTYPE=image/png:https://visitvac.hu/wp-content/uploads/2026/03/hol-volt-hol-nem-volt_0606.png
END:VEVENT
BEGIN:VEVENT
DTSTART;TZID=Europe/Budapest:20260612T100000
DTEND;TZID=Europe/Budapest:20260612T180000
DTSTAMP:20260419T175713
CREATED:20260317T131542Z
LAST-MODIFIED:20260317T131542Z
UID:10001506-1781258400-1781287200@visitvac.hu
SUMMARY:Régészet napja
DESCRIPTION:10:00-14:00 – „Áskálódók” élményásatás osztályoknak \n16:00 – Pázmány Péter Katolikus Egyetem hallgatóinak előadásai \n16:00 – 18:00 – Régészeti homokozó\, fémkeresés\, régészeti kiállítás
URL:https://visitvac.hu/event/regeszet-napja/
LOCATION:Elefántos Ház\, Március 15. tér 23.\, Vác\, Pest\, 2600\, Magyarország
ATTACH;FMTTYPE=image/avif:https://visitvac.hu/wp-content/uploads/2026/03/regeszet-napja_0612.avif
ORGANIZER;CN="Tragor Ign%C3%A1c M%C3%BAzeum":MAILTO:info@muzeumvac.hu
END:VEVENT
BEGIN:VEVENT
DTSTART;TZID=Europe/Budapest:20260626T193000
DTEND;TZID=Europe/Budapest:20260626T203000
DTSTAMP:20260419T175713
CREATED:20260304T111524Z
LAST-MODIFIED:20260324T093925Z
UID:10001473-1782502200-1782505800@visitvac.hu
SUMMARY:Nyitókoncert - Capella Savaria és a Purcell Kórus
DESCRIPTION:ELŐADÓK:\nCapella Savaria és Purcell Kórus\nvezényel: Vashegyi György \nMŰSOR:\nJohann Matthias Schenauer: c-moll requiem\nJoseph Haydn: d-moll Nelson-mise \nJegyár: 7 900 Ft\njegyvásárlási link: Nyitókoncert – Capella Savaria és Purcell Kórus – jegyvásárlás | Vác\, Fehérek temploma | jegymester.hu \nJegyek válthatók Vácon a Tourinform-irodában\, a programok előtt a helyszíneken\, valamint a www.jegymester.hu oldalon. \nJegyár kedvezmények:\nA koncertre a váci lakosok lakcímkártyájuk felmutatásával 50%-os kedvezménnyel válthatnak jegyet a helyszínen és a váci Tourinform irodában. \nDiákok és nyugdíjasok számára 10% kedvezményt biztosítunk. \nA Filharmónia Magyaroszág bérletesei -bérletük felmutatásával- 20% kedvezménnyel válthatnak jegyet az ország bármely pontján az általunk szervezett és értékesített felnőtt hangversenyekre. A kedvezmény bérletenként egy jegyre érvényesíthető koncertenként. \nA műsor-\, időpont-\, helyszín- és szereplőváltoztatás jogát fenntartjuk\, melynek függvényében a jegyár is változhat.
URL:https://visitvac.hu/event/nyitokoncert-capella-savaria-es-a-purcell-korus/
LOCATION:Fehérek temploma\, Március 15 tér\, Vác\, 2600
ATTACH;FMTTYPE=image/jpeg:https://visitvac.hu/wp-content/uploads/2026/03/nyitokoncert_0627-1.jpg
ORGANIZER;CN="Filharm%C3%B3nia Magyarorsz%C3%A1g":MAILTO:filharmonia@filharmonia.hu
END:VEVENT
BEGIN:VEVENT
DTSTART;TZID=Europe/Budapest:20260630T200000
DTEND;TZID=Europe/Budapest:20260630T210000
DTSTAMP:20260419T175713
CREATED:20260304T113857Z
LAST-MODIFIED:20260304T113857Z
UID:10001474-1782849600-1782853200@visitvac.hu
SUMMARY:Professzorok koncertje
DESCRIPTION:Helyszín: Vác\, Piarista Kilátó Központ \nELŐADÓK:\nA Régi Zenei Napok mesterkurzusainak professzorai \nJegyár: 5 900 Ft\njegyvásárlási link: Professzorok koncertje – jegyvásárlás | Vác\, Piarista Kilátó Központ | jegymester.hu \nJegyek válthatók Vácon a Tourinform-irodában\, a programok előtt a helyszíneken\, valamint a www.jegymester.hu oldalon. \nJegyár kedvezmények:\nA koncertre a váci lakosok lakcímkártyájuk felmutatásával 50%-os kedvezménnyel válthatnak jegyet a helyszínen és a váci Tourinform irodában. \nDiákok és nyugdíjasok számára 10% kedvezményt biztosítunk. \nA Filharmónia Magyaroszág bérletesei -bérletük felmutatásával- 20% kedvezménnyel válthatnak jegyet az ország bármely pontján az általunk szervezett és értékesített felnőtt hangversenyekre. A kedvezmény bérletenként egy jegyre érvényesíthető koncertenként. \nA műsor-\, időpont-\, helyszín- és szereplőváltoztatás jogát fenntartjuk\, melynek függvényében a jegyár is változhat. \n\nMesterkurzus Professzorok Hangversenye – A Régi Zenei Napok Mesterei Színpadon \nA 42. Régi Zenei Napok egyik különleges pillanata\, amikor azok a nemzetközileg elismert mesterek\, akik a kurzusokat vezetik\, közös hangversenyt adnak Vácott. A koncerten színpadra lép Lucie Horsch (furulya)\, Szató Sunszuke (hegedű)\, Somlai Petra (fortepiano)\, Szutrély Katalin és Elisabeth Scholl (ének)\, Kertész Ildikó (fuvola)\, Vashegyi György (kamarazene)\, Nagy Réka (viola da gamba\, cselló) valamint Szokos Augustin (csembaló). A hangverseny valódi zenei ünnep: ritka alkalom\, hogy ennyi kivételes művész együtt\, egy színpadon varázsolja el a közönséget! \nEgyüttműködő partner a Haydneum – Magyar Régizenei Központ\, és a Sysart Kft. Orfeo Zenei Alapítványa.\nA Haydneum működését a Miniszterelnökség és a Bethlen Gábor Alapkezelő Zrt. támogatja.
URL:https://visitvac.hu/event/professzorok-koncertje/
LOCATION:Piarista Kilátó Központ\, Géza király tér 10.\, Vác\, 2600
ATTACH;FMTTYPE=image/jpeg:https://visitvac.hu/wp-content/uploads/2026/03/professzorok-koncertje_0630.jpg
ORGANIZER;CN="Filharm%C3%B3nia Magyarorsz%C3%A1g":MAILTO:filharmonia@filharmonia.hu
END:VEVENT
BEGIN:VEVENT
DTSTART;TZID=Europe/Budapest:20260701T193000
DTEND;TZID=Europe/Budapest:20260701T203000
DTSTAMP:20260419T175713
CREATED:20260304T114909Z
LAST-MODIFIED:20260304T115028Z
UID:10001475-1782934200-1782937800@visitvac.hu
SUMMARY:Lucie Horsch furulyaestje
DESCRIPTION:Helyszín: Vác\, Barátok temploma \nELŐADÓK:\nLucie Horsch – furulya\nNagy Réka – viola da gamba\nSzokos Augustin – csembaló \nJegyár: 5 900 Ft\nJegyvásárlási link: Lucie Horsch furulyaestje – jegyvásárlás | Vác\, Szent Kereszt ferences templom (Barátok temploma) | jegymester.hu \nJegyek válthatók Vácon a Tourinform-irodában\, a programok előtt a helyszíneken\, valamint a www.jegymester.hu oldalon. \nJegyár kedvezmények:\nA koncertre a váci lakosok lakcímkártyájuk felmutatásával 50%-os kedvezménnyel válthatnak jegyet a helyszínen és a váci Tourinform irodában. \nDiákok és nyugdíjasok számára 10% kedvezményt biztosítunk. \nA Filharmónia Magyaroszág bérletesei -bérletük felmutatásával- 20% kedvezménnyel válthatnak jegyet az ország bármely pontján az általunk szervezett és értékesített felnőtt hangversenyekre. A kedvezmény bérletenként egy jegyre érvényesíthető koncertenként. \nA műsor-\, időpont-\, helyszín- és szereplőváltoztatás jogát fenntartjuk\, melynek függvényében a jegyár is változhat. \nEgyüttműködő partner a Haydneum – Magyar Régizenei Központ\, és a Sysart Kft. Orfeo Zenei Alapítványa.\nA Haydneum működését a Miniszterelnökség és a Bethlen Gábor Alapkezelő Zrt. támogatja.
URL:https://visitvac.hu/event/lucie-horsch-furulyaestje/
LOCATION:Barátok temploma\, Géza király tér\, Vác\, 2600
ATTACH;FMTTYPE=image/jpeg:https://visitvac.hu/wp-content/uploads/2026/03/lucie-horsch-furulyaestje_0701.jpg
ORGANIZER;CN="Filharm%C3%B3nia Magyarorsz%C3%A1g":MAILTO:filharmonia@filharmonia.hu
END:VEVENT
BEGIN:VEVENT
DTSTART;TZID=Europe/Budapest:20260703T200000
DTEND;TZID=Europe/Budapest:20260703T210000
DTSTAMP:20260419T175713
CREATED:20260304T115344Z
LAST-MODIFIED:20260304T115344Z
UID:10001476-1783108800-1783112400@visitvac.hu
SUMMARY:Reneszánsz táncház
DESCRIPTION:Helyszín: Vác\, Március 15. tér – Harangjáték pavilon \nIngyenes! \nELŐADÓK:\nDr. Kovács Gábor – táncpedagógus \nA reneszánsz és a barokk idején a zene és a tánc még sokkal inkább kéz a kézben járt\, mint később. Valamilyen szinten mindenki tudott táncolni\, de legalábbis jól ismerte a tánc gesztusait. És aki ismerte a táncmozdulatokat\, az felismerte ugyanezeket a gesztusokat a zenében is. A lehetőség adott\, hogy Ön is megismerjen néhány reneszánsz táncot\, és onnantól kezdve másképpen hallgassa a reneszánsz zenét! \nEgyüttműködő partner a Haydneum – Magyar Régizenei Központ\, és a Sysart Kft. Orfeo Zenei Alapítványa.\nA Haydneum működését a Miniszterelnökség és a Bethlen Gábor Alapkezelő Zrt. támogatja.
URL:https://visitvac.hu/event/reneszansz-tanchaz/
LOCATION:Március 15. tér\, Március 15. tér\, Vác\, Pest\, 2600\, Magyarország
ATTACH;FMTTYPE=image/jpeg:https://visitvac.hu/wp-content/uploads/2026/03/reneszansz-tanchaz_0703.jpg
ORGANIZER;CN="Filharm%C3%B3nia Magyarorsz%C3%A1g":MAILTO:filharmonia@filharmonia.hu
END:VEVENT
BEGIN:VEVENT
DTSTART;TZID=Europe/Budapest:20260704T150000
DTEND;TZID=Europe/Budapest:20260704T160000
DTSTAMP:20260419T175713
CREATED:20260304T115701Z
LAST-MODIFIED:20260304T115701Z
UID:10001477-1783177200-1783180800@visitvac.hu
SUMMARY:Hallgatók zárókoncertje
DESCRIPTION:Helyszín: Vác\, Piarista Kilátó Központ \nIngyenes! \n\nELŐADÓK:\nA Régi Zenei Napok mesterkurzusainak hallgatói \nMagyarországon nincs graduális régizenei képzés. Aki meg akar tanulni korhű hangszereken játszani\, magánúton kell tennie\, legtöbbször mesterkurzusokon. Ilyenkor néhány intenzív napon előre kiválasztott darabokon ismerkednek meg a – sokszor nem is annyira fiatal – zenészek a zenélés még magasabb szintjeivel. Kíváncsi az eredményre? Itt a lehetőség! A színes kamarakoncert műsorát a mesterkurzusokon elsajátított\, – tökéletesített zeneművek alkotják. (És csak halkan jegyezzük meg\, hogy a hét folyamán a kurzusok is nyilvánosak\, így\, ha nemcsak a végeredményre kíváncsi\, beletekinthet a műhelymunkába is!) \nEgyüttműködő partner a Haydneum – Magyar Régizenei Központ\, és a Sysart Kft. Orfeo Zenei Alapítványa.\nA Haydneum működését a Miniszterelnökség és a Bethlen Gábor Alapkezelő Zrt. támogatja.
URL:https://visitvac.hu/event/hallgatok-zarokoncertje/
LOCATION:Piarista Kilátó Központ\, Géza király tér 10.\, Vác\, 2600
ATTACH;FMTTYPE=image/jpeg:https://visitvac.hu/wp-content/uploads/2026/03/hallgatok-zarokoncertje_0704.jpg
ORGANIZER;CN="Filharm%C3%B3nia Magyarorsz%C3%A1g":MAILTO:filharmonia@filharmonia.hu
END:VEVENT
BEGIN:VEVENT
DTSTART;TZID=Europe/Budapest:20260704T193000
DTEND;TZID=Europe/Budapest:20260704T210000
DTSTAMP:20260419T175713
CREATED:20260304T115931Z
LAST-MODIFIED:20260304T115931Z
UID:10001478-1783193400-1783198800@visitvac.hu
SUMMARY:Zárókoncert - Orfeo Zenekar és a Purcell Kórus
DESCRIPTION:Helyszín: Vác\, Nagyboldogasszony-székesegyház \n\nELŐADÓK:\nOrfeo Zenekar és Purcell Kórus\nvezényel: Shunske Sato \nMŰSOR:\nHeinrich Schütz: Német Magnificat\, SWV 494\nCarl Philipp Emanuel Bach: b-moll szimfónia\, Wq 182-5\nJohann Sebastian Bach: Es erhub sich ein Streit\, BWV 19\n-szünet-\nJohann Sebastian Bach: d-moll hegedűverseny – III. tétel\, BWV1052R\nJohann Sebastian Bach: D-dúr Magnificat\, BWV 243 \n  \nJegyár: 7 900 Ft\nJegyvásárlási link: Zárókoncert – Orfeo Zenekar és Purcell Kórus – jegyvásárlás | Vác\, Váci Székesegyház | jegymester.hu \nJegyek válthatók Vácon a Tourinform-irodában\, a programok előtt a helyszíneken\, valamint a www.jegymester.hu oldalon. \nJegyár kedvezmények:\nA koncertre a váci lakosok lakcímkártyájuk felmutatásával 50%-os kedvezménnyel válthatnak jegyet a helyszínen és a váci Tourinform irodában. \nDiákok és nyugdíjasok számára 10% kedvezményt biztosítunk. \nA Filharmónia Magyaroszág bérletesei -bérletük felmutatásával- 20% kedvezménnyel válthatnak jegyet az ország bármely pontján az általunk szervezett és értékesített felnőtt hangversenyekre. A kedvezmény bérletenként egy jegyre érvényesíthető koncertenként. \nA műsor-\, időpont-\, helyszín- és szereplőváltoztatás jogát fenntartjuk\, melynek függvényében a jegyár is változhat.
URL:https://visitvac.hu/event/zarokoncert-orfeo-zenekar-es-a-purcell-korus/
LOCATION:Váci Nagyboldogasszony-székesegyház\, Schuszter Konstantin tér 11.\, Vác\, 2600
ATTACH;FMTTYPE=image/jpeg:https://visitvac.hu/wp-content/uploads/2026/03/rzn-zarokoncert_0704.jpg
ORGANIZER;CN="Filharm%C3%B3nia Magyarorsz%C3%A1g":MAILTO:filharmonia@filharmonia.hu
END:VEVENT
END:VCALENDAR