BEGIN:VCALENDAR
VERSION:2.0
PRODID:-//Visitvac - ECPv6.15.20//NONSGML v1.0//EN
CALSCALE:GREGORIAN
METHOD:PUBLISH
X-WR-CALNAME:Visitvac
X-ORIGINAL-URL:https://visitvac.hu
X-WR-CALDESC:Események Visitvac
REFRESH-INTERVAL;VALUE=DURATION:PT1H
X-Robots-Tag:noindex
X-PUBLISHED-TTL:PT1H
BEGIN:VTIMEZONE
TZID:Europe/Budapest
BEGIN:DAYLIGHT
TZOFFSETFROM:+0100
TZOFFSETTO:+0200
TZNAME:CEST
DTSTART:20250330T010000
END:DAYLIGHT
BEGIN:STANDARD
TZOFFSETFROM:+0200
TZOFFSETTO:+0100
TZNAME:CET
DTSTART:20251026T010000
END:STANDARD
BEGIN:DAYLIGHT
TZOFFSETFROM:+0100
TZOFFSETTO:+0200
TZNAME:CEST
DTSTART:20260329T010000
END:DAYLIGHT
BEGIN:STANDARD
TZOFFSETFROM:+0200
TZOFFSETTO:+0100
TZNAME:CET
DTSTART:20261025T010000
END:STANDARD
BEGIN:DAYLIGHT
TZOFFSETFROM:+0100
TZOFFSETTO:+0200
TZNAME:CEST
DTSTART:20270328T010000
END:DAYLIGHT
BEGIN:STANDARD
TZOFFSETFROM:+0200
TZOFFSETTO:+0100
TZNAME:CET
DTSTART:20271031T010000
END:STANDARD
END:VTIMEZONE
BEGIN:VEVENT
DTSTART;TZID=Europe/Budapest:20260116T180000
DTEND;TZID=Europe/Budapest:20260215T190000
DTSTAMP:20260425T015756
CREATED:20260107T100259Z
LAST-MODIFIED:20260107T100259Z
UID:10001387-1768586400-1771182000@visitvac.hu
SUMMARY:DUKE kiállítás
DESCRIPTION:Dunakanyar Képzőművészeti Egyesület kiállítása\nKiállítást megnyitja: Moór Györgyi \nMegtekinthető 2026. február 15-ig. \nHelyszín: Kávézó Galéria
URL:https://visitvac.hu/event/duke-kiallitas/
LOCATION:Madách Imre Művelődési Központ\, Dr. Csányi László krt. 63.\, Vác\, 2600\, Magyarország
ATTACH;FMTTYPE=image/png:https://visitvac.hu/wp-content/uploads/2026/01/DUKE_0116.png
END:VEVENT
BEGIN:VEVENT
DTSTART;TZID=Europe/Budapest:20260121T083000
DTEND;TZID=Europe/Budapest:20260121T140000
DTSTAMP:20260425T015756
CREATED:20260107T101307Z
LAST-MODIFIED:20260107T101307Z
UID:10001389-1768984200-1769004000@visitvac.hu
SUMMARY:„HIT és TUDÁS”
DESCRIPTION:XXXVI. évébe érkező Madách Tanulmányi Napjára\nSzeretettel meghívja Tagjait\, Vác városa tisztelt Polgárait\, Pedagógusait és Tanítványaikat \n„HIT és TUDÁS” \n„Megszakadt a mindenség gyűrűje\,\nMelyben Isten\, ember együtt éltek\,\nS a nagy űrt tán át sem tudja szállni\nIsten gondja és emberremények.” \n(Madách) \n8.30  Főhajtás\, koszorúzás MADÁCH Imre születése 203. évfordulóján a \nMIMK Madách emléktáblájánál – Fel- és bevezeti: Németh Péter Mikola a \nMadách-kör ü. elnöke; Emlékbeszédet mond: Bene Zoltán író\, a Madách Irodalmi \nTársaság elnöke (Szeged); \n9.00 Boda Mária: Madách életmű tanításáról a magyar irodalomban; \n10.00 Szolnoki Tibor: A Tragédia drámai magasságai és mélységei; \n10.30 Németh Péter Mikola: Az Új Ádám szerepe Az ember tragédiájában; \n11:00 Turbucz Péter: Kornis Gyula és Prohászka Ottokár Madácha; \n11.30 Grosschmid Péter: Madách – Márai leszármazott a rokonairól mesél; \n12:00 Handó Péter: Kozmikus háttérsugárzás — Tragédia inspirációk; \n12.30 Vetítettképes kötetbemutató: Andor Csaba – Varga Emőke: \n„Rajzolta Madách Imre  –  ( Madách rajzai és festményei – \nVarga Emőkével Bene Zoltán beszélget); \nKözreműködik az \nAZNAP PROJEKT \nStanislaw Lazarus (doromb) Németh Zsófia Nóra (fuvola\, vers) Bakai Márton (hegedű) \nMagyarkúti Magulya Balázs (nagybőgő) Németh Balázs Kristóf (ütőhangszerek) \nVerseket mond: \nErdélyi György színművésze \nEz a soron következő Madách Tanulmányi Nap a hagyományos rendhagyó irodalomóráinkkal akkor történik\, amikor napjaink alapdilemmája a múló időben\, a XXI. században végérvényesen az maradt: vajon\, helyreállítható-e  még a harmadik évezred előterében téblábolva európai társadalmaink több mint 2000 éves közösségi\, kulturális alapzata \na KERESZTÉNYSÉG? Úgy\, abban a formájában\, úgy\, ahogy feltehetően  „A kereszténység nem mythológia\, nem metafizika\, nem hagyomány. A kereszténység az emberi létezés fundamentumáig\, sőt még azon túl is\, a gyökeréig VisszaHáramoltatható\, VisszaSejtesíthető újjáteremtés\, (Megváltás)…”  —  Hovatovább: Műteremtés !!! \n  \nEzennel a Szent Pál-i eszkatológiára (végső dolgokra) való hivatkozásról van szó\, ami eleddig\, Hamvas Béla\, 1946 óta lappangó kisesszéjében rejtőzködött\, s ami\, titokzatos módon\, napjainkra Molnár Sándor (1933—2022) festőművész hagyatékából került elő. S  ami\, aktuálisan a  SETH  – Kereszténység és hagyomány címmel\, 2025-ben vált publikussá a Medio Kiadónál\, amit ezúton is ajánlok szíves figyelmükbe\, figyelmetekbe. \n  \nMostanra az esszékötet friss olvasata tette a Scientia sacra (Szent tudás) összefüggésében korszakossá ezeket a hívó szavakat\, amelyek valójában egyben az egész földi létünk lényegét határozhatják meg\, merthogy Szent Pál nyelvén a végső realitás: a régi Ádám\, a MEGVÁLTÁS folyamatában Új Ádámmá lesz\, aki nem más\, mint maga a crux gemmatán függő Krisztus\, aki ma\, „hitfogyatkozáskor” a mű-teremtésben nélkülözhetetlenebb\, mint valaha. Miként is kérdezte Hit és tudás című versében Madách? Hát így: \n  \n„Mért ültette Isten édenébe\nA tudásnak széles águ fáját?\nA fa terjedt s lassanként elölte\nÁrnya a kertnek minden virágát.” \nMégis miért?! \nEz a Madách Tanulmányi Napunk legfőbb kérdése.     (mikola) \nÉrdeklődni\, iskoláknak\, osztályoknak kollektíve jelentkezni Rusvay Kata művelődésszervezőnél\, a Madách lmre Művelődési Központ igazgatóhelyettesénél lehet:  Tel.: 06-27/316-411 \nHelyszín: Színházterem
URL:https://visitvac.hu/event/hit-es-tudas/
LOCATION:Madách Imre Művelődési Központ\, Dr. Csányi László krt. 63.\, Vác\, 2600\, Magyarország
ATTACH;FMTTYPE=image/png:https://visitvac.hu/wp-content/uploads/2026/01/hit_es_tudas_0121.png
END:VEVENT
BEGIN:VEVENT
DTSTART;TZID=Europe/Budapest:20260122T160000
DTEND;TZID=Europe/Budapest:20260122T170000
DTSTAMP:20260425T015756
CREATED:20260115T125500Z
LAST-MODIFIED:20260115T125500Z
UID:10001423-1769097600-1769101200@visitvac.hu
SUMMARY:Szilágyi László – „Vác képekben egy gyűjtő szenvedélyével” Képeslap kiállítás megnyitó
DESCRIPTION:A Tragor Ignác Múzeum történeti dokumentációs gyűjteménye 2025-ben Szilágyi László gazdag és értékes képeslapgyűjteményével bővült. \nA különleges kollekció Vác városának több korszakát idézi meg: utcák\, épületek\, városrészletek és hangulatok tárulnak elénk a levelezőlapokon. \nIdőszaki kiállításunkon a gyűjtemény válogatott darabjait mutatjuk be a Kék Galériában. A képeslapok nemcsak szépségük miatt érdekesek\, hanem történeti forrásként is izgalmas betekintést adnak Vác városképének és mindennapi életének változásaiba. Szeretettel várjuk mindazokat\, akik érdeklődnek a helytörténet\, a képeslapok világa és Vác múltja iránt. \nMegnyitó: 2026.01.22. 16 óra – TIM/Kék Galéria \nKöszöntőt mond: Fehérváriné Tóth Helga\, múzeumigazgató \nA kiállítást megnyitja: Cservenák Péter\, lokálpatrióta\, helytörténeti gyűjtő
URL:https://visitvac.hu/event/szilagyi-laszlo-vac-kepekben-egy-gyujto-szenvedelyevel-kepeslap-kiallitas-megnyito/
LOCATION:Elefántos Ház\, Március 15. tér 23.\, Vác\, Pest\, 2600\, Magyarország
ATTACH;FMTTYPE=image/png:https://visitvac.hu/wp-content/uploads/2026/01/01.22.-Kepeslap-kiallitas.png
ORGANIZER;CN="Tragor Ign%C3%A1c M%C3%BAzeum":MAILTO:info@muzeumvac.hu
END:VEVENT
BEGIN:VEVENT
DTSTART;TZID=Europe/Budapest:20260122T170000
DTEND;TZID=Europe/Budapest:20260301T180000
DTSTAMP:20260425T015756
CREATED:20260114T151544Z
LAST-MODIFIED:20260114T151707Z
UID:10001422-1769101200-1772388000@visitvac.hu
SUMMARY:50 év 50 remek mű
DESCRIPTION:Kiállítás\naz 50 éves Madách Imre Művelődési Központ tiszteletére \nA váci Madách Imre Művelődési Központ 1976-ban történt átadása óta a Dunakanyar egyik legfontosabb\, leglátogatottabb kulturális és közművelődési intézménye. 50 éves fennállásunk évfordulóját több rendezvénnyel\, konferenciával és kiállítással kívánjuk megünnepelni 2026-ban. Ezek közül az első kiemelkedő esemény a Magyar Kultúra Napjára időzített „50 ÉV 50 REMEK MŰ” című kiállításunk az Emeleti Galériában\, mely a kultúra-napi gálaműsor előtt nyílik meg. Az ötven kimagasló képző- illetve fotóművészeti alkotásból álló anyag több részből áll össze: egyrészt a Művelődési Központ (illetve a fenntartó: Vác Város Önkormányzata)\, valamint Papp László gyűjteményében található műalkotásokból\, másrészt a jelenleg is aktív művészektől beválogatott alkotásokból. A kiállításon olyan neves alkotóktól találhatók művek – a teljesség igénye nélkül -\, mint Bartha László\, Gerzson Pál\, Hincz Gyula\, Kokas Ignác\, Mácsai István\,  Nagy B. István\, Szabó Vladimir festőművészek\, Blaskó János szobrászművész\, Raszler Károly és Sáros András Miklós grafikusművészek\, Kocsis Iván fotóművész… A jelenleg is aktív művészek közül is olyan jelentős alkotók művei lesznek megtekinthetők\, mint Adorján Attila\, Kis Sándor Lajos DLA\, Németh Árpád\, Németh Géza\, Orvos András festőművészek\, Molnár László József grafikusművész\, Fekete István és Molnár Ferenc fotóművészek. \nMegnyitó ünnepség: 2026.01.22. 17 óra \nKöszöntőt mond: Matkovich Ilona Vác város polgármestere\nKiállítást megnyitja: Feledy Balázs művészeti író \nHelyszín: Emeleti Galéria
URL:https://visitvac.hu/event/50-ev-50-remek-mu/
LOCATION:Madách Imre Művelődési Központ\, Dr. Csányi László krt. 63.\, Vác\, 2600\, Magyarország
ATTACH;FMTTYPE=image/png:https://visitvac.hu/wp-content/uploads/2026/01/50-ev-50-remek-mu_0122.png
END:VEVENT
BEGIN:VEVENT
DTSTART;TZID=Europe/Budapest:20260122T180000
DTEND;TZID=Europe/Budapest:20260122T190000
DTSTAMP:20260425T015756
CREATED:20251128T112929Z
LAST-MODIFIED:20251128T112929Z
UID:10001356-1769104800-1769108400@visitvac.hu
SUMMARY:Magyar Kultúra Napja
DESCRIPTION:Gálaműsor\nAz est folyamán átadják a Vác Város Művelődéséért\, a Vác Város Művészeti Díj\, a Vác Város Közművelődést segítő kitüntetéseket. \nKözreműködik: Cseh Tamás Projekt. \nA Cseh Tamás Projekt négytagú formáció\, mely 2014-ben alakult azzal a céllal\, hogy Cseh Tamás és Bereményi Géza örök érvényű dalaiból és verseiből\, sajátságos megszólalásban\, egyedi hangszerelésbe öntve formáljon előadást úgy a fiatalabb\, mint az idősebb hallgatóság számára. Tagok: Farkas Virág – fuvola\, harmonika\, melodika\, vokál\, Fazekas László – vibrafon\, zongora\, Misik Zoltán – nagybőgő\, Farkas Péter – ének\, gitár \nIngyenes regisztrációs jegyek átvehetők a jegypénztárban.
URL:https://visitvac.hu/event/magyar-kultura-napja/
LOCATION:Madách Imre Művelődési Központ\, Dr. Csányi László krt. 63.\, Vác\, 2600\, Magyarország
ATTACH;FMTTYPE=image/png:https://visitvac.hu/wp-content/uploads/2025/11/magyar_kultura_napja_0122.png
END:VEVENT
BEGIN:VEVENT
DTSTART;TZID=Europe/Budapest:20260123T190000
DTEND;TZID=Europe/Budapest:20260123T203000
DTSTAMP:20260425T015756
CREATED:20251128T113226Z
LAST-MODIFIED:20251128T113226Z
UID:10001357-1769194800-1769200200@visitvac.hu
SUMMARY:BUDAPEST BÁR
DESCRIPTION:Koncert\nEgy Budapest Bár koncert a legjobb wellness program: kikapcsol\, megnyugtat és boldoggá tesz\, és még a pénztárcádat sem dönti romba.  Kortalan zenei időutazás az elmúlt 100 év legjobb számaival\, remek feldolgozásban\, némi cigányos fűszerrel. A Budapest Bár sosem okoz csalódást\, hiszen mindig jó és mindig más. Stílusok\, dalok\, korok\, hangok és egyéniségek kavalkádja minden koncert. A nagyszerű zenészeknek és a kitűnő énekes-előadó egyéniségeknek köszönhetően feledhetetlen és önfeledt koncertre számíthat az\, aki eljön január 23-án a váci Madách Imre Művelődési Központba.\nA csodálatos Budapest Bár zenekar ezúttal Behumi Dórival\, Ferenczi Borával\, Tóth Verával\, Frenkkel\, és Szűcs Krisztiánnal érkezik. \nA Budapest Bár a szívbemarkoló és szívderítő dalok cigányzenei feldolgozásaival vált Magyarország egyik legnépszerűbb zenekarává. Az együttes varázslatos vonzerejét a kitűnő zenészeknek és a magyar rockzene kultikus énekeseinek köszönheti. Az eredetileg egyetlen lemezre születő Budapest Bár tizenkét énekessel\, teljesen egyedi felállásban működik már 15 éve – talán épp ezért lett mára a legkeresettebb koncertzenekar\, fesztiválok és nagyszínpadok rendszeres fellépője. A Budapest Bár védjegyévé vált egyedi stílus gyökerei az 1920-30-as évekbeli\, budapesti kávéházak világáig nyúlik vissza. Az ismert és kedvelt dalokat cigányzenei alapokon\, jazz\, pop\, rock\, klezmer és számos zenei műfaji elemmel ötvözve értelmezik újra. \nA Budapest Bárt vezetőjének és alapítójának\, Farkas Róbertnek eredeti szándéka pontosan az volt\, hogy új lendületet adjon a kávéházi cigányzene műfajának\, életben tartva és megújítva a régi hagyományokat. A zenekarnak köszönhetően rég elfeledett dallamok váltak újra a köztudat\, és a fiatalok kultúrájának részévé. Számos régi dalt leporoltak\, elfeledetteket élesztettek újra\, közismerteket öltöztettek új köntösbe\, az utóbbi időben pedig számos új dalt is írtak. Korok\, kultúrák\, stílusok és korosztályok találkoznak a produkcióban – talán ezért is szeretik fiatalok és idősebbek egyaránt az együttest\, amely mára többgenerációs kedvenccé vált. \nA Budapest Bár cikázik a zenei stílusok között és kiszakít a mindennapokból. \nÖrömzene nyitott füleknek! \nA zenekar tagjai: Farkas Róbert (hegedű\, gitár)\, Ürmös Sándor (cimbalom)\, Ökrös Károly (harmonika)\, Farkas Richárd (nagybőgő)\, Kisvári Bence (dob) \nhttp://www.budapestbar.hu\nhttp://www.facebook.com/budapestbarband\nhttp://www.youtube.com/budapestbar\nhttps://instagram.com/budapest_bar\nhttps://www.tiktok.com/@budapestbar \nJegyárak: 11.900 Ft\, 12.900 Ft\nA jegyvásárlás helyfoglalás alapján történik.\nJegyek jegypénztárunkban kizárólag készpénzzel fizethetők! \nOnline jegyvásárlás: https://www.tixa.hu/budapest-bar-vac-20260123?fbclid=IwY2xjawNt8bhleHRuA2FlbQIxMABicmlkETF4Mmd0SlVvU1QxQ2t0ZXY3AR6hXRT6WwmyRQDjJmBdRt-FEj3JXRxxc9vQjUw46B1Rkow-558rLClHh39nUQ_aem_fxB8Vfk7wR6UGNgThrsArw
URL:https://visitvac.hu/event/budapest-bar/
LOCATION:Madách Imre Művelődési Központ\, Dr. Csányi László krt. 63.\, Vác\, 2600\, Magyarország
ATTACH;FMTTYPE=image/png:https://visitvac.hu/wp-content/uploads/2025/11/budapest_bar_0123.png
END:VEVENT
BEGIN:VEVENT
DTSTART;TZID=Europe/Budapest:20260124T100000
DTEND;TZID=Europe/Budapest:20260124T110000
DTSTAMP:20260425T015756
CREATED:20260107T101734Z
LAST-MODIFIED:20260107T101734Z
UID:10001390-1769248800-1769252400@visitvac.hu
SUMMARY:BOLHICIRMI TÉLI VARÁZS TURNÉ
DESCRIPTION:BOLHICIRMI TÉLI VARÁZS TURNÉ 2026!\nbolhicirmi30 akció MINDEN JEGYRE! \nAutomatikusan levonásra kerül a jegyárból 4000 Ft helyett most csak 2800 Ft /db \n1 éves korig ingyenes \, 1 éves kortól egységesen belépő váltása kötelező! \nMűsor után ajándéktárgyak a helyszínen kaphatók! \nAjánlott korosztály: 2–8 év \nElőadás hossza: kb. 45 perc \nJegyek: elővételben kedvezményesen online! \nInformáció: 06 70 600 2294 \n„Ahol Bolhicirmi táncol\, ott a gyerekmosoly garantált!” \nHa szeretnél egy szívmelengető\, vidám téli családi programot\, ne maradj le – a jegyek gyorsan fogynak! \nJegyek online kaphatók! https://bolhicirmi.funcode.hu/events/143761
URL:https://visitvac.hu/event/bolhicirmi-teli-varazs-turne/
LOCATION:Madách Imre Művelődési Központ\, Dr. Csányi László krt. 63.\, Vác\, 2600\, Magyarország
ATTACH;FMTTYPE=image/png:https://visitvac.hu/wp-content/uploads/2026/01/Bolhicirmi_0124.png
END:VEVENT
BEGIN:VEVENT
DTSTART;TZID=Europe/Budapest:20260124T160000
DTEND;TZID=Europe/Budapest:20260124T170000
DTSTAMP:20260425T015756
CREATED:20251128T113438Z
LAST-MODIFIED:20251128T113438Z
UID:10001358-1769270400-1769274000@visitvac.hu
SUMMARY:TAZE TSE félévi gála – Harmadik előadás
DESCRIPTION:A TAZE TáncSport Egyesület\nidén három egyedi és különleges gálaműsorral készül\, ahol táncosaink egy igazi színes táncforgataggal kápráztatják el a közönséget! \nA színpadon megjelenik minden\, amit a tanáraink ebben a félévben megalkottak táncosainkkal:\nVersenytánc\nTársastánc\nHip hop\nSzínpadi táncok\nOvis tánc\nModern tánc\nSzenior táncbemutatók\nHigh Heels \nA gála különlegessége\, hogy minden korosztály képviselteti magát — a legkisebb ovisoktól a rutinos szeniorokig\, a kezdő táncosoktól a versenyzőkig. \nHárom előadás\, három élmény!\nMindhárom műsorban más-más csoportok lépnek színpadra\, így minden előadás egyedi és megismételhetetlen!\nFelkészítő tanárok:\nBerki Haddad Sabrina\,\nBordás Györgyi\nBődi Dénes\,\nKrecsik Enikő\,\nMarkovics Emese\,\nMiskolczi Nóri\,\nPap Nóri Lili\,\nPrehoda Jedlicska Inez\,\nPrókai Ági\,\nSoós Klára. \nA belépőjegy ára: 4.000 Ft/alkalom \nJegyek kaphatók jegypénztárunkban\, melyek kizárólag készpénzzel fizethetők\,\nvalamint online https://www.jegy.hu/program/taze-tse-felevi-galamusor-iii-eloadas-185319/1366927
URL:https://visitvac.hu/event/taze-tse-felevi-gala-harmadik-eloadas/
LOCATION:Madách Imre Művelődési Központ\, Dr. Csányi László krt. 63.\, Vác\, 2600\, Magyarország
ATTACH;FMTTYPE=image/png:https://visitvac.hu/wp-content/uploads/2025/11/taze_harmadik_eloadas.png
END:VEVENT
BEGIN:VEVENT
DTSTART;TZID=Europe/Budapest:20260124T190000
DTEND;TZID=Europe/Budapest:20260124T203000
DTSTAMP:20260425T015756
CREATED:20260107T102446Z
LAST-MODIFIED:20260107T102446Z
UID:10001391-1769281200-1769286600@visitvac.hu
SUMMARY:Lel-Tár klub: Vendég: Reni és Boka
DESCRIPTION:Klubest\nJanuári klubvendégeink:\nRENI & BOKA \nIszlai Renáta – ének\, klarinét\nSzász Márk Boka – ének\, gitár \nHoldfényes erdők\, Napfényes folyópartok – ez Reni & Boka duója. A gitár szőnyeget reptet\, a klarinét völgybe száll\, énekük pedig két madár.\n„Van egy névtelen forrás a Börzsönyben. Körülötte párban nőnek a fák\, és egy lógó régi fémcsupor jelzi az arrajáróknak\, iható.\nIde járunk a dalainkért. Vizektől és fáktól tanulunk.\nAz a közös bennünk\, hogy tudunk hallgatni. És szeretjük a körbeforgó\, egyszerű történeteket. A dalaink is történetek. Játékok. Kicsi és nagy terek hangulatai. Tükrök emberekről. Hogy milyen szépek\, ha hagyják maguknak. Belvilági megállók a forrásnál.\nSzeretnénk sok-sok embert megállítani. Utakat mutatni belsőbb\, csendesebb terekbe. Holdfényes erdőkbe\, napfényes folyópartokra.”\nIszlai Reni és Szász Márk Boka duója 2022-ben alakult a Dunakanyarban. Renit a klasszikus\, kortárs és kísérleti zene\, Bokát Afrika\, Brazília és Kuba zenéi inspirálták\, közös világuk pedig a többszólamú ének\, a hangszeres improvizáció és az absztrakt történetmesélés lett. \nReni a Zeneakadémián végzett klarinét szakon. Háromszoros Communitas és Balassi ösztöndíjas. A Csendzengés\, Babadala és Dallangoló interaktív zenés foglalkozások megalkotója. Tagja az újrahasznosított hangszereken játszó Bélaműhelynek. Csibi Borókával közösen a Születésed története című\, háborítatlan születésről szóló könyv szerzője. \nBoka 13 éven át volt világutazó és mindenhol zenét tanult. Élt Brazíliában\, énekelt színpadon Bobby McFerrinnel\, jelent meg közös dala Palya Beával és Szalóki Ágival. A díjnyertes Szókimondóka fejlesztőjátékhoz 7 x 20 perc zenét és több tucat dalt szerzett. Rendszeresen tart improvizatív énekköröket felnőtteknek és iskolás gyerekeknek. \nJátszottak már: Fishing on Orfű\, Everness Fesztivál\, HUG Fesztivál\, A38\, Erdélyi Nemzetközi Könyvvásár\, Stuttgarti Magyar Intézet. \nBelépés ingyenes\, felajánlást elfogadunk! \nHelyszín: Kamaraterem
URL:https://visitvac.hu/event/lel-tar-klub-vendeg-reni-es-boka/
LOCATION:Madách Imre Művelődési Központ\, Dr. Csányi László krt. 63.\, Vác\, 2600\, Magyarország
ATTACH;FMTTYPE=image/png:https://visitvac.hu/wp-content/uploads/2026/01/Lel-tar_klub_0124.png
END:VEVENT
BEGIN:VEVENT
DTSTART;TZID=Europe/Budapest:20260124T190000
DTEND;TZID=Europe/Budapest:20260124T210000
DTSTAMP:20260425T015756
CREATED:20260107T091431Z
LAST-MODIFIED:20260107T091431Z
UID:10001381-1769281200-1769288400@visitvac.hu
SUMMARY:Theresa Rebeck: Szuvidált szenvedélyek // Orlai Produkció
DESCRIPTION:Konyhashow // Szereplők: Király Attila\, Pataki Ferenc\, Mészáros Martin\, Barta Ágnes. (vacidunakanyarszinhaz.jegy.hu-s előadás // jegyek online // Tourinform Irodákban // Előadás előtt 1 órával a színházban) \n  \nJönnek a sznob fésűkagylójukkal\, egyenek inkább császárhúst! \nMi a gasztronómia: művészet vagy üzlet? Mi a fontosabb: a tökéletesség\, vagy a nagy forgalom? Egy zseniális séf és egy lelkes befektető barátsága a tét\, amikor kis exkluzív éttermüket hirtelen szárnyára kapja a hírnév. Sorok állnak az asztalokért\, mindenki be akar jutni – de mindennek van határa. Ez a határ pedig nem más\, mint a szakács. Aztán hiába az ifjú marketinges\, a segítőkész felszolgáló\, gyülekeznek a viharfelhők. Kisüt-e újra a nap\, és lesz-e fésűkagyló? \nA darab sok humorral vezeti be a kíváncsiskodót a konyhaművészet és az emberi játszmák kulisszái mögé. \nKülön köszönet: Mizsei János \nA színdarabot Magyarországon a THEATRUM MUNDI Színházi és Irodalmi Ügynökség képviseli \nSzereplők: Király Attila (Harry)\, Pataki Ferenc (Mike)\, Mészáros Martin (Rodney)\, Barta Ágnes (Emily) \nStáb:\nÍró: Theresa Rebeck\nFordító: Zöldi Gergely\nDíszlettervező: Zöldy Z Gergely\nZeneszerző: Furák Péter\nPlakáttervező: Csáfordi László\nA rendező munkatársa: Dicső Dorka\nRendező: Paczolay Béla\nProducer: Orlai Tibor \nElőadás hossza: 1 óra 45 perc szünet nélkül \nJegyárak két zónásak:\n7500\,- és 6900\,-
URL:https://visitvac.hu/event/theresa-rebeck-szuvidalt-szenvedelyek-orlai-produkcio/
LOCATION:Váci Dunakanyar Színház\, Dr. Csányi László krt. 58.\, Vác\, 2600\, Magyarország
ATTACH;FMTTYPE=image/jpeg:https://visitvac.hu/wp-content/uploads/2026/01/Szuvidalt_0124.jpg
END:VEVENT
BEGIN:VEVENT
DTSTART;TZID=Europe/Budapest:20260125T160000
DTEND;TZID=Europe/Budapest:20260125T173000
DTSTAMP:20260425T015756
CREATED:20251128T113652Z
LAST-MODIFIED:20251128T113652Z
UID:10001359-1769356800-1769362200@visitvac.hu
SUMMARY:Rajkó-Talentum Félévi Műsor
DESCRIPTION:Alapfokú Művészeti Iskola Félévi Gálaműsor\nSzeretettel várunk minden kedves érdeklődőt 2025. január 25-én\, 16 órától a Madách Imre Művelődési Központ színháztermében\, Vácon a Rajkó–Talentum Alapfokú Művészeti Iskola félévi műsorára! \nEzen az előadáson Sződliget\, Kismaros és Vác lelkes tanítványai mutatják be az elmúlt félévben tanult koreográfiáikat\, melyeket tánctanáraik nagy szeretettel és szakértelemmel készítettek fel számukra. \nA műsorban helyet kapnak: \nLatin-amerikai és standard táncok\, \nvalamint színpadi táncok is – garantáltan színes és élményekkel teli estére számíthat a kedves közönség! \nA tanítványokat felkészítették: Szabó Csilla és Szombath Gergő \nBelépőjegy: 3.500 Ft \nGyertek\, és töltsünk együtt egy varázslatos estét\, ahol a tánc és a zene összeköti a közösséget! \nJegyek hamarosan jegypénztárunkban vásárolhatók\, csak készpénzben fizethetők!
URL:https://visitvac.hu/event/rajko-talentum-felevi-musor/
LOCATION:Madách Imre Művelődési Központ\, Dr. Csányi László krt. 63.\, Vác\, 2600\, Magyarország
ATTACH;FMTTYPE=image/png:https://visitvac.hu/wp-content/uploads/2025/11/rajko_talentum_0125.png
END:VEVENT
END:VCALENDAR