BEGIN:VCALENDAR
VERSION:2.0
PRODID:-//Visitvac - ECPv6.15.20//NONSGML v1.0//EN
CALSCALE:GREGORIAN
METHOD:PUBLISH
X-WR-CALNAME:Visitvac
X-ORIGINAL-URL:https://visitvac.hu
X-WR-CALDESC:Események Visitvac
REFRESH-INTERVAL;VALUE=DURATION:PT1H
X-Robots-Tag:noindex
X-PUBLISHED-TTL:PT1H
BEGIN:VTIMEZONE
TZID:Europe/Budapest
BEGIN:DAYLIGHT
TZOFFSETFROM:+0100
TZOFFSETTO:+0200
TZNAME:CEST
DTSTART:20250330T010000
END:DAYLIGHT
BEGIN:STANDARD
TZOFFSETFROM:+0200
TZOFFSETTO:+0100
TZNAME:CET
DTSTART:20251026T010000
END:STANDARD
BEGIN:DAYLIGHT
TZOFFSETFROM:+0100
TZOFFSETTO:+0200
TZNAME:CEST
DTSTART:20260329T010000
END:DAYLIGHT
BEGIN:STANDARD
TZOFFSETFROM:+0200
TZOFFSETTO:+0100
TZNAME:CET
DTSTART:20261025T010000
END:STANDARD
BEGIN:DAYLIGHT
TZOFFSETFROM:+0100
TZOFFSETTO:+0200
TZNAME:CEST
DTSTART:20270328T010000
END:DAYLIGHT
BEGIN:STANDARD
TZOFFSETFROM:+0200
TZOFFSETTO:+0100
TZNAME:CET
DTSTART:20271031T010000
END:STANDARD
END:VTIMEZONE
BEGIN:VEVENT
DTSTART;TZID=Europe/Budapest:20260116T180000
DTEND;TZID=Europe/Budapest:20260215T190000
DTSTAMP:20260425T002502
CREATED:20260107T100259Z
LAST-MODIFIED:20260107T100259Z
UID:10001387-1768586400-1771182000@visitvac.hu
SUMMARY:DUKE kiállítás
DESCRIPTION:Dunakanyar Képzőművészeti Egyesület kiállítása\nKiállítást megnyitja: Moór Györgyi \nMegtekinthető 2026. február 15-ig. \nHelyszín: Kávézó Galéria
URL:https://visitvac.hu/event/duke-kiallitas/
LOCATION:Madách Imre Művelődési Központ\, Dr. Csányi László krt. 63.\, Vác\, 2600\, Magyarország
ATTACH;FMTTYPE=image/png:https://visitvac.hu/wp-content/uploads/2026/01/DUKE_0116.png
END:VEVENT
BEGIN:VEVENT
DTSTART;TZID=Europe/Budapest:20260122T170000
DTEND;TZID=Europe/Budapest:20260301T180000
DTSTAMP:20260425T002502
CREATED:20260114T151544Z
LAST-MODIFIED:20260114T151707Z
UID:10001422-1769101200-1772388000@visitvac.hu
SUMMARY:50 év 50 remek mű
DESCRIPTION:Kiállítás\naz 50 éves Madách Imre Művelődési Központ tiszteletére \nA váci Madách Imre Művelődési Központ 1976-ban történt átadása óta a Dunakanyar egyik legfontosabb\, leglátogatottabb kulturális és közművelődési intézménye. 50 éves fennállásunk évfordulóját több rendezvénnyel\, konferenciával és kiállítással kívánjuk megünnepelni 2026-ban. Ezek közül az első kiemelkedő esemény a Magyar Kultúra Napjára időzített „50 ÉV 50 REMEK MŰ” című kiállításunk az Emeleti Galériában\, mely a kultúra-napi gálaműsor előtt nyílik meg. Az ötven kimagasló képző- illetve fotóművészeti alkotásból álló anyag több részből áll össze: egyrészt a Művelődési Központ (illetve a fenntartó: Vác Város Önkormányzata)\, valamint Papp László gyűjteményében található műalkotásokból\, másrészt a jelenleg is aktív művészektől beválogatott alkotásokból. A kiállításon olyan neves alkotóktól találhatók művek – a teljesség igénye nélkül -\, mint Bartha László\, Gerzson Pál\, Hincz Gyula\, Kokas Ignác\, Mácsai István\,  Nagy B. István\, Szabó Vladimir festőművészek\, Blaskó János szobrászművész\, Raszler Károly és Sáros András Miklós grafikusművészek\, Kocsis Iván fotóművész… A jelenleg is aktív művészek közül is olyan jelentős alkotók művei lesznek megtekinthetők\, mint Adorján Attila\, Kis Sándor Lajos DLA\, Németh Árpád\, Németh Géza\, Orvos András festőművészek\, Molnár László József grafikusművész\, Fekete István és Molnár Ferenc fotóművészek. \nMegnyitó ünnepség: 2026.01.22. 17 óra \nKöszöntőt mond: Matkovich Ilona Vác város polgármestere\nKiállítást megnyitja: Feledy Balázs művészeti író \nHelyszín: Emeleti Galéria
URL:https://visitvac.hu/event/50-ev-50-remek-mu/
LOCATION:Madách Imre Művelődési Központ\, Dr. Csányi László krt. 63.\, Vác\, 2600\, Magyarország
ATTACH;FMTTYPE=image/png:https://visitvac.hu/wp-content/uploads/2026/01/50-ev-50-remek-mu_0122.png
END:VEVENT
BEGIN:VEVENT
DTSTART;TZID=Europe/Budapest:20260127T080000
DTEND;TZID=Europe/Budapest:20260316T150000
DTSTAMP:20260425T002502
CREATED:20260206T145023Z
LAST-MODIFIED:20260206T145124Z
UID:10001428-1769500800-1773673200@visitvac.hu
SUMMARY:Nagy B. István Képzőművész Stúdió kiállítása
DESCRIPTION:Kiállítás\nFalusi Bence\nHársfalvi Gabriella\nKovács Mária\nKrisztbaum Mónika\nLövész Kornélia\nMucsi Erika\nSzabó Alexandra \nStúdió vezető: Koltai – Dietrich Gábor festőművész \nHelyszín: Ablak galéria
URL:https://visitvac.hu/event/nagy-b-istvan-kepzomuvesz-studio-kiallitasa/
LOCATION:Madách Imre Művelődési Központ\, Dr. Csányi László krt. 63.\, Vác\, 2600\, Magyarország
ATTACH;FMTTYPE=image/png:https://visitvac.hu/wp-content/uploads/2026/02/Nagy-B_Istvan_0127.png
END:VEVENT
BEGIN:VEVENT
DTSTART;TZID=Europe/Budapest:20260128T183000
DTEND;TZID=Europe/Budapest:20260128T203000
DTSTAMP:20260425T002502
CREATED:20260107T092321Z
LAST-MODIFIED:20260107T092321Z
UID:10001382-1769625000-1769632200@visitvac.hu
SUMMARY:A betegségek lelki eredete // Dr. Csomai Zita
DESCRIPTION:Előadja: Dr. Csomai Rita (jegyek csak online) \n  \nSokan tapasztaljuk\, hogy a testünk jelez\, de a kivizsgálások nem hoznak megnyugtató eredményt. Máskor egy betegség újra és újra visszatér. De vajon csak fizikai oka van? \nDr. Csomai Zita orvos-természetgyógyász előadásán egy különleges szemléletmóddal találkozhatsz: a betegségek lelki\, érzelmi és energetikai hátterét vizsgálja\, összefüggésbe hozva őket traumákkal\, elfojtott érzelmekkel és a test belső egyensúlyának felborulásával.\nA téma Zita nagysikerű könyvéből is ismert\, amelyben részletesen ír:– a különféle gyökér okokról és traumákról\,– az érzelmek és szervek közti kapcsolatról\,– a stressz és a betegségek közti mechanizmusról (HPA-tengely)\,– valamint azokról a természetes módszerekről és gyakorlatokról\, amelyek segítenek a testi-lelki egyensúly helyreállításában.\nMegértheted:– miért mindig ugyanott vagy ugyanúgy betegedsz meg\,– hogyan tud hatni egy múltbeli esemény a jelenlegi tüneteidre\,– milyen belső változások indíthatják el a valódi gyógyulást.\nEz az előadás nemcsak tudást ad\, hanem felismeréseket is – lehet\, hogy olyan válaszokat kapsz\, amiket eddig sehol sem.\n\nJegyinformáció:Könyvkupon – Több\, mint belépő\nA promóciós csomagunk tartalmazza a könyv és belépő árát egyaránt. Kedvezményes belépést biztosít rendezvényeinkre.\nMiről szól a könyv?\nA Tükör és Térkép – Önismeret és iránymutatás c. könyv a KULT TÚRA rendezvények esszenciája: gondolatok\, történetek és felismerések\, amelyek túlmutatnak egyetlen estén. Egy könyv\, ami hazaviszi az élményt.\n– Egy helyen gyűjti össze a legérdekesebb gondolatokat és történeteket\, amelyek rendezvényeinken elhangzanak.– Útmutató és inspiráció\, amely segít jobban megérteni önmagad és a világot.– Időtálló érték\, amelyhez bármikor vissza nyúlhatsz – amikor új lendületre\, válaszokra vagy megerősítésre van szükséged.\nFontos tudnivalók a promóciós csomagról\n– Kedvezőbb áron biztosítja a belépést a rendezvényre.– A promóciós csomag eleme a könyvkupon. A könyvkupon részét nem kötelező beváltani.– A könyv átvehető az előadás kezdete előtt 20 perccel\, a kupon felmutatásával.– Az előadás után is átvehető a kupon felmutatásával.\nJegyek kaphatók: csak online \nA műsorváltozás jogát fenntartjuk! \n  \n\nJegyár: 5990 Ft
URL:https://visitvac.hu/event/a-betegsegek-lelki-eredete-dr-csomai-zita/
LOCATION:Váci Dunakanyar Színház\, Dr. Csányi László krt. 58.\, Vác\, 2600\, Magyarország
ATTACH;FMTTYPE=image/webp:https://visitvac.hu/wp-content/uploads/2026/01/a_betegsegek_lelki_eredete_0128.webp
END:VEVENT
BEGIN:VEVENT
DTSTART;TZID=Europe/Budapest:20260129T190000
DTEND;TZID=Europe/Budapest:20260129T210000
DTSTAMP:20260425T002502
CREATED:20251128T113945Z
LAST-MODIFIED:20251128T113945Z
UID:10001360-1769713200-1769720400@visitvac.hu
SUMMARY:Morpheus Színműhely: Az Egérfogó
DESCRIPTION:Előadás\nMeghitt szállást keres a nyüzsgő London közelében?\nÉlvezze a dús erdőségek romantikáját\, ropogó kandallótűz mellett a Monkswell Panzióban!\nMég hóvihar esetén is. Még ha a közeli kisvárosban gyilkosság történt is.\nNe érezze magát rosszul\, ha a lakótársai egytől egyig gyanússá válnak.\nFoglaljon szobát még ma! Agatha Christie 1952-es könnyed és szórakoztató krimije a bemutatása óta töretlen sikernek örvend.\nA fordulatokban gazdag történetben a sziporkázó párbeszédek és a gazdag karakterábrázolások sokrétű élményt nyújtanak színésznek és nézőnek egyaránt. A Morpheus Színműhely különleges és humoros feldolgozásban állítja színpadra ezt a klasszikus előadást\, melyre halálos izgalommal várunk minden krimirajongó\, szórakozni vágyó nézőt! Pszt! A végkifejlet maradjon a közös titkunk! \nSzereposztás:\nMollie Ralston – Nagy Fruzsina Lilla \nGiles Ralston  – Komenda Roland \nChristopher Wren – Zsámbok Zalán/ Rozsáyi Márk \nMrs. Boyle – Töreky Erzsébet / Bercsényi Ágnes \nMetcalf őrnagy – Petus Gábor/ Kövi László \nMiss Casewell – Palásthy Petra \nMr. Paravicini – Vellai Tamás \nTrotter rendőr őrmester – Boros Ádám \nJegyár: 3900 Ft\, 4900 Ft\, 5900 Ft \nJegyek jegypénztárunkban készpénzzel fizethetők!\nJegyek online kaphatók: https://www.tixa.hu/agatha-christie-az-egerfogo-20260129
URL:https://visitvac.hu/event/morpheus-szinmuhely-az-egerfogo/
LOCATION:Madách Imre Művelődési Központ\, Dr. Csányi László krt. 63.\, Vác\, 2600\, Magyarország
ATTACH;FMTTYPE=image/png:https://visitvac.hu/wp-content/uploads/2025/11/az_egerfogo_0129.png
END:VEVENT
BEGIN:VEVENT
DTSTART;TZID=Europe/Budapest:20260130T150000
DTEND;TZID=Europe/Budapest:20260228T160000
DTSTAMP:20260425T002502
CREATED:20260206T145355Z
LAST-MODIFIED:20260206T145355Z
UID:10001429-1769785200-1772294400@visitvac.hu
SUMMARY:Ukrajna egykor és most
DESCRIPTION:Fotó és dokumentum kiállítás\nA Váci Ukrán Nemzetiségi Önkormányzat szervezésében\nUkrajna Magyarországi Nagykövetségének közreműködésével \nMegnyitó ünnepség: 15.00 óra \nKiállítást megnyitja: Sándor Fegyir professzor\nUkrajna Magyarországi Rendkívüli és Meghatalmazott Nagykövete \nSzaxofonon közreműködik: Szcsur Alexander \nHelyszín: Átrium Galéria
URL:https://visitvac.hu/event/ukrajna-egykor-es-most/
LOCATION:Madách Imre Művelődési Központ\, Dr. Csányi László krt. 63.\, Vác\, 2600\, Magyarország
ATTACH;FMTTYPE=image/png:https://visitvac.hu/wp-content/uploads/2026/02/Ukrajna-egykor-es-most_0130.png
END:VEVENT
BEGIN:VEVENT
DTSTART;TZID=Europe/Budapest:20260130T190000
DTEND;TZID=Europe/Budapest:20260130T210000
DTSTAMP:20260425T002502
CREATED:20260107T092605Z
LAST-MODIFIED:20260107T092605Z
UID:10001383-1769799600-1769806800@visitvac.hu
SUMMARY:Kormos Anett - A nőknek nincs humora
DESCRIPTION:Előadja: Kormos Anett (jegyek csak online) \n  \n“A nő relatív lény\, nem önmagához képest határozzák meg\, hanem a férfihoz képest. A nő az\, amivé a férfi ítélete teszi.” – a gondolat 1949-ben került feljegyzésre\, de nyilvánvalóan ősidőkből ered\, és ma is szokás még e karóhoz kötni az ebet. Épp ezért\, ha az az ítélet születik\, hogy nekünk nőknek nincs humorunk\, akkor nincs. És kész. Értelmi képességeinket többnyire a hajszínük tartja mélyen a férfiaké alatt (meg az\, hogy képtelenek vagyunk felfogni a les szabályt)\, menetrendszerűen nyafogunk egy prosztatavizsgálat gyötrelmei mellett eltörpülő szülés miatt\, munkának hazudjuk a háztartásvezetést\, évekre megsértődünk\, ha felhívják figyelmünket az esetleges plusz kilóinkra\, alkalmatlanok vagyunk az autóvezetésre\, és hajlamosak vagyunk hisztizni az olyan kis apróságok miatt\, mint hogy kevesebbet keresünk vagy mondjuk kicsit letipitapiznak minket a metrón. Mert ha lenne humorunk…talán mindezek dacára elviselhető lenne az élet velünk…de hát nincs…  Na\, ezen fogunk együtt sírni…sírnunk szabad…úgy tudom. \nElőadásunkat 18 éven felüli nézőknek ajánljuk! \nJegyár: 5900 Ft
URL:https://visitvac.hu/event/kormos-anett-a-noknek-nincs-humora/
LOCATION:Váci Dunakanyar Színház\, Dr. Csányi László krt. 58.\, Vác\, 2600\, Magyarország
ATTACH;FMTTYPE=image/jpeg:https://visitvac.hu/wp-content/uploads/2026/01/Kormos_Anett_0130.jpg
END:VEVENT
BEGIN:VEVENT
DTSTART;TZID=Europe/Budapest:20260130T200000
DTEND;TZID=Europe/Budapest:20260130T220000
DTSTAMP:20260425T002502
CREATED:20251128T114304Z
LAST-MODIFIED:20251128T114304Z
UID:10001361-1769803200-1769810400@visitvac.hu
SUMMARY:Váci Jazz Tükör – Vörös László Red Stones
DESCRIPTION:Jazz koncert\nA Red Stones-t Vörös László zongorista\, zeneszerző hívta életre 2018-ban. Kompozícióit a\nmodern modal jazz\, a post-bop\, fusion jazz jellemzi valamint a folyamatos útkeresés\, újító\nszándék és az ebből fakadó frissesség. De a merész motívumok és meglepő harmóniai\nfordulatok mellé magas fokú zeneiség és az ebből fakadó befogadhatóság társul.\nA quartet megszólalásában kuriózumnak számít a hazai jazz világban. Intenzív és\nkarakteres zenei világát a lendület\, a dinamizmus és a kreativitás jellemzi\, melyhez egyaránt\nhozzájárulnak Vörös László izgalmas kompozíciói\, Szaniszló Richárd virtuóz vibrafon-szólói\,\nBögöthy Ádám melodikus bőgő-játéka és Hidász Tamás összetett\, színes ritmikái. \nHelyszín: Jeszenszky terem \nA belépőjegy ára: 2500 Ft \nJegyek hamarosan kaphatók!
URL:https://visitvac.hu/event/vaci-jazz-tukor-voros-laszlo-red-stones/
LOCATION:Madách Imre Művelődési Központ\, Dr. Csányi László krt. 63.\, Vác\, 2600\, Magyarország
ATTACH;FMTTYPE=image/png:https://visitvac.hu/wp-content/uploads/2025/11/vaci_jazz_tukor_0130.png
END:VEVENT
BEGIN:VEVENT
DTSTART;TZID=Europe/Budapest:20260131T190000
DTEND;TZID=Europe/Budapest:20260131T210000
DTSTAMP:20260425T002502
CREATED:20260107T102905Z
LAST-MODIFIED:20260107T102905Z
UID:10001392-1769886000-1769893200@visitvac.hu
SUMMARY:ELMARAD! - Disco Dívák
DESCRIPTION:Figyelem\, jegyvisszaváltás!\nKedves Nézőink! \nA január 31-re meghirdetett Disco Dívák előadás elmarad. \nFelhívjuk figyelmüket\, hogy a megvásárolt jegyek legkésőbb december 21-ig válthatók vissza a vásárlás helyszínén! \nKérjük\, ne hagyják az utolsó pillanatra! \nKöszönjük megértésüket és együttműködésüket!
URL:https://visitvac.hu/event/elmarad-disco-divak/
LOCATION:Madách Imre Művelődési Központ\, Dr. Csányi László krt. 63.\, Vác\, 2600\, Magyarország
ATTACH;FMTTYPE=image/png:https://visitvac.hu/wp-content/uploads/2026/01/Disco_divak_0131.png
END:VEVENT
BEGIN:VEVENT
DTSTART;TZID=Europe/Budapest:20260131T190000
DTEND;TZID=Europe/Budapest:20260131T220000
DTSTAMP:20260425T002502
CREATED:20251128T114658Z
LAST-MODIFIED:20251128T114658Z
UID:10001362-1769886000-1769896800@visitvac.hu
SUMMARY:FRANTIC – RAVENSTONE
DESCRIPTION:Koncert\nA balassagyarmati fiatal srácokból álló\, heavy / thrash metál vonalon mozgó FRANTIC együttes lendületes műsorában\, magyar és külföldi metál feldolgozások és a 2025-ös év végén megjelenő első\, „Tépd szét a lelkem!” címre hallgató nagylemezük dalai is szerepelnek! \nA salgótarjáni RAVENSTONE zenekar jelenleg az egyetlen aktívan koncertező magyarországi Judas Priest tribute zenekar. \nHelyszín: Jeszenszky terem \nA belépőjegy ára: 2000 Ft \nJegyek hamarosan kaphatók!
URL:https://visitvac.hu/event/frantic-ravenstone/
LOCATION:Madách Imre Művelődési Központ\, Dr. Csányi László krt. 63.\, Vác\, 2600\, Magyarország
ATTACH;FMTTYPE=image/png:https://visitvac.hu/wp-content/uploads/2025/11/Frantic_ravenstone_0131.png
END:VEVENT
BEGIN:VEVENT
DTSTART;TZID=Europe/Budapest:20260201T110000
DTEND;TZID=Europe/Budapest:20260201T120000
DTSTAMP:20260425T002502
CREATED:20251128T114918Z
LAST-MODIFIED:20251128T114918Z
UID:10001363-1769943600-1769947200@visitvac.hu
SUMMARY:Legyen hó
DESCRIPTION:Mese-koncert\nVarázslatos zenei utazás a Disney mesék világában! A koncerten felcsendülnek a legismertebb dalok a Jégvarázs I-II.\, az Aranyhaj\, a Szépség és a Szörnyeteg\, valamint más kedvelt mesék világából. \nIsmerős dallamok\, csillogó jelmezek és elbűvölő előadás várja a kicsiket és nagyokat egyaránt.\nAjánlott életkor: 4 éves kortól\n1 éves kor felett mindenkinek jegy szükséges\nAz előadás hossza kb. 1 óra – pont ideális a legkisebbeknek is.\nA koncert végén lehetőség lesz közös fotózkodásra a szereplőkkel\, hogy a varázslat örökre megmaradjon! \nJegyárak: 5350 Ft\, 6950 Ft \nJegyek kizárólag online kaphatók:\nhttps://savoy.funcode.hu/events/136680?fbclid=IwY2xjawN__IJleHRuA2FlbQIxMQBicmlkETBTaDJWQkZlUzFKUVluQ3VYc3J0YwZhcHBfaWQQMjIyMDM5MTc4ODIwMDg5MgABHv_R-aiqee8IsrY4yzyJ_ISO7Cm0JSdh6Ogj_rrq_3TYSLP0e8FQpuYQ1LAK_aem_6CR5-jII2X01ZQyj4YugSQ
URL:https://visitvac.hu/event/legyen-ho/
LOCATION:Madách Imre Művelődési Központ\, Dr. Csányi László krt. 63.\, Vác\, 2600\, Magyarország
ATTACH;FMTTYPE=image/png:https://visitvac.hu/wp-content/uploads/2025/11/legyen_ho_0201.png
END:VEVENT
END:VCALENDAR