BEGIN:VCALENDAR
VERSION:2.0
PRODID:-//Visitvac - ECPv6.15.20//NONSGML v1.0//EN
CALSCALE:GREGORIAN
METHOD:PUBLISH
X-WR-CALNAME:Visitvac
X-ORIGINAL-URL:https://visitvac.hu
X-WR-CALDESC:Események Visitvac
REFRESH-INTERVAL;VALUE=DURATION:PT1H
X-Robots-Tag:noindex
X-PUBLISHED-TTL:PT1H
BEGIN:VTIMEZONE
TZID:Europe/Budapest
BEGIN:DAYLIGHT
TZOFFSETFROM:+0100
TZOFFSETTO:+0200
TZNAME:CEST
DTSTART:20250330T010000
END:DAYLIGHT
BEGIN:STANDARD
TZOFFSETFROM:+0200
TZOFFSETTO:+0100
TZNAME:CET
DTSTART:20251026T010000
END:STANDARD
BEGIN:DAYLIGHT
TZOFFSETFROM:+0100
TZOFFSETTO:+0200
TZNAME:CEST
DTSTART:20260329T010000
END:DAYLIGHT
BEGIN:STANDARD
TZOFFSETFROM:+0200
TZOFFSETTO:+0100
TZNAME:CET
DTSTART:20261025T010000
END:STANDARD
BEGIN:DAYLIGHT
TZOFFSETFROM:+0100
TZOFFSETTO:+0200
TZNAME:CEST
DTSTART:20270328T010000
END:DAYLIGHT
BEGIN:STANDARD
TZOFFSETFROM:+0200
TZOFFSETTO:+0100
TZNAME:CET
DTSTART:20271031T010000
END:STANDARD
END:VTIMEZONE
BEGIN:VEVENT
DTSTART;TZID=Europe/Budapest:20260122T170000
DTEND;TZID=Europe/Budapest:20260301T180000
DTSTAMP:20260424T194543
CREATED:20260114T151544Z
LAST-MODIFIED:20260114T151707Z
UID:10001422-1769101200-1772388000@visitvac.hu
SUMMARY:50 év 50 remek mű
DESCRIPTION:Kiállítás\naz 50 éves Madách Imre Művelődési Központ tiszteletére \nA váci Madách Imre Művelődési Központ 1976-ban történt átadása óta a Dunakanyar egyik legfontosabb\, leglátogatottabb kulturális és közművelődési intézménye. 50 éves fennállásunk évfordulóját több rendezvénnyel\, konferenciával és kiállítással kívánjuk megünnepelni 2026-ban. Ezek közül az első kiemelkedő esemény a Magyar Kultúra Napjára időzített „50 ÉV 50 REMEK MŰ” című kiállításunk az Emeleti Galériában\, mely a kultúra-napi gálaműsor előtt nyílik meg. Az ötven kimagasló képző- illetve fotóművészeti alkotásból álló anyag több részből áll össze: egyrészt a Művelődési Központ (illetve a fenntartó: Vác Város Önkormányzata)\, valamint Papp László gyűjteményében található műalkotásokból\, másrészt a jelenleg is aktív művészektől beválogatott alkotásokból. A kiállításon olyan neves alkotóktól találhatók művek – a teljesség igénye nélkül -\, mint Bartha László\, Gerzson Pál\, Hincz Gyula\, Kokas Ignác\, Mácsai István\,  Nagy B. István\, Szabó Vladimir festőművészek\, Blaskó János szobrászművész\, Raszler Károly és Sáros András Miklós grafikusművészek\, Kocsis Iván fotóművész… A jelenleg is aktív művészek közül is olyan jelentős alkotók művei lesznek megtekinthetők\, mint Adorján Attila\, Kis Sándor Lajos DLA\, Németh Árpád\, Németh Géza\, Orvos András festőművészek\, Molnár László József grafikusművész\, Fekete István és Molnár Ferenc fotóművészek. \nMegnyitó ünnepség: 2026.01.22. 17 óra \nKöszöntőt mond: Matkovich Ilona Vác város polgármestere\nKiállítást megnyitja: Feledy Balázs művészeti író \nHelyszín: Emeleti Galéria
URL:https://visitvac.hu/event/50-ev-50-remek-mu/
LOCATION:Madách Imre Művelődési Központ\, Dr. Csányi László krt. 63.\, Vác\, 2600\, Magyarország
ATTACH;FMTTYPE=image/png:https://visitvac.hu/wp-content/uploads/2026/01/50-ev-50-remek-mu_0122.png
END:VEVENT
BEGIN:VEVENT
DTSTART;TZID=Europe/Budapest:20260127T080000
DTEND;TZID=Europe/Budapest:20260316T150000
DTSTAMP:20260424T194543
CREATED:20260206T145023Z
LAST-MODIFIED:20260206T145124Z
UID:10001428-1769500800-1773673200@visitvac.hu
SUMMARY:Nagy B. István Képzőművész Stúdió kiállítása
DESCRIPTION:Kiállítás\nFalusi Bence\nHársfalvi Gabriella\nKovács Mária\nKrisztbaum Mónika\nLövész Kornélia\nMucsi Erika\nSzabó Alexandra \nStúdió vezető: Koltai – Dietrich Gábor festőművész \nHelyszín: Ablak galéria
URL:https://visitvac.hu/event/nagy-b-istvan-kepzomuvesz-studio-kiallitasa/
LOCATION:Madách Imre Művelődési Központ\, Dr. Csányi László krt. 63.\, Vác\, 2600\, Magyarország
ATTACH;FMTTYPE=image/png:https://visitvac.hu/wp-content/uploads/2026/02/Nagy-B_Istvan_0127.png
END:VEVENT
BEGIN:VEVENT
DTSTART;TZID=Europe/Budapest:20260130T150000
DTEND;TZID=Europe/Budapest:20260228T160000
DTSTAMP:20260424T194543
CREATED:20260206T145355Z
LAST-MODIFIED:20260206T145355Z
UID:10001429-1769785200-1772294400@visitvac.hu
SUMMARY:Ukrajna egykor és most
DESCRIPTION:Fotó és dokumentum kiállítás\nA Váci Ukrán Nemzetiségi Önkormányzat szervezésében\nUkrajna Magyarországi Nagykövetségének közreműködésével \nMegnyitó ünnepség: 15.00 óra \nKiállítást megnyitja: Sándor Fegyir professzor\nUkrajna Magyarországi Rendkívüli és Meghatalmazott Nagykövete \nSzaxofonon közreműködik: Szcsur Alexander \nHelyszín: Átrium Galéria
URL:https://visitvac.hu/event/ukrajna-egykor-es-most/
LOCATION:Madách Imre Művelődési Központ\, Dr. Csányi László krt. 63.\, Vác\, 2600\, Magyarország
ATTACH;FMTTYPE=image/png:https://visitvac.hu/wp-content/uploads/2026/02/Ukrajna-egykor-es-most_0130.png
END:VEVENT
BEGIN:VEVENT
DTSTART;TZID=Europe/Budapest:20260203T080000
DTEND;TZID=Europe/Budapest:20260308T160000
DTSTAMP:20260424T194543
CREATED:20260206T145633Z
LAST-MODIFIED:20260206T145633Z
UID:10001430-1770105600-1772985600@visitvac.hu
SUMMARY:Felhívás! – „Tavaszi szél vizet áraszt…”
DESCRIPTION:F e l h í v á s\nA Madách Imre Művelődési Központ a 2026. évi Váci Tavaszi Fesztivál\nkeretein belül tervezi megrendezni a „Tavaszi szél vizet áraszt…”\ncímű\, Vácott és vonzáskörzetében élő\, műkedvelő alkotók\nkiállítását. \nIntézményünk igyekszik rendszeresen bemutatni a\nkörnyékbeli alkotók munkáit\, nagy hangsúlyt helyezünk ezen\nértékek minél szélesebb körben való megismertetésére!\nA szakmai zsűri értékes díjak odaítéléséről\, esetleges önálló\negyéni kiállítás lehetőségéről is hozhat döntést. \nIdén\, csatlakozva a Tragor Ignác Múzeummal közösen szervezett\nVáci Akvarell Ünnep 2026-hoz\, kiemelt figyelmet szentelünk az akvarell technikával készült\nalkotásoknak\, melyeket külön kiállításon kívánunk bemutatni!\nA Váci Akvarell Ünnep zsűrije külön díjazásban részesíti a legjobb pályaműveket! \nA megnyitó időpontja: 2026. március 20. 18 óra.\nHelyszíne: a Madách Imre Művelődési Központ \nEmeleti Galériája \nMűvek beadása: március 1. és 8. között. \nEsetleges kérdéseikkel forduljanak a tárlat szervezőjéhez: \nKoltai-Dietrich Gábor (email: kdg@mimk.vac.hu \, tel: +36 30 377-3337)
URL:https://visitvac.hu/event/felhivas-tavaszi-szel-vizet-araszt/
LOCATION:Madách Imre Művelődési Központ\, Dr. Csányi László krt. 63.\, Vác\, 2600\, Magyarország
ATTACH;FMTTYPE=image/png:https://visitvac.hu/wp-content/uploads/2026/02/Tavaszi-szel_0203.png
END:VEVENT
BEGIN:VEVENT
DTSTART;TZID=Europe/Budapest:20260217T100000
DTEND;TZID=Europe/Budapest:20260217T110000
DTSTAMP:20260424T194543
CREATED:20251128T120331Z
LAST-MODIFIED:20251128T120331Z
UID:10001369-1771322400-1771326000@visitvac.hu
SUMMARY:Mazsola és Tádé
DESCRIPTION:Bábjáték\nBálint Ágnes meséi alapján \n60 éves múltra tekint vissza az egri bábjáték\, hivatásos társulatként pedig 40 éve működik a Harlekin Bábszínház\, mely most Vácra hozza el frissen bemutatott darabját. \nManófalvi Manó a Futrinka utca végén\, szinte már a mezőn talált magának lakhelyet egy tökházban. Nyugodtan éldegélt\, amíg meg nem jelent egy picike zöld malac\, akkora volt\, mint egy szem mazsola… Mazsola olyan volt\, mint minden kisgyerek\, talán pont olyan\, mint te!?Vagy inkább Manócskára hasonlítasz? Egérkére\, Fülöpre\, Tádéra vagy esetleg Varjú bácsira? Ha megnézed az előadást\, eldöntheted… \nAlkotók: \nDramaturg: \nSzívós Károly \nTervező: \nTörök Ágnes \nZeneszerző: \nDarvas Benedek \nRendező: \nSzívós Károly\nSzínészek: \nMazsola: \nMészáros Pancsa \nTádé\, Fülöpke: \nNánási Ágnes \nManócska: \nSóvári Csaba \nVarjú bácsi\, Fülöpke: \nBankó Bence \nZenei közreműködő: \nNagy József \n  \n3 éves kortól ajánlott!\nJegyár: 2700 Ft \nJegyek jegypénztárunkban és online is kaphatók!\nhttps://www.jegy.hu/program/mazsola-es-tade-184197/1356720
URL:https://visitvac.hu/event/mazsola-es-tade/
LOCATION:Madách Imre Művelődési Központ\, Dr. Csányi László krt. 63.\, Vác\, 2600\, Magyarország
ATTACH;FMTTYPE=image/png:https://visitvac.hu/wp-content/uploads/2025/11/mazsola_es_tade_0217.png
END:VEVENT
BEGIN:VEVENT
DTSTART;TZID=Europe/Budapest:20260219T190000
DTEND;TZID=Europe/Budapest:20260219T213000
DTSTAMP:20260424T194543
CREATED:20251128T120550Z
LAST-MODIFIED:20251128T120550Z
UID:10001370-1771527600-1771536600@visitvac.hu
SUMMARY:Abigél
DESCRIPTION:Színházi előadás\nSzabó Magda Abigél című műve megjelenése óta kiapadhatatlanul az érdeklődés középpontjában áll\, legyen szó a sokadik kiadását megélő regényről\, az abból készült-\, évről-évre ismét levetített tv-filmsorozatról\, vagy akár a mű musical változatáról. Az írónő örökzöld története mára már kulturális identitásunk részét képező alkotás\, amely minden generáció számára a mai napig meghatározó érvényű jelentőséggel bír. \nSzövegkönyv: Bánfalvy Ági\, Barnóczky Ákos\, Horváth Csaba\, Oliver W. Horwath\nRendező: Horváth Csaba\nProducer: Bánfalvy Ági\, HCS \nSZEREPLŐK: \nVitay Georgina: Pásztor Virág\nVitay tábornok: Szőke Zoltán\nKuncz Feri: Sándor Péter\nKőnig: Hujber Ferenc\nZsuzsanna: Bugár Anna\, Kondákor Zsófi\nHorn Mici: Varga Izabella\, Kondákor Zsófi\nTorma Gedeon: Dóczy Péter/Harmath Imre\nKalmár: Gombás Ádám\nTorma Piroska: Kóródi Dorina\nKiss Mari: György Orsolya\nSzabó: Garaj Bernadett\nMurai: Stelczer Tímea\nBánki: Gáliczki Nikoletta\nNacák: Kerék Laura\nSchőn: Gergály Vivien\nSuba: Papp László\, Barnóczky Ákos\nPénztáros: Papp László\nKatona I.: Steiner Gábor\nKatona II.: Hajdu Levente \nProducer: Bánfalvy Ágnes\nRendező: Horváth Csaba\nTársrendező: Barnóczky Ákos\nZeneszerző: Oliver W. Horvath\nKoreográfus: Vati Luca\nDíszlettervező: Harmati István\nJelmeztervező: Győri Gabriella\nGrafikai tervező: Frank Rizzo\nFilmbejátszások: Mester Ákos\nRendező asszisztens: Hajdu Levente \nJegyár: 8900 Ft\, 9500 Ft \nJegyek jegypénztárunkban kizárólag készpénzzel fizethetők! \nJegyek online kaphatók: https://www.jegy.hu/program/szabo-magda-abigel-178232/1303584
URL:https://visitvac.hu/event/abigel/
LOCATION:Madách Imre Művelődési Központ\, Dr. Csányi László krt. 63.\, Vác\, 2600\, Magyarország
ATTACH;FMTTYPE=image/png:https://visitvac.hu/wp-content/uploads/2025/11/abigel_0219.png
END:VEVENT
BEGIN:VEVENT
DTSTART;TZID=Europe/Budapest:20260220T180000
DTEND;TZID=Europe/Budapest:20260405T180000
DTSTAMP:20260424T194543
CREATED:20260219T115140Z
LAST-MODIFIED:20260219T115255Z
UID:10001452-1771610400-1775412000@visitvac.hu
SUMMARY:Grisanceva Szvetlana kiállítása
DESCRIPTION:A gyapjú korlátlan lehetőségei\nMegnyitó ünnepség: 2026.02.20. 18 óra \nKiállítást megnyitja: mekkey karikátor péter \nKözreműködik: Tóth Benedek gitárművész \nHelyszín: Kávézó Galéria
URL:https://visitvac.hu/event/grisanceva-szvetlana-kiallitasa/
LOCATION:Madách Imre Művelődési Központ\, Dr. Csányi László krt. 63.\, Vác\, 2600\, Magyarország
ATTACH;FMTTYPE=image/png:https://visitvac.hu/wp-content/uploads/2026/02/Grisanceva-Szvetlana_0220.png
END:VEVENT
BEGIN:VEVENT
DTSTART;TZID=Europe/Budapest:20260220T190000
DTEND;TZID=Europe/Budapest:20260220T210000
DTSTAMP:20260424T194543
CREATED:20251128T123529Z
LAST-MODIFIED:20260219T123307Z
UID:10001371-1771614000-1771621200@visitvac.hu
SUMMARY:ELMARAD! - Morpheus Színműhely: Az ördög
DESCRIPTION:Időpontváltozás!!! Új dátum: 04.17.\nTechnikai okok miatt új időpontban kerül megrendezésre az előadás\, a megvásárolt jegyek automatikusan érvényesek az áprilisi előadásra. Ha nem megfelelő az új időpont\, csak a helyszínen vásárolt jegyek visszaválthatók jegypénztárunkban március 2-ig. Az online vásárolt helyek a tixa.hu-n keresztül válthatók vissza. \nSzínmű 2 felvonásban \nKét ex-szerelmes hosszú idő után újra találkozik: a sikeres művészember\, János elvállalja\, hogy megfesti a gyönyörű\, de házas Jolán portréját. Hat éve már szerelmet vallottak egymásnak\, de az élet elsodorta őket egymás mellől\, érzelmeik mára már kihűltek\, felnőttek lettek\, felelősségteljesek\, és már csupán jóbarátként gondolnak egymásra.\nVége.\n… lenne\, ha ez igaz lenne. Azonban az életükbe betoppan az Ördög maga\, és alaposan felborítja a két önámító lélek életét. \n„Sehonnan sem jöttem\, és sehova sem megyek. Itt vagyok.”\nÉs amíg a ’fekete ember’ itt van\, addig a párosnak nem lehet nyugodalma. Szembesülnek saját elfojtott vágyaikkal\, a kis hazugságaikkal\, más emberek elvárásaival és az Ördög kísértése után már semmi sem lesz ugyanolyan\, mint azelőtt.\nMolnár Ferenc színműve\, ’Az ördög’\, meghozta számára a világhírnevet. \nJegyár: 3900Ft\, 4900 Ft\, 5900 Ft\nJegyek jegypénztárunkban kizárólag készpénzzel fizethetők! \nOnline jegyvásárlás:https://www.tixa.hu/molnar-ferenc-az-ordog-20260220
URL:https://visitvac.hu/event/morpheus-szinmuhely-az-ordog/
LOCATION:Madách Imre Művelődési Központ\, Dr. Csányi László krt. 63.\, Vác\, 2600\, Magyarország
ATTACH;FMTTYPE=image/png:https://visitvac.hu/wp-content/uploads/2025/11/az_ordog_0220.png
END:VEVENT
BEGIN:VEVENT
DTSTART;TZID=Europe/Budapest:20260220T200000
DTEND;TZID=Europe/Budapest:20260220T220000
DTSTAMP:20260424T194543
CREATED:20260114T140709Z
LAST-MODIFIED:20260114T140709Z
UID:10001413-1771617600-1771624800@visitvac.hu
SUMMARY:Rock & roll party a Pedrofon zenekarral
DESCRIPTION:Rock & roll party\nA Pedrofon zenekar jelenleg a legfoglalkoztatottabb magyar rock & roll együttes.\nLátványos show-elemekkel díszített műsora garantáltan kitűnő hangulatot teremt bármilyen rendezvényen.\nGarancia erre a tagok zenei képzettsége\, a hazai élmezőnyben eltöltött évek és több mint 2000 sikeres Pedrofon buli! \nHelyszín: Jeszenszky Terem \nBelépőjegy ára: 2500 Ft\nJegyek jegypénztárunkban vásárolhatók!\nOnline jegyvásárlás: https://www.jegy.hu/program/pedrofon-koncert-186864/1385315 \nA koncert ideje alatt kizárólag a Kávézóban vásárolt árucikkek fogyaszthatók!
URL:https://visitvac.hu/event/rock-roll-party-a-pedrofon-zenekarral/
LOCATION:Madách Imre Művelődési Központ\, Dr. Csányi László krt. 63.\, Vác\, 2600\, Magyarország
ATTACH;FMTTYPE=image/png:https://visitvac.hu/wp-content/uploads/2026/01/Pedrofon_0220.png
END:VEVENT
BEGIN:VEVENT
DTSTART;TZID=Europe/Budapest:20260221T100000
DTEND;TZID=Europe/Budapest:20260222T190000
DTSTAMP:20260424T194543
CREATED:20260206T150046Z
LAST-MODIFIED:20260206T150313Z
UID:10001431-1771668000-1771786800@visitvac.hu
SUMMARY:Nagykocka kiállítás
DESCRIPTION:Vácon a Nagykocka interaktív kiállítás!!!\nGyere el\, és nézd meg a LEGO DUPLO\, Unico Plus\, Mega Bloks\, és kompatibilis kockák gyűjteményének kiállítását!!!\nKicsiknek\, nagyoknak\, családoknak\, kikapcsolódni vágyóknak!!!!!\nLEGO Duplo állatok\, város\, működő vonatok\, kastély\, vár\, hajók\, kalózok\, ritkaságok és sok más érdekes alkotás.\n– Játszósarok\, sok nagykocka építőjátékkal!!! \nIdőpont: 2026. FEBRUÁR 21.-22.\nszombat: 10:00-19:00-ig\nvasárnap: 09:00-18:00-ig\nHelyszín: VÁC\, Madách Imre Művelődési Központ \, Dr. Csányi László krt. 63. Jeszenszky terem (37-40 terem) \nBelépő: helyszínen a terem előtt vásárolható\n2000 Ft (2 év alatt ingyenes)\n(csak készpénzes fizetés) \n– Nagykocka interaktív kiállítás facebook oldaláról megosztók között 4 fős belépő sorsolása!!!!\nhttps://www.facebook.com/profile.php?id=61581670795333\nSorsolás: február 20.- án. A nyertest messengeren értesítik\nKommentbe írd OSZTVA
URL:https://visitvac.hu/event/nagykocka-kiallitas/2026-02-21/
LOCATION:Madách Imre Művelődési Központ\, Dr. Csányi László krt. 63.\, Vác\, 2600\, Magyarország
ATTACH;FMTTYPE=image/png:https://visitvac.hu/wp-content/uploads/2026/02/Nagykocka-kiallitas_0221.png
END:VEVENT
BEGIN:VEVENT
DTSTART;TZID=Europe/Budapest:20260221T103000
DTEND;TZID=Europe/Budapest:20260221T113000
DTSTAMP:20260424T194543
CREATED:20260107T103729Z
LAST-MODIFIED:20260107T103729Z
UID:10001394-1771669800-1771673400@visitvac.hu
SUMMARY:Gryllus Vilmos: Maszkabál koncert
DESCRIPTION:Fergeteges családi koncert a farsangi időszak végén!\nBál\, bál\, maszkabál!\nMinden jelmez készen áll\,\nszól a nóta\, messze száll:\nÁll a bál\, áll a bál\,\náll a fényes maszkabál! \nÖltözzünk be a Maszkabál szereplőinek\, és búcsúztassuk együtt a telet Gryllus Vilmos vidám dalaival!\nJelmezeket\, jókedvet és énekszót hozzatok magatokkal – igazi Maszkabál-hangulat vár mindenkit Vácon! \nJegyár:\nElővételes ár: 4 000 Ft\n2026 január 31. után 4500 Ft\nJegyet 1 éves kor felett szükséges váltani. \nJegyek csak online kaphatók: \nhttps://jegymester.hu/production/10083828/gryllus-vilmos-maszkabal-koncertje-vacon/8300081?fbclid=IwY2xjawOfb8xleHRuA2FlbQIxMABicmlkETA2YU1RclFxanRrem1VekVIc3J0YwZhcHBfaWQQMjIyMDM5MTc4ODIwMDg5MgABHi_zUx1ETAVQgbEs2xmvkmHhGT6-sqQudyTaOq5JsfA2dCN3EgexXXo2ahQ6_aem_pDnHKseJrbUeshF5RT_VkQ \n 
URL:https://visitvac.hu/event/gryllus-vilmos-maszkabal-koncert/
LOCATION:Madách Imre Művelődési Központ\, Dr. Csányi László krt. 63.\, Vác\, 2600\, Magyarország
ATTACH;FMTTYPE=image/png:https://visitvac.hu/wp-content/uploads/2026/01/Gryllus-Vilmos-Maszkabal-koncert_0221.png
END:VEVENT
BEGIN:VEVENT
DTSTART;TZID=Europe/Budapest:20260221T190000
DTEND;TZID=Europe/Budapest:20260221T210000
DTSTAMP:20260424T194543
CREATED:20251128T130506Z
LAST-MODIFIED:20251128T130506Z
UID:10001372-1771700400-1771707600@visitvac.hu
SUMMARY:BOLONDOK HAJÓJA – Mogács Dániel improvizációs estje
DESCRIPTION:Stand-up\nMogács Dániel elindította a Bolondok hajóját a közönség tengerén és felkérte őrült kollégáit\, hogy evezzenek ki vele a veszélyes vizekre\, ahol a közönség az úr.\nA két bolond megannyi karakter bőrébe bújva a nézők irányításával\, kitalált történetekkel\, rögtönzött helyzetekkel\, szívvel és lélekkel szórakoztatnak. Alámerülnek a nagyérdemű által gerjesztett kiszámíthatatlan habokba\, és nincs náluk mentőöv.\nStand-up\, improvizáció\, zene — minden előadás más és más\, csakúgy\, mint a tenger. \nJegyinformáció hamarosan!
URL:https://visitvac.hu/event/bolondok-hajoja-mogacs-daniel-improvizacios-estje/
LOCATION:Madách Imre Művelődési Központ\, Dr. Csányi László krt. 63.\, Vác\, 2600\, Magyarország
ATTACH;FMTTYPE=image/png:https://visitvac.hu/wp-content/uploads/2025/11/bolondok_hajoja_0221.png
END:VEVENT
BEGIN:VEVENT
DTSTART;TZID=Europe/Budapest:20260222T090000
DTEND;TZID=Europe/Budapest:20260222T180000
DTSTAMP:20260424T194543
CREATED:20260206T150046Z
LAST-MODIFIED:20260206T150313Z
UID:10001432-1771750800-1771783200@visitvac.hu
SUMMARY:Nagykocka kiállítás
DESCRIPTION:Vácon a Nagykocka interaktív kiállítás!!!\nGyere el\, és nézd meg a LEGO DUPLO\, Unico Plus\, Mega Bloks\, és kompatibilis kockák gyűjteményének kiállítását!!!\nKicsiknek\, nagyoknak\, családoknak\, kikapcsolódni vágyóknak!!!!!\nLEGO Duplo állatok\, város\, működő vonatok\, kastély\, vár\, hajók\, kalózok\, ritkaságok és sok más érdekes alkotás.\n– Játszósarok\, sok nagykocka építőjátékkal!!! \nIdőpont: 2026. FEBRUÁR 21.-22.\nszombat: 10:00-19:00-ig\nvasárnap: 09:00-18:00-ig\nHelyszín: VÁC\, Madách Imre Művelődési Központ \, Dr. Csányi László krt. 63. Jeszenszky terem (37-40 terem) \nBelépő: helyszínen a terem előtt vásárolható\n2000 Ft (2 év alatt ingyenes)\n(csak készpénzes fizetés) \n– Nagykocka interaktív kiállítás facebook oldaláról megosztók között 4 fős belépő sorsolása!!!!\nhttps://www.facebook.com/profile.php?id=61581670795333\nSorsolás: február 20.- án. A nyertest messengeren értesítik\nKommentbe írd OSZTVA
URL:https://visitvac.hu/event/nagykocka-kiallitas/2026-02-22/
LOCATION:Madách Imre Művelődési Központ\, Dr. Csányi László krt. 63.\, Vác\, 2600\, Magyarország
ATTACH;FMTTYPE=image/png:https://visitvac.hu/wp-content/uploads/2026/02/Nagykocka-kiallitas_0221.png
END:VEVENT
BEGIN:VEVENT
DTSTART;TZID=Europe/Budapest:20260222T190000
DTEND;TZID=Europe/Budapest:20260222T210000
DTSTAMP:20260424T194543
CREATED:20251128T130819Z
LAST-MODIFIED:20251128T130819Z
UID:10001373-1771786800-1771794000@visitvac.hu
SUMMARY:Meztelen igazság
DESCRIPTION:A Liliom Produkció bemutatja:\nDave Simpson: MEZTELEN IGAZSÁG\nzenés vígjáték \nA darab hat különböző hátterű nőről szól\, akik látszólag semmiben sem hasonlítanak egymásra\, mégis ugyanarra az önbizalom-növelő rúdtánckurzusra jelentkeznek – ám hamar kiderül\, hogy nem csupán a szexi mozgás miatt jöttek. \nA találkozások során barátságok szövődnek\, titkok kerülnek napvilágra\, és a nők fokozatosan elfogadják\, megszeretik saját testüket.\nEgy bátor\, merész ötlettől vezérelve elhatározzák\, hogy jótékonysági céllal levetik a gátlásaikat… és a ruháikat is. \nA vígjáték szellemes és felszabadító – az önelfogadásról\, a női összetartás erejéről és arról szól\, hogy néha a legnagyobb kihívás levetkőzni – lelkileg és szó szerint is. \nSzereplők:\nTrisha – Barbinek Paula\nBev – Csomor Csilla\nFaith – Gyebnár Csekka\nSarah –Gubik Ági\nRita – Deutsch Anita\nGabby – Fekete Linda \nRendező: Tallós Rita \nAlkotók hamarosan! \nJegyár: 7900Ft\nJegyek kizárólag készpénzzel fizethetők jegypénztárunkban!\nOnline jegyvásárlás: https://www.jegy.hu/program/meztelen-igazsag-zenes-vigjatek-183052/1344608
URL:https://visitvac.hu/event/meztelen-igazsag/
LOCATION:Madách Imre Művelődési Központ\, Dr. Csányi László krt. 63.\, Vác\, 2600\, Magyarország
ATTACH;FMTTYPE=image/png:https://visitvac.hu/wp-content/uploads/2025/11/meztelen_igazsag_0222.png
END:VEVENT
END:VCALENDAR