BEGIN:VCALENDAR
VERSION:2.0
PRODID:-//Visitvac - ECPv6.15.20//NONSGML v1.0//EN
CALSCALE:GREGORIAN
METHOD:PUBLISH
X-WR-CALNAME:Visitvac
X-ORIGINAL-URL:https://visitvac.hu
X-WR-CALDESC:Események Visitvac
REFRESH-INTERVAL;VALUE=DURATION:PT1H
X-Robots-Tag:noindex
X-PUBLISHED-TTL:PT1H
BEGIN:VTIMEZONE
TZID:Europe/Budapest
BEGIN:DAYLIGHT
TZOFFSETFROM:+0100
TZOFFSETTO:+0200
TZNAME:CEST
DTSTART:20250330T010000
END:DAYLIGHT
BEGIN:STANDARD
TZOFFSETFROM:+0200
TZOFFSETTO:+0100
TZNAME:CET
DTSTART:20251026T010000
END:STANDARD
BEGIN:DAYLIGHT
TZOFFSETFROM:+0100
TZOFFSETTO:+0200
TZNAME:CEST
DTSTART:20260329T010000
END:DAYLIGHT
BEGIN:STANDARD
TZOFFSETFROM:+0200
TZOFFSETTO:+0100
TZNAME:CET
DTSTART:20261025T010000
END:STANDARD
BEGIN:DAYLIGHT
TZOFFSETFROM:+0100
TZOFFSETTO:+0200
TZNAME:CEST
DTSTART:20270328T010000
END:DAYLIGHT
BEGIN:STANDARD
TZOFFSETFROM:+0200
TZOFFSETTO:+0100
TZNAME:CET
DTSTART:20271031T010000
END:STANDARD
END:VTIMEZONE
BEGIN:VEVENT
DTSTART;TZID=Europe/Budapest:20260122T170000
DTEND;TZID=Europe/Budapest:20260301T180000
DTSTAMP:20260424T180021
CREATED:20260114T151544Z
LAST-MODIFIED:20260114T151707Z
UID:10001422-1769101200-1772388000@visitvac.hu
SUMMARY:50 év 50 remek mű
DESCRIPTION:Kiállítás\naz 50 éves Madách Imre Művelődési Központ tiszteletére \nA váci Madách Imre Művelődési Központ 1976-ban történt átadása óta a Dunakanyar egyik legfontosabb\, leglátogatottabb kulturális és közművelődési intézménye. 50 éves fennállásunk évfordulóját több rendezvénnyel\, konferenciával és kiállítással kívánjuk megünnepelni 2026-ban. Ezek közül az első kiemelkedő esemény a Magyar Kultúra Napjára időzített „50 ÉV 50 REMEK MŰ” című kiállításunk az Emeleti Galériában\, mely a kultúra-napi gálaműsor előtt nyílik meg. Az ötven kimagasló képző- illetve fotóművészeti alkotásból álló anyag több részből áll össze: egyrészt a Művelődési Központ (illetve a fenntartó: Vác Város Önkormányzata)\, valamint Papp László gyűjteményében található műalkotásokból\, másrészt a jelenleg is aktív művészektől beválogatott alkotásokból. A kiállításon olyan neves alkotóktól találhatók művek – a teljesség igénye nélkül -\, mint Bartha László\, Gerzson Pál\, Hincz Gyula\, Kokas Ignác\, Mácsai István\,  Nagy B. István\, Szabó Vladimir festőművészek\, Blaskó János szobrászművész\, Raszler Károly és Sáros András Miklós grafikusművészek\, Kocsis Iván fotóművész… A jelenleg is aktív művészek közül is olyan jelentős alkotók művei lesznek megtekinthetők\, mint Adorján Attila\, Kis Sándor Lajos DLA\, Németh Árpád\, Németh Géza\, Orvos András festőművészek\, Molnár László József grafikusművész\, Fekete István és Molnár Ferenc fotóművészek. \nMegnyitó ünnepség: 2026.01.22. 17 óra \nKöszöntőt mond: Matkovich Ilona Vác város polgármestere\nKiállítást megnyitja: Feledy Balázs művészeti író \nHelyszín: Emeleti Galéria
URL:https://visitvac.hu/event/50-ev-50-remek-mu/
LOCATION:Madách Imre Művelődési Központ\, Dr. Csányi László krt. 63.\, Vác\, 2600\, Magyarország
ATTACH;FMTTYPE=image/png:https://visitvac.hu/wp-content/uploads/2026/01/50-ev-50-remek-mu_0122.png
END:VEVENT
BEGIN:VEVENT
DTSTART;TZID=Europe/Budapest:20260127T080000
DTEND;TZID=Europe/Budapest:20260316T150000
DTSTAMP:20260424T180021
CREATED:20260206T145023Z
LAST-MODIFIED:20260206T145124Z
UID:10001428-1769500800-1773673200@visitvac.hu
SUMMARY:Nagy B. István Képzőművész Stúdió kiállítása
DESCRIPTION:Kiállítás\nFalusi Bence\nHársfalvi Gabriella\nKovács Mária\nKrisztbaum Mónika\nLövész Kornélia\nMucsi Erika\nSzabó Alexandra \nStúdió vezető: Koltai – Dietrich Gábor festőművész \nHelyszín: Ablak galéria
URL:https://visitvac.hu/event/nagy-b-istvan-kepzomuvesz-studio-kiallitasa/
LOCATION:Madách Imre Művelődési Központ\, Dr. Csányi László krt. 63.\, Vác\, 2600\, Magyarország
ATTACH;FMTTYPE=image/png:https://visitvac.hu/wp-content/uploads/2026/02/Nagy-B_Istvan_0127.png
END:VEVENT
BEGIN:VEVENT
DTSTART;TZID=Europe/Budapest:20260130T150000
DTEND;TZID=Europe/Budapest:20260228T160000
DTSTAMP:20260424T180021
CREATED:20260206T145355Z
LAST-MODIFIED:20260206T145355Z
UID:10001429-1769785200-1772294400@visitvac.hu
SUMMARY:Ukrajna egykor és most
DESCRIPTION:Fotó és dokumentum kiállítás\nA Váci Ukrán Nemzetiségi Önkormányzat szervezésében\nUkrajna Magyarországi Nagykövetségének közreműködésével \nMegnyitó ünnepség: 15.00 óra \nKiállítást megnyitja: Sándor Fegyir professzor\nUkrajna Magyarországi Rendkívüli és Meghatalmazott Nagykövete \nSzaxofonon közreműködik: Szcsur Alexander \nHelyszín: Átrium Galéria
URL:https://visitvac.hu/event/ukrajna-egykor-es-most/
LOCATION:Madách Imre Művelődési Központ\, Dr. Csányi László krt. 63.\, Vác\, 2600\, Magyarország
ATTACH;FMTTYPE=image/png:https://visitvac.hu/wp-content/uploads/2026/02/Ukrajna-egykor-es-most_0130.png
END:VEVENT
BEGIN:VEVENT
DTSTART;TZID=Europe/Budapest:20260203T080000
DTEND;TZID=Europe/Budapest:20260308T160000
DTSTAMP:20260424T180021
CREATED:20260206T145633Z
LAST-MODIFIED:20260206T145633Z
UID:10001430-1770105600-1772985600@visitvac.hu
SUMMARY:Felhívás! – „Tavaszi szél vizet áraszt…”
DESCRIPTION:F e l h í v á s\nA Madách Imre Művelődési Központ a 2026. évi Váci Tavaszi Fesztivál\nkeretein belül tervezi megrendezni a „Tavaszi szél vizet áraszt…”\ncímű\, Vácott és vonzáskörzetében élő\, műkedvelő alkotók\nkiállítását. \nIntézményünk igyekszik rendszeresen bemutatni a\nkörnyékbeli alkotók munkáit\, nagy hangsúlyt helyezünk ezen\nértékek minél szélesebb körben való megismertetésére!\nA szakmai zsűri értékes díjak odaítéléséről\, esetleges önálló\negyéni kiállítás lehetőségéről is hozhat döntést. \nIdén\, csatlakozva a Tragor Ignác Múzeummal közösen szervezett\nVáci Akvarell Ünnep 2026-hoz\, kiemelt figyelmet szentelünk az akvarell technikával készült\nalkotásoknak\, melyeket külön kiállításon kívánunk bemutatni!\nA Váci Akvarell Ünnep zsűrije külön díjazásban részesíti a legjobb pályaműveket! \nA megnyitó időpontja: 2026. március 20. 18 óra.\nHelyszíne: a Madách Imre Művelődési Központ \nEmeleti Galériája \nMűvek beadása: március 1. és 8. között. \nEsetleges kérdéseikkel forduljanak a tárlat szervezőjéhez: \nKoltai-Dietrich Gábor (email: kdg@mimk.vac.hu \, tel: +36 30 377-3337)
URL:https://visitvac.hu/event/felhivas-tavaszi-szel-vizet-araszt/
LOCATION:Madách Imre Művelődési Központ\, Dr. Csányi László krt. 63.\, Vác\, 2600\, Magyarország
ATTACH;FMTTYPE=image/png:https://visitvac.hu/wp-content/uploads/2026/02/Tavaszi-szel_0203.png
END:VEVENT
BEGIN:VEVENT
DTSTART;TZID=Europe/Budapest:20260220T180000
DTEND;TZID=Europe/Budapest:20260405T180000
DTSTAMP:20260424T180021
CREATED:20260219T115140Z
LAST-MODIFIED:20260219T115255Z
UID:10001452-1771610400-1775412000@visitvac.hu
SUMMARY:Grisanceva Szvetlana kiállítása
DESCRIPTION:A gyapjú korlátlan lehetőségei\nMegnyitó ünnepség: 2026.02.20. 18 óra \nKiállítást megnyitja: mekkey karikátor péter \nKözreműködik: Tóth Benedek gitárművész \nHelyszín: Kávézó Galéria
URL:https://visitvac.hu/event/grisanceva-szvetlana-kiallitasa/
LOCATION:Madách Imre Művelődési Központ\, Dr. Csányi László krt. 63.\, Vác\, 2600\, Magyarország
ATTACH;FMTTYPE=image/png:https://visitvac.hu/wp-content/uploads/2026/02/Grisanceva-Szvetlana_0220.png
END:VEVENT
BEGIN:VEVENT
DTSTART;TZID=Europe/Budapest:20260223T163000
DTEND;TZID=Europe/Budapest:20260223T193000
DTSTAMP:20260424T180021
CREATED:20260206T143539Z
LAST-MODIFIED:20260206T143659Z
UID:10001426-1771864200-1771875000@visitvac.hu
SUMMARY:MeNŐpauza // Változókori workshop // Ingyenes a részvétel
DESCRIPTION:Szervező: Dr. Kenéz Zoltán Egyesített Szociális Intézmény\nJelentkezés regisztrációhoz kötött: szervezes@idosotthonvac.hu \n  \nA menőpauza-más néven változó kor vagy klimax-olyan természetes állapot\, amely a nők életébe egyszer csak megérkezik… \nAm történik velünk kicsit ciki\, fura\, érthetetlen\, elviselhetetlen… \nBeszéljünk róla tabuk nélkül\, ingyenes workshopunkon! \nIdőtartam: 16:30-19:30
URL:https://visitvac.hu/event/menopauza-valtozokori-workshop-ingyenes-a-reszvetel/
LOCATION:Váci Dunakanyar Színház\, Dr. Csányi László krt. 58.\, Vác\, 2600\, Magyarország
ATTACH;FMTTYPE=image/jpeg:https://visitvac.hu/wp-content/uploads/2026/02/Menopauza_0223.jpg
END:VEVENT
BEGIN:VEVENT
DTSTART;TZID=Europe/Budapest:20260224T100000
DTEND;TZID=Europe/Budapest:20260224T110000
DTSTAMP:20260424T180021
CREATED:20251128T131116Z
LAST-MODIFIED:20251128T131116Z
UID:10001374-1771927200-1771930800@visitvac.hu
SUMMARY:Fizika Show – gyerekeknek
DESCRIPTION:Interaktív előadás\nSzórakoztató tudományos program\, ahol a kísérletek nemcsak elkápráztatnak\, hanem meg is nevettetik a közönséget. \nA látványos bemutatók segítségével a fizika kézzelfogható\, izgalmas és közérthető élménnyé válik minden korosztály számára. \nElőadás időtartama: 45 perc\nA belépőjegy ára: 1.200 Ft \nJegyek jegypénztárunkban kaphatók!\nOnline jegyvásárlás: https://www.jegy.hu/program/vicces-fizika-show-gyerekeknek-184537/1359897
URL:https://visitvac.hu/event/fizika-show-gyerekeknek/
LOCATION:Madách Imre Művelődési Központ\, Dr. Csányi László krt. 63.\, Vác\, 2600\, Magyarország
ATTACH;FMTTYPE=image/png:https://visitvac.hu/wp-content/uploads/2025/11/fizika_show_0224.png
END:VEVENT
BEGIN:VEVENT
DTSTART;TZID=Europe/Budapest:20260225T100000
DTEND;TZID=Europe/Budapest:20260225T120000
DTSTAMP:20260424T180021
CREATED:20260206T144053Z
LAST-MODIFIED:20260206T144053Z
UID:10001427-1772013600-1772020800@visitvac.hu
SUMMARY:Bognár Szilvia - Farsangi Titoktok // Interaktív gyerekkoncert
DESCRIPTION:interaktív gyerekkoncert (vacidunakanyarszinhaz.jegy.hu-s előadás // jegyek online // Tourinform Irodákban // Előadás előtt 1 órával a színházban) \n  \nDalok\, versek\, mondókák\, remek muzsika\, tánc\, mulatság és játék… mi kellhet több egy vidám napra? Megvan! Egy titkokat rejtő égszínkék kendő\, egy igazi Titoktok! \nWeöres Sándor\, Nemes Nagy Ágnes\, Kányádi Sándor\, Hajnal Anna megzenésített sorai népi dallamokkal karöltve vezetnek bennünket a titkos úton\, Moldovától egy sikátorban rejlő ugróiskoláig. Ahogy épp a kedvünk tartja\, ahogy épp a forgandó szerencse hozza. \nEzúttal a farsangi időszak dalai kerülnek előtérbe\, sok mókával\,nevetéssel. A tánc sem maradhat el\, hisz ez volt egykor a lakodalmak egyik fő időszaka\, s ma is a bálok\, mulatságok ideje\, amíg „Konc király uralkodik”. De ha győz Cibere vajda\, bizony tovatűnik a tél\, a zsíros étkek\, a sok mulatság és átadja helyét a böjtnek\, a várva várt kikeletnek. Mire a vigasság véget ér\, s a gyermekek hada elfárad\, jól esik majd csalogatni a napsütötte tavaszt. \nBognár Szilvia – ének;\nBede Péter – szaxofon\, furulya;\nHámori Máté – gitár;\nKovács Zoltán – nagybőgő;\nGyulai Csaba – ütőhangszerek\, gadulka \nJegyár: 2500\,-\nCsoportok esetében 3 kísérőnek díjtalan (a foglalási létszámban jelezzék a kísérőt is\, köszönöm)\nA kedvezmények ügyében keressenek a +36/975-5448-as telefonszámon vagy a jegypenztar@vacidunakanyarszinhaz.hu e-mail címen.
URL:https://visitvac.hu/event/bognar-szilvia-farsangi-titoktok-interaktiv-gyerekkoncert/
LOCATION:Váci Dunakanyar Színház\, Dr. Csányi László krt. 58.\, Vác\, 2600\, Magyarország
ATTACH;FMTTYPE=image/jpeg:https://visitvac.hu/wp-content/uploads/2026/02/Bognar-Szilvia_0225.jpg
END:VEVENT
BEGIN:VEVENT
DTSTART;TZID=Europe/Budapest:20260225T160000
DTEND;TZID=Europe/Budapest:20260225T170000
DTSTAMP:20260424T180021
CREATED:20260219T115741Z
LAST-MODIFIED:20260219T115741Z
UID:10001453-1772035200-1772038800@visitvac.hu
SUMMARY:A Kommunizmus Áldozatainak Emléknapja
DESCRIPTION:A Kommunizmus Áldozatainak Emléknapja\nBeszédet mond: Tótváradi-Nagy Bence\, önkormányzati képviselő\nVerset mond: Bombay Bálint\nA Váci Madách Imre Gimnázium tanulója\, az Entitás Csoport tagja\nÉnekel: Kalecz Barnabás\,\na Váci Piarista Gimnázium tanulója \nHelyszín:\nVÁCI RABTEMETŐ – Vác\, Rabtemető út
URL:https://visitvac.hu/event/a-kommunizmus-aldozatainak-emleknapja/
ATTACH;FMTTYPE=image/png:https://visitvac.hu/wp-content/uploads/2026/02/Kommunizmus-aldozatainak-emleknapja_0225.png
ORGANIZER;CN="V%C3%A1c V%C3%A1ros %C3%96nkorm%C3%A1nyzata":MAILTO:szerveztitkar@varoshaza.vac.hu
END:VEVENT
BEGIN:VEVENT
DTSTART;TZID=Europe/Budapest:20260225T190000
DTEND;TZID=Europe/Budapest:20260225T203000
DTSTAMP:20260424T180021
CREATED:20260107T104744Z
LAST-MODIFIED:20260107T104744Z
UID:10001395-1772046000-1772051400@visitvac.hu
SUMMARY:Ellopott gyermekkor – Bibók Bea előadása
DESCRIPTION:Hogyan hat a múltunk a párkapcsolatainkra és önértékelésünkre?\nVoltál már gyerek\, aki mindig „jó” akart lenni\, hogy a szülei ne veszekedjenek? \nAki már kicsiként felelősséget vállalt\, hogy mások jól legyenek? \nAki hamarabb nőtt fel\, mint kellett volna? \nAz „Ellopott gyermekkor” című előadásban Bibók Bea pszichológus\, pár- és szexuálterapeuta arról beszél\, mi történik\, ha egy gyermek túl korán kap felnőtt szerepet – és milyen láthatatlan terheket viszünk tovább ebből felnőttként is. \nA pszichológiában ezt a jelenséget parentifikációnak hívják: amikor a gyermek veszi át a hiányzó felnőtt felelősségét\, és érzelmileg tartja össze a családot. Kívülről ez erős\, önálló\, segítőkész gyerekként látszik – belül azonban gyakran fájdalmas hiányt hordoz. \nBibók Bea előadása segít felismerni ezeket a mintákat\, megérteni a működésüket\, és elindulni az úton\, amely visszavezet önmagunkhoz. \nA beszélgetés az azonos című könyv gondolatvilágára épül\, és valódi kapaszkodót ad mindazoknak\, akik szeretnék visszaszerezni azt\, amit gyerekként elveszítettek: a belső biztonságot\, az önszeretetet és a szabadságot. \nKönyvkupon – Több\, mint belépő\nA promóciós csomagunk tartalmazza a könyv és belépő árát egyaránt. Kedvezményes belépést biztosít rendezvényeinkre.\nMiről szól a könyv?\nA Tükör és Térkép – Önismeret és iránymutatás c. könyv a KULT TÚRA rendezvények esszenciája: gondolatok\, történetek és felismerések\, amelyek túlmutatnak egyetlen estén. Egy könyv\, ami hazaviszi az élményt.\n– Egy helyen gyűjti össze a legérdekesebb gondolatokat és történeteket\, amelyek rendezvényeinken elhangzanak.\n– Útmutató és inspiráció\, amely segít jobban megérteni önmagad és a világot.\n– Időtálló érték\, amelyhez bármikor vissza nyúlhatsz – amikor új lendületre\, válaszokra vagy megerősítésre van szükséged.\nFontos tudnivalók a promóciós csomagról\n– Kedvezőbb áron biztosítja a belépést a rendezvényre.\n– A promóciós csomag eleme a könyvkupon. A könyvkupon részét nem kötelező beváltani.\n– A könyv átvehető az előadás kezdete előtt 20 perccel\, a kupon felmutatásával.\n– Az előadás után is átvehető a kupon felmutatásával. \nJegyár: 9990 Ft\, 10 990 Ft\nJegyek csak online kaphatók:https://in-time.hu/e/ellopott-gyermekkor-260225
URL:https://visitvac.hu/event/ellopott-gyermekkor-bibok-bea-eloadasa/
LOCATION:Madách Imre Művelődési Központ\, Dr. Csányi László krt. 63.\, Vác\, 2600\, Magyarország
ATTACH;FMTTYPE=image/png:https://visitvac.hu/wp-content/uploads/2026/01/Ellopott_gyermekkor_0225.png
END:VEVENT
BEGIN:VEVENT
DTSTART;TZID=Europe/Budapest:20260226T190000
DTEND;TZID=Europe/Budapest:20260226T210000
DTSTAMP:20260424T180021
CREATED:20251128T132231Z
LAST-MODIFIED:20251128T132231Z
UID:10001375-1772132400-1772139600@visitvac.hu
SUMMARY:Emberi bestiák
DESCRIPTION:Sorozatgyilkosok nyomában – Doszpot Péter és Antal Gábor exkluzív estje\nKik is valójában a sorozatgyilkosok? Mi rejlik torzult lelkük mélyén\, milyen motivációk fűtik őket a kegyetlen és bizarr tetteikhez? Hogyan gondolkodik egy pszichopata – és vajon gyógyítható-e?\nMilyen nyomozói kvalitások kellenek ahhoz\, hogy a rendőrség rátaláljon a nyomukra? Van-e ellenszer ellenük\, hibázhatnak-e ők is\, segítve ezzel a lebukásukat? \nAz esten Doszpot Péter\, a volt kiemelt gyilkossági főnyomozó\, és Antal Gábor\, a tanácsadó szakpszichológus tárják fel a közönség előtt a sorozatgyilkosság sötét világát. Filmrészletek és valódi bűnügyi esetek segítségével mutatják be\, miként fonódik össze a bűnüldözés és a pszichológia a 20. század és napjaink hírhedt hazai és nemzetközi ügyeiben. \nVajon szükséges-e gyermekkori trauma ahhoz\, hogy valakiből sorozatgyilkos váljon? Mit mond a tudomány\, és mit mesél a terepen szerzett tapasztalat?\nEgy este\, ahol választ kaphatunk a legnyugtalanítóbb kérdésekre – két szakember\, két nézőpont\, egyedülálló élmény. \nFedezd fel velünk a sorozatgyilkosok világát – várunk szeretettel az előadáson! \nJegyár: 5900 Ft\nJegyek jegypénztárunkban kizárólag készpénzzel fizethetők! \nOnline jegyvásárlás: https://amanda.jegyx1.hu/esemeny/10035/emberi-bestiak-vac/2026-02-26-19-00
URL:https://visitvac.hu/event/emberi-bestiak/
LOCATION:Madách Imre Művelődési Központ\, Dr. Csányi László krt. 63.\, Vác\, 2600\, Magyarország
ATTACH;FMTTYPE=image/png:https://visitvac.hu/wp-content/uploads/2025/11/emberi_bestiak_0226.png
END:VEVENT
BEGIN:VEVENT
DTSTART;TZID=Europe/Budapest:20260226T190000
DTEND;TZID=Europe/Budapest:20260226T210000
DTSTAMP:20260424T180021
CREATED:20260107T093235Z
LAST-MODIFIED:20260107T093235Z
UID:10001385-1772132400-1772139600@visitvac.hu
SUMMARY:A Titok // Egy este Danny Blue-val
DESCRIPTION:előadja: Danny Blue – mentalista (Jegyek csak online) \n  \nEgy találkozás\, megannyi titok \nLépd át a lehetetlen határát és less be a titkok világába! Találkozz Danny Blue-val\, Magyarország legismertebb mentalistájával  egy különleges estére\, és légy a szemtanúja\, ahogy a titkok feltárulnak előtted!\nFedezd fel a Titkot – Egy élmény\, ami mindent megváltoztat!\nMi vár rád az estén?A Titok egy bensőséges és lebilincselő élmény\, ahol Danny Blue\, Magyarország legismertebb mentalistája\, megmutatja\, hogy minden gondolat és érzés lenyomata ott rejlik körülöttünk – csak tudni kell olvasni belőle.\nJegyek és ProgramA Titok egy különleges est\, amelyben a nézők nemcsak szemlélői\, hanem résztvevői is a történéseknek. Danny Blue a nézők figyelmét és gondolatait formálva teremti meg azt a különleges atmoszférát\, amelyben minden pillanat személyes élménnyé válik.\nVÁC – a helyszínA Váci Dunakanyar Színház falai között ezúttal a Titok kap főszerepet. A patinás épület terme nemcsak a város kulturális szíve\, hanem tökéletes díszlet is Danny Blue lenyűgöző estjéhez.Itt a határok elmosódnak\, a gondolat valósággá válik\, és minden pillanat egy újabb megfejtés a Titokból.\nVedd meg a jegyed még ma!\n  \n\nJegyár: 8990 Ft
URL:https://visitvac.hu/event/a-titok-egy-este-danny-blue-val/
LOCATION:Váci Dunakanyar Színház\, Dr. Csányi László krt. 58.\, Vác\, 2600\, Magyarország
ATTACH;FMTTYPE=image/jpeg:https://visitvac.hu/wp-content/uploads/2026/01/Danny-blue_0226.jpg
END:VEVENT
BEGIN:VEVENT
DTSTART;TZID=Europe/Budapest:20260227T170000
DTEND;TZID=Europe/Budapest:20260227T180000
DTSTAMP:20260424T180021
CREATED:20260219T120219Z
LAST-MODIFIED:20260219T120219Z
UID:10001454-1772211600-1772215200@visitvac.hu
SUMMARY:Idősek Akadémiája
DESCRIPTION:Vác Város Idősügyi Tanácsa szervezésében\nIdősek Akadémiája Vác zenei életének története \nInotay Gergely előadása\, amely Vác zenei életének gazdag múltját és jelenét mutatja be közérthető\, szórakoztató formában. Különleges érdekességeken és kevésbé ismert történeteken keresztül nyújt betekintést a város kulturális hagyományaiba. \nSzeretettel hívjuk és várjuk az eseményre! \nA program ingyenes. \nAz eseményen kép- és hangfelvétel készül. \nA programváltozás jogát fenntartjuk. \nInformáció: info@varoshaza.vac.hu \nVác jó hely! \nVác Város Önkormányzat\nwww.vac.hu \nHelyszín: Kamaraterem
URL:https://visitvac.hu/event/idosek-akademiaja-2/
LOCATION:Madách Imre Művelődési Központ\, Dr. Csányi László krt. 63.\, Vác\, 2600\, Magyarország
ATTACH;FMTTYPE=image/png:https://visitvac.hu/wp-content/uploads/2026/02/Idosek-akademiaja_0227.png
END:VEVENT
BEGIN:VEVENT
DTSTART;TZID=Europe/Budapest:20260227T190000
DTEND;TZID=Europe/Budapest:20260227T210000
DTSTAMP:20260424T180021
CREATED:20251128T132737Z
LAST-MODIFIED:20251128T132737Z
UID:10001376-1772218800-1772226000@visitvac.hu
SUMMARY:Lovasi: „Egy az egybe …csak maga”
DESCRIPTION:Koncert\nLOVASI András a Kispál és a Borz 1987-es megalapítása óta több\, mint 350 megjelent dal szerzője\, szövegírója\, énekese\, hangszeres közreműködője. Életművét a folytonos megújulás és ösztönös építkezés jellemzi: míg a Kispál és a Borz énekeseként basszusgitározik\, addig a 2005-ben alapított Kiscsillagban már gitárosként szerepel\, a három szólólemeze köré épített műsorokban pedig jellemzően akusztikus gitáron játszik. \nA különböző zenekari formációkban működő előadó a 38 évdalaiból összeállt életműből merít az „egyszálgitáros” műsorában: előkerülnek Kispál-klasszikusok „tábortűzi” megszólalásban\, felcsendülnek Kiscsillag-dalok\, illetve nagy hangsúlyt kapnak a három Lovasi-szólólemez dalai. \nLovasi dalai és szövegvilága jelentős hatással van a mai magyar könnyűzenei szerzők sokaságára. Az „egyszálgitáros” műsora sokkal szövegközpontúbb\, mint egy zenekaros koncert\, ráadásul a szerző előszeretettel mesél a dalok keletkezéséről nagyon személyes történeteken keresztül\, sok humorral.  Megismerhetjük\, milyen állapotú egy dal\, mielőtt zenekari hangszerelést kap\, az eleve akusztikus gitárra írt számok pedig ebben a műsorban igazán autentikusak. \nA belépőjegy ára: 6.900 Ft \nJegyek CSAK online kaphatók https://ticat.hu/hapax-attrakcio/lovasi-vac-2026-1054
URL:https://visitvac.hu/event/lovasi-egy-az-egybe-csak-maga/
LOCATION:Madách Imre Művelődési Központ\, Dr. Csányi László krt. 63.\, Vác\, 2600\, Magyarország
ATTACH;FMTTYPE=image/png:https://visitvac.hu/wp-content/uploads/2025/11/lovasi_0227.png
END:VEVENT
BEGIN:VEVENT
DTSTART;TZID=Europe/Budapest:20260301T080000
DTEND;TZID=Europe/Budapest:20260320T180000
DTSTAMP:20260424T180021
CREATED:20260206T151556Z
LAST-MODIFIED:20260206T151556Z
UID:10001433-1772352000-1774029600@visitvac.hu
SUMMARY:Váci Akvarell Ünnep 2026
DESCRIPTION:ALKOTÓI FELHÍVÁS\nVáci Akvarell Ünnep – 2026 \nNyílt akvarell festménypályázat és kiállítás \n  \nAz idén\, hagyományteremtő szándékkal életre hívott Váci Akvarell Ünnep – 2026 egy több elemből álló programsorozat. Az esemény egyik kiemelt programeleme egy alkotói pályázat. A Váci Akvarell Ünnep – 2026 a Madách Imre Művelődési Központ a Tragor Ignác Múzeum szakmai együttműködésével\, nyílt akvarell festménypályázatot hirdet „Vác és környéke metszetekben” címmel. \nA felhívás részeletei a múzeum oldalán olvasható: https://muzeumvac.hu/latogatas/akvarell-fesztival-vac/ \n  \nFELHÍVÁS \nVÁCI AKVARELL ÜNNEP – 2026 \nNyílt akvarell festménypályázat és kiállítás \nA Váci Akvarell Ünnep – 2026\, a Madách Imre Művelődési Központ\, valamint a Tragor Ignác Múzeum szakmai együttműködésével nyílt akvarell festménypályázatot hirdet „Vác és környéke metszetekben” címmel. A pályázatra amatőr alkotók jelentkezését várjuk\, akik akvarelljeiken keresztül szeretnék megmutatni Vác és térségének hangulatát: a város és a természet találkozását\, a Duna-part változó fényeit\, a Naszály vonulatát\, utcák\, terek\, kertek\, ligetek csendes történeteit. A pályaművek lehetnek konkrét látványok\, emlékek vagy benyomások\, de születhetnek szimbolikus\, hangulati vagy álomszerű víziók is – az akvarell technika sajátos könnyedségéhez igazodva. \nKapcsolódó kiállítási lehetőség \nA pályázat a 2026. évi Váci Tavaszi Fesztivál programjához kapcsolódik. A zsűri által kiválasztott alkotók lehetőséget kapnak a „Tavaszi szél vizet áraszt…” című\, műkedvelő alkotók bemutatkozását szolgáló kiállításon való részvételre\, amely a Váci Akvarell Ünnep – 2026 részeként valósul meg. A kiemelkedő\, akvarell technikával készült művek önálló kiállítási egységben kerülnek bemutatásra\, a zsűri pedig külön díjazásban részesíti a legjobb pályaműveket. \nKiállítás megnyitója: 2026. március 20. (péntek)\, 18.00 Madách Imre Művelődési Központ \nHelyszín: Emeleti Galéria \n  \nTéma \nVác és környéke akvarellen – a város és természeti környezetének kapcsolata szabadon értelmezve. Épített örökség\, városi részletek\, táj\, víz\, dombok\, évszakok\, hangulatok – minden\, ami Vácban és körülötte él. \nBeküldési határidő: 2026. március 1-8. között\, Madách Imre Művelődési Központ \nBeadás és zsűrizés rendje \n  \n1.JELENTKEZÉS \nBeküldési határidő: 2026. március 1–8. Digitális beadás esetén a pályaművek digitális formában (fotó vagy szkennelés) küldhetők be a kdg@mimk.vac.hu email címre. \n2. ZSŰRIZÉS \nA zsűri a beküldött munkák közül kiválasztja a kiállításon résztvevő alkotásokat. Az eredményt emailben küldik az alkotóknak 2026. március 11-ig. \n3. A KIVÁLASZTOTT MŰVEK EREDETIJÉNEK BEKÜLDÉSE \nA zsűri által beválogatott\, eredetileg digitálisan beküldött művek eredetijének beadása legkésőbb 2026. március 15-ig\, személyesen a Madách Imre Művelődési Központban\, vagy postai úton. \n4. KIÁLLÍTÁS ÉS EREDMÉNYHIRDETÉS \nA legjobb pályaművek kiállításon vesznek részt\, a zsűri kiválasztja a díjazott alkotásokat\, a díjak a kiállításon kerülnek átadásra 2026. március 20-án. \n  \nTechnika és méret \n• Technika: kizárólag akvarell \n• Méret: minimum A4 (210 × 297 mm)\, maximum 500 × 700 mm \n• A kiválasztott műveket keretezve\, paszpartuval kérjük beadni. \n• A művek hátoldalán kérjük feltüntetni: az alkotó nevét\, a mű címét\, méretét (mm-ben)\, elérhetőségét (email\, telefonszám) \n  \nPályázati feltételek \n• A pályázaton 16 éves kortól lehet részt venni \n• Egy alkotó 1–3 művel pályázhat \n• Részvételi díj nincs \n  \nDíjazás \nA zsűri által kiválasztott legkiemelkedőbb alkotásokat több kategóriában díjazzuk\, és bemutatjuk a Magyar Akvarell Művészek Klubja közösségi oldalán\, mint a Váci Akvarell Ünnep – 2026 díjazott művei. \n  \nNe hagyd ki a lehetőséget\, hogy akvarelljeiden keresztül megmutasd Vácot és környékét\, legyél részese a Váci Akvarell Ünnep – 2026 kiállításának! \nTovábbi információ: Koltai-Dietrich Gábor • kdg@mimk.vac.hu • +36 30 377 3337
URL:https://visitvac.hu/event/vaci-akvarell-unnep-2026/
LOCATION:Madách Imre Művelődési Központ\, Dr. Csányi László krt. 63.\, Vác\, 2600\, Magyarország
ATTACH;FMTTYPE=image/png:https://visitvac.hu/wp-content/uploads/2026/02/Akvarell-unnep_0301.png
END:VEVENT
BEGIN:VEVENT
DTSTART;TZID=Europe/Budapest:20260301T150000
DTEND;TZID=Europe/Budapest:20260301T160000
DTSTAMP:20260424T180021
CREATED:20260114T124340Z
LAST-MODIFIED:20260114T133902Z
UID:10001404-1772377200-1772380800@visitvac.hu
SUMMARY:Parlando Színház – Négyszögletű kerek erdő
DESCRIPTION:Zenés színházi előadás\nLázár Ervin műve nyomán\, Parlando Színház Társulata \nLázár Ervin mesejátékát tévéjáték\, könyv\, színházi formában is láthatta eddig több generáció. A mesés kis történet egy csodálatos\, meghatározhatatlan helyen játszódik. Szereplői barátok a szó legnemesebb értelmében\,csupa kedves lény\,akik a Négyszögletű Kerek Erdőben együtt töltik az idejüket\,BrucknerSzigrid\, a hencegő oroszlán\, Aromó\, a fékezhetetlen agyvelejű nyúl\, Vacskamati\, a nemtörődöm macska\, Mikkamakka\, a „bandavezér”\, Nagy Zoárd\, a lépkedő fenyőfa\, Ló Szerafin\, a kéksörényű csoda.A történet humoros jelenetekkel tarkítottan szól a barátságról\, a segítőkészségről\, a szeretetről\, s közben a nézőket odavarázsolja a nem létező mesebirodalomba\, a Négyszögletű Kerek Erdőbe\, ahol mégiscsak győz a jó\, a félelem itt kacagásba fullad\, a nemből igen\, a hidegből meleg\, a spenótból palacsinta lesz. \nZenei-művészeti vezető: Dónusz Katalin \nKoreográfusok: Bakó Gábor\, Steidl Anita\, Kovács Róbert \nRendező\, színpadra alkalmazta: Kovács Róbert \nJegyár: 2500 Ft\nJegyek jegypénztárunkban hamarosan kaphatók! \nTámogatónk: Vác Város Önkormányzat
URL:https://visitvac.hu/event/parlando-szinhaz-negyszogletu-kerek-erdo/2026-03-01/
LOCATION:Madách Imre Művelődési Központ\, Dr. Csányi László krt. 63.\, Vác\, 2600\, Magyarország
ATTACH;FMTTYPE=image/png:https://visitvac.hu/wp-content/uploads/2026/01/negyszogletu_0301.png
END:VEVENT
END:VCALENDAR