BEGIN:VCALENDAR
VERSION:2.0
PRODID:-//Visitvac - ECPv6.15.20//NONSGML v1.0//EN
CALSCALE:GREGORIAN
METHOD:PUBLISH
X-ORIGINAL-URL:https://visitvac.hu
X-WR-CALDESC:Események Visitvac
REFRESH-INTERVAL;VALUE=DURATION:PT1H
X-Robots-Tag:noindex
X-PUBLISHED-TTL:PT1H
BEGIN:VTIMEZONE
TZID:Europe/Budapest
BEGIN:DAYLIGHT
TZOFFSETFROM:+0100
TZOFFSETTO:+0200
TZNAME:CEST
DTSTART:20250330T010000
END:DAYLIGHT
BEGIN:STANDARD
TZOFFSETFROM:+0200
TZOFFSETTO:+0100
TZNAME:CET
DTSTART:20251026T010000
END:STANDARD
BEGIN:DAYLIGHT
TZOFFSETFROM:+0100
TZOFFSETTO:+0200
TZNAME:CEST
DTSTART:20260329T010000
END:DAYLIGHT
BEGIN:STANDARD
TZOFFSETFROM:+0200
TZOFFSETTO:+0100
TZNAME:CET
DTSTART:20261025T010000
END:STANDARD
BEGIN:DAYLIGHT
TZOFFSETFROM:+0100
TZOFFSETTO:+0200
TZNAME:CEST
DTSTART:20270328T010000
END:DAYLIGHT
BEGIN:STANDARD
TZOFFSETFROM:+0200
TZOFFSETTO:+0100
TZNAME:CET
DTSTART:20271031T010000
END:STANDARD
END:VTIMEZONE
BEGIN:VEVENT
DTSTART;TZID=Europe/Budapest:20260127T080000
DTEND;TZID=Europe/Budapest:20260316T150000
DTSTAMP:20260424T124353
CREATED:20260206T145023Z
LAST-MODIFIED:20260206T145124Z
UID:10001428-1769500800-1773673200@visitvac.hu
SUMMARY:Nagy B. István Képzőművész Stúdió kiállítása
DESCRIPTION:Kiállítás\nFalusi Bence\nHársfalvi Gabriella\nKovács Mária\nKrisztbaum Mónika\nLövész Kornélia\nMucsi Erika\nSzabó Alexandra \nStúdió vezető: Koltai – Dietrich Gábor festőművész \nHelyszín: Ablak galéria
URL:https://visitvac.hu/event/nagy-b-istvan-kepzomuvesz-studio-kiallitasa/
LOCATION:Madách Imre Művelődési Központ\, Dr. Csányi László krt. 63.\, Vác\, 2600\, Magyarország
ATTACH;FMTTYPE=image/png:https://visitvac.hu/wp-content/uploads/2026/02/Nagy-B_Istvan_0127.png
END:VEVENT
BEGIN:VEVENT
DTSTART;TZID=Europe/Budapest:20260220T180000
DTEND;TZID=Europe/Budapest:20260405T180000
DTSTAMP:20260424T124353
CREATED:20260219T115140Z
LAST-MODIFIED:20260219T115255Z
UID:10001452-1771610400-1775412000@visitvac.hu
SUMMARY:Grisanceva Szvetlana kiállítása
DESCRIPTION:A gyapjú korlátlan lehetőségei\nMegnyitó ünnepség: 2026.02.20. 18 óra \nKiállítást megnyitja: mekkey karikátor péter \nKözreműködik: Tóth Benedek gitárművész \nHelyszín: Kávézó Galéria
URL:https://visitvac.hu/event/grisanceva-szvetlana-kiallitasa/
LOCATION:Madách Imre Művelődési Központ\, Dr. Csányi László krt. 63.\, Vác\, 2600\, Magyarország
ATTACH;FMTTYPE=image/png:https://visitvac.hu/wp-content/uploads/2026/02/Grisanceva-Szvetlana_0220.png
END:VEVENT
BEGIN:VEVENT
DTSTART;TZID=Europe/Budapest:20260301T080000
DTEND;TZID=Europe/Budapest:20260320T180000
DTSTAMP:20260424T124353
CREATED:20260206T151556Z
LAST-MODIFIED:20260206T151556Z
UID:10001433-1772352000-1774029600@visitvac.hu
SUMMARY:Váci Akvarell Ünnep 2026
DESCRIPTION:ALKOTÓI FELHÍVÁS\nVáci Akvarell Ünnep – 2026 \nNyílt akvarell festménypályázat és kiállítás \n  \nAz idén\, hagyományteremtő szándékkal életre hívott Váci Akvarell Ünnep – 2026 egy több elemből álló programsorozat. Az esemény egyik kiemelt programeleme egy alkotói pályázat. A Váci Akvarell Ünnep – 2026 a Madách Imre Művelődési Központ a Tragor Ignác Múzeum szakmai együttműködésével\, nyílt akvarell festménypályázatot hirdet „Vác és környéke metszetekben” címmel. \nA felhívás részeletei a múzeum oldalán olvasható: https://muzeumvac.hu/latogatas/akvarell-fesztival-vac/ \n  \nFELHÍVÁS \nVÁCI AKVARELL ÜNNEP – 2026 \nNyílt akvarell festménypályázat és kiállítás \nA Váci Akvarell Ünnep – 2026\, a Madách Imre Művelődési Központ\, valamint a Tragor Ignác Múzeum szakmai együttműködésével nyílt akvarell festménypályázatot hirdet „Vác és környéke metszetekben” címmel. A pályázatra amatőr alkotók jelentkezését várjuk\, akik akvarelljeiken keresztül szeretnék megmutatni Vác és térségének hangulatát: a város és a természet találkozását\, a Duna-part változó fényeit\, a Naszály vonulatát\, utcák\, terek\, kertek\, ligetek csendes történeteit. A pályaművek lehetnek konkrét látványok\, emlékek vagy benyomások\, de születhetnek szimbolikus\, hangulati vagy álomszerű víziók is – az akvarell technika sajátos könnyedségéhez igazodva. \nKapcsolódó kiállítási lehetőség \nA pályázat a 2026. évi Váci Tavaszi Fesztivál programjához kapcsolódik. A zsűri által kiválasztott alkotók lehetőséget kapnak a „Tavaszi szél vizet áraszt…” című\, műkedvelő alkotók bemutatkozását szolgáló kiállításon való részvételre\, amely a Váci Akvarell Ünnep – 2026 részeként valósul meg. A kiemelkedő\, akvarell technikával készült művek önálló kiállítási egységben kerülnek bemutatásra\, a zsűri pedig külön díjazásban részesíti a legjobb pályaműveket. \nKiállítás megnyitója: 2026. március 20. (péntek)\, 18.00 Madách Imre Művelődési Központ \nHelyszín: Emeleti Galéria \n  \nTéma \nVác és környéke akvarellen – a város és természeti környezetének kapcsolata szabadon értelmezve. Épített örökség\, városi részletek\, táj\, víz\, dombok\, évszakok\, hangulatok – minden\, ami Vácban és körülötte él. \nBeküldési határidő: 2026. március 1-8. között\, Madách Imre Művelődési Központ \nBeadás és zsűrizés rendje \n  \n1.JELENTKEZÉS \nBeküldési határidő: 2026. március 1–8. Digitális beadás esetén a pályaművek digitális formában (fotó vagy szkennelés) küldhetők be a kdg@mimk.vac.hu email címre. \n2. ZSŰRIZÉS \nA zsűri a beküldött munkák közül kiválasztja a kiállításon résztvevő alkotásokat. Az eredményt emailben küldik az alkotóknak 2026. március 11-ig. \n3. A KIVÁLASZTOTT MŰVEK EREDETIJÉNEK BEKÜLDÉSE \nA zsűri által beválogatott\, eredetileg digitálisan beküldött művek eredetijének beadása legkésőbb 2026. március 15-ig\, személyesen a Madách Imre Művelődési Központban\, vagy postai úton. \n4. KIÁLLÍTÁS ÉS EREDMÉNYHIRDETÉS \nA legjobb pályaművek kiállításon vesznek részt\, a zsűri kiválasztja a díjazott alkotásokat\, a díjak a kiállításon kerülnek átadásra 2026. március 20-án. \n  \nTechnika és méret \n• Technika: kizárólag akvarell \n• Méret: minimum A4 (210 × 297 mm)\, maximum 500 × 700 mm \n• A kiválasztott műveket keretezve\, paszpartuval kérjük beadni. \n• A művek hátoldalán kérjük feltüntetni: az alkotó nevét\, a mű címét\, méretét (mm-ben)\, elérhetőségét (email\, telefonszám) \n  \nPályázati feltételek \n• A pályázaton 16 éves kortól lehet részt venni \n• Egy alkotó 1–3 művel pályázhat \n• Részvételi díj nincs \n  \nDíjazás \nA zsűri által kiválasztott legkiemelkedőbb alkotásokat több kategóriában díjazzuk\, és bemutatjuk a Magyar Akvarell Művészek Klubja közösségi oldalán\, mint a Váci Akvarell Ünnep – 2026 díjazott művei. \n  \nNe hagyd ki a lehetőséget\, hogy akvarelljeiden keresztül megmutasd Vácot és környékét\, legyél részese a Váci Akvarell Ünnep – 2026 kiállításának! \nTovábbi információ: Koltai-Dietrich Gábor • kdg@mimk.vac.hu • +36 30 377 3337
URL:https://visitvac.hu/event/vaci-akvarell-unnep-2026/
LOCATION:Madách Imre Művelődési Központ\, Dr. Csányi László krt. 63.\, Vác\, 2600\, Magyarország
ATTACH;FMTTYPE=image/png:https://visitvac.hu/wp-content/uploads/2026/02/Akvarell-unnep_0301.png
END:VEVENT
BEGIN:VEVENT
DTSTART;TZID=Europe/Budapest:20260306T180000
DTEND;TZID=Europe/Budapest:20260415T160000
DTSTAMP:20260424T124353
CREATED:20260317T090033Z
LAST-MODIFIED:20260317T090033Z
UID:10001498-1772820000-1776268800@visitvac.hu
SUMMARY:Zagyvai Noémi kiállítása
DESCRIPTION:Megnyitó ünnepség: március 6. 18 óra\nKiállítást megnyitja: Gömör Kata festőművész\nSaját verseit előadja: Vadóc Palóc (Babik Erzsébet) \nHelyszín: Átrium Galéria
URL:https://visitvac.hu/event/zagyvai-noemi-kiallitasa/
LOCATION:Madách Imre Művelődési Központ\, Dr. Csányi László krt. 63.\, Vác\, 2600\, Magyarország
ATTACH;FMTTYPE=image/png:https://visitvac.hu/wp-content/uploads/2026/03/zagyvai-noemi-kiallitasa_0306.png
END:VEVENT
BEGIN:VEVENT
DTSTART;TZID=Europe/Budapest:20260316T100000
DTEND;TZID=Europe/Budapest:20260316T110000
DTSTAMP:20260424T124353
CREATED:20260114T124340Z
LAST-MODIFIED:20260114T133902Z
UID:10001409-1773655200-1773658800@visitvac.hu
SUMMARY:Parlando Színház – Négyszögletű kerek erdő
DESCRIPTION:Zenés színházi előadás\nLázár Ervin műve nyomán\, Parlando Színház Társulata \nLázár Ervin mesejátékát tévéjáték\, könyv\, színházi formában is láthatta eddig több generáció. A mesés kis történet egy csodálatos\, meghatározhatatlan helyen játszódik. Szereplői barátok a szó legnemesebb értelmében\,csupa kedves lény\,akik a Négyszögletű Kerek Erdőben együtt töltik az idejüket\,BrucknerSzigrid\, a hencegő oroszlán\, Aromó\, a fékezhetetlen agyvelejű nyúl\, Vacskamati\, a nemtörődöm macska\, Mikkamakka\, a „bandavezér”\, Nagy Zoárd\, a lépkedő fenyőfa\, Ló Szerafin\, a kéksörényű csoda.A történet humoros jelenetekkel tarkítottan szól a barátságról\, a segítőkészségről\, a szeretetről\, s közben a nézőket odavarázsolja a nem létező mesebirodalomba\, a Négyszögletű Kerek Erdőbe\, ahol mégiscsak győz a jó\, a félelem itt kacagásba fullad\, a nemből igen\, a hidegből meleg\, a spenótból palacsinta lesz. \nZenei-művészeti vezető: Dónusz Katalin \nKoreográfusok: Bakó Gábor\, Steidl Anita\, Kovács Róbert \nRendező\, színpadra alkalmazta: Kovács Róbert \nJegyár: 2500 Ft\nJegyek jegypénztárunkban hamarosan kaphatók! \nTámogatónk: Vác Város Önkormányzat
URL:https://visitvac.hu/event/parlando-szinhaz-negyszogletu-kerek-erdo/2026-03-16/
LOCATION:Madách Imre Művelődési Központ\, Dr. Csányi László krt. 63.\, Vác\, 2600\, Magyarország
ATTACH;FMTTYPE=image/png:https://visitvac.hu/wp-content/uploads/2026/01/negyszogletu_0301.png
END:VEVENT
BEGIN:VEVENT
DTSTART;TZID=Europe/Budapest:20260316T160000
DTEND;TZID=Europe/Budapest:20260412T180000
DTSTAMP:20260424T124353
CREATED:20260206T152517Z
LAST-MODIFIED:20260206T152517Z
UID:10001435-1773676800-1776016800@visitvac.hu
SUMMARY:Tojásdíszítők a Dunakanyarban 2026
DESCRIPTION:Kiállítás\nKiállítók:\nKiállítás Szabó Henrietta\, Nagymaros\,\nOrr Emma Ida\, Nagymaros\,\nDobson Zsófia\, Tolmács\,\nMarkó Judit\, Göd\,\nSzarvas Katalin népi iparművész\, Dunakeszi\,\nKicsák Virág\, Nőtincs\nFilamella Edit népi iparművész\, Nőtincs\nmunkáiból \nA kiállítás ingyenesen látogatható a Művelődési Központ nyitvatartási idejében! \nHelyszín: Aula
URL:https://visitvac.hu/event/tojasdiszitok-a-dunakanyarban-2026/
LOCATION:Madách Imre Művelődési Központ\, Dr. Csányi László krt. 63.\, Vác\, 2600\, Magyarország
ATTACH;FMTTYPE=image/png:https://visitvac.hu/wp-content/uploads/2026/02/tojasdiszitok_0316.png
END:VEVENT
BEGIN:VEVENT
DTSTART;TZID=Europe/Budapest:20260318T180000
DTEND;TZID=Europe/Budapest:20260318T193000
DTSTAMP:20260424T124353
CREATED:20260309T123425Z
LAST-MODIFIED:20260309T123602Z
UID:10001481-1773856800-1773862200@visitvac.hu
SUMMARY:Buborékok - interaktív beszélgetés
DESCRIPTION:Beszélgetés Al Ghaoui Hesnával\, Molnár Áronnal és Fábián Tamással \nMi történik\, ha kilépünk a saját buborékunkból? \nVagy ha belépnek a miénkbe?\nA Buborékok a Loupe új beszélgetős formátuma\, ahol Molnár Áron színész\, aktivista\, Al Ghaoui Hesna író\, riporter\, reziliencia tréner és Fábián Tamás újságíró közösen gondolkodnak\, kérdeznek\, vitáznak – és bevonnak titeket is.\nKiindulópontként az Árvák és a Becsapódás előadásaink által felvetett kérdések szolgálnak\, de a beszélgetés messze nem marad a színpadon.\nSzó lesz\n– a félelem természetéről: hogyan működik\, hogyan használják ellenünk\, és hogyan befolyásolja a döntéseinket;\n– információról és dezinformációról: hol keressük az igazságot az álhírek zajában\, és mi alapján döntjük el\, miben hiszünk;\n– a komfortzónából való kilépésről: arról a pillanatról\, amikor el kell hagyni a járt utat – és arról\, mi jön utána.\nA Buborékok nem kész válaszokat ígér\, hanem közös gondolkodást.\nKérdéseket\, személyes nézőpontokat\, és azt a ritka helyzetet\, amikor tényleg meg lehet állni\, és újraértékelni: miben élünk\, miben hiszünk\, mitől és miért félünk – és kinek állhat a félelmünk az érdekében.\nEz egy beszélgetés. Velünk. És veletek. Buborékokon innen és túl.\n  \n\nJegyár: 7490 Ft
URL:https://visitvac.hu/event/buborekok/
LOCATION:Váci Dunakanyar Színház\, Dr. Csányi László krt. 58.\, Vác\, 2600\, Magyarország
ATTACH;FMTTYPE=image/jpeg:https://visitvac.hu/wp-content/uploads/2026/03/Buborekok_0318.jpg
END:VEVENT
BEGIN:VEVENT
DTSTART;TZID=Europe/Budapest:20260319T190000
DTEND;TZID=Europe/Budapest:20260319T210000
DTSTAMP:20260424T124353
CREATED:20260107T105644Z
LAST-MODIFIED:20260107T105644Z
UID:10001397-1773946800-1773954000@visitvac.hu
SUMMARY:Koncz Zsuzsa koncert
DESCRIPTION:Amanda Fine Media bemutatja\nKoncz Zsuzsa igazi állócsillag a magyar popzene egén – dalai évtizedek óta szólnak mindannyiunkhoz\, mindig aktuálisan\, mindig a mához kapcsolódva. Nem csupán legenda\, hanem élő\, közvetlen és őszinte előadó\, aki koncertjein most is ugyanazzal a szenvedéllyel és hitelességgel énekel\, mint pályája kezdetén. \nA váci közönség most egy felejthetetlen estére készülhet\, ahol felcsendülnek a régi\, nagy kedvencek és az új dalok is – mindazok\, amelyek miatt Koncz Zsuzsa a magyar zenei élet egyik legnagyobb ikonja lett. \nEgy est\, amely tele lesz érzelemmel\, emlékekkel és örök érvényű üzenetekkel – Koncz Zsuzsa dalai újra összekötnek minket. \nA Szervező és a Produkció fenntartja a jogot mindennemű változtatással kapcsolatban. \nJegyár: 14.900 Ft\nJegyek jegypénztárunkban kizárólag készpénzzel fizethetők!\nOnline jegyvásárlás: https://amanda.jegyx1.hu/esemeny/10461/koncz-zsuzsa-koncert-vac/2026-03-19-19-00
URL:https://visitvac.hu/event/koncz-zsuzsa-koncert/
LOCATION:Madách Imre Művelődési Központ\, Dr. Csányi László krt. 63.\, Vác\, 2600\, Magyarország
ATTACH;FMTTYPE=image/png:https://visitvac.hu/wp-content/uploads/2026/01/Koncz_Zsuzsa_0319.png
END:VEVENT
BEGIN:VEVENT
DTSTART;TZID=Europe/Budapest:20260320T160000
DTEND;TZID=Europe/Budapest:20260320T170000
DTSTAMP:20260424T124353
CREATED:20260218T111206Z
LAST-MODIFIED:20260218T111206Z
UID:10001446-1774022400-1774026000@visitvac.hu
SUMMARY:Akvarell kiállítás megnyitó
DESCRIPTION:2026. március 20-án a Váci Tavaszi Fesztivál keretében „Kortárs vízjelek – akvarell variációk” címmel reprezentatív kiállítás nyílik a Tragor Ignác Múzeum székhelyén\, az Elefántos házban. A tárlat alkotóművészei az akvarell kifinomult\, légies technikáján keresztül idézik meg a természeti tájak szépségét és hétköznapi valóságunk időtlen pillanatait.
URL:https://visitvac.hu/event/akvarell-kiallitas-megnyito/
LOCATION:Elefántos Ház\, Március 15. tér 23.\, Vác\, Pest\, 2600\, Magyarország
ATTACH;FMTTYPE=image/avif:https://visitvac.hu/wp-content/uploads/2026/02/Akvarell-kiallitas_0320.avif
ORGANIZER;CN="Tragor Ign%C3%A1c M%C3%BAzeum":MAILTO:info@muzeumvac.hu
END:VEVENT
BEGIN:VEVENT
DTSTART;TZID=Europe/Budapest:20260321T180000
DTEND;TZID=Europe/Budapest:20260321T200000
DTSTAMP:20260424T124353
CREATED:20260107T093608Z
LAST-MODIFIED:20260107T093608Z
UID:10001386-1774116000-1774123200@visitvac.hu
SUMMARY:Zerkovitz-Topolcsányi: Orfeum hercegnő // Mosoly Muzsika Produkció
DESCRIPTION:Szereplők: Nagy Ibolya\, Csengeri Attila\, Kovács Szilárd\, Pacskó Dorka/Bégány Csenge/Unger Vanda (vacidunakanyarszinhaz.jegy.hu-s előadás // jegyek online // Tourinform Irodákban // Előadás előtt 1 órával a színházban) \n  \nMi történik\, ha egy legendás pesti primadonna\, aki már rég maga mögött hagyta a rivaldafényt\, váratlanul visszatér – és a főváros kifordul önmagából? A válasz: ORFEUM HERCEGNŐ – a Mosoly Muzsika Produkció harmadik országos bemutatója. \nEgy vadonatúj magyar operett\, amely a Royal Orfeum csillogó világába repít vissza\, ahol a szerelem illata keveredik a pezsgő buborékaival\, és minden sarkon egy sláger leselkedik. Alfonza\, az egykori ünnepelt primadonna\, a vidéki kúria csendes gazdaságában éli életét – egészen addig\, míg a sors vissza nem sodorja a pesti éjszaka pezsgő\, fényes forgatagába. És ha már ott van – meghódít férfiszíveket\, felborít szerelmi viszonyokat\, és útjára indít egy bűbájos fiatal szerelmet… És ha ez nem lenne elég\, Zerkovitz Béla is megérkezik – ahogy csak ő tud: dalban\, humorban\, zsenialitásban. \nCsendülnek a legismertebb Zerkovitz-slágerek – frissen\, élőn\, új köntösben: \nÉjjel az omnibusz tetején • Mi muzsikus lelkek\, mi bohém fiúk • Asszonykám\, adj egy kis kimenőt • Los Angeles ( A csókos Pest ) • Kár itt minden dumáért – és még sok meglepetés! \nSZEREPLŐK:\nNAGY IBOLYA – Déryné-díjas operettprimadonna\, a Dankó Rádió alapító műsorvezetője\nCSENGERI ATTILA – eMeRTon-díjas színész\, Az Operaház Fantomja címszereplője\,\nValamint hármas szereposztásban: PACSKÓ DORKA – a Madách Színház művésze\, musical és operett színésznő\, szubrett/ UNGER VANDA – tüneményes színésznő\, szubrett / BÉKÁNY CSENGE – opera- és operettszubrett.\nKOVÁCS SZILÁRD – táncos-komikus\, az Operettszínház és a Madách Színház vendégművésze\nTörténet: Topolcsányi Laura\nZene: Zerkovitz Béla örök dallamai \nA Mosoly Muzsika Produkció harmadik országos bemutatója! \nTársulatunk célja\, hogy új magyar operettekkel írjuk tovább azt a történetet\, amit Lehár\, Kálmán és Zerkovitz elkezdtek.\nMert hisszük: az operett nem csak a múlt! A mosoly\, a zene\, és a könnyed elegancia nem megy ki a divatból.\nSZLOGENÜNK: ORFEUM HERCEGNŐ – a pesti éjszaka új csillaga. Egy este – ami örökre megmarad. \nJegyár: 5400 Ft
URL:https://visitvac.hu/event/zerkovitz-topolcsanyi-orfeum-hercegno-mosoly-muzsika-produkcio/
LOCATION:Váci Dunakanyar Színház\, Dr. Csányi László krt. 58.\, Vác\, 2600\, Magyarország
ATTACH;FMTTYPE=image/jpeg:https://visitvac.hu/wp-content/uploads/2026/01/Orfeum_0321.jpg
END:VEVENT
BEGIN:VEVENT
DTSTART;TZID=Europe/Budapest:20260321T190000
DTEND;TZID=Europe/Budapest:20260321T203000
DTSTAMP:20260424T124353
CREATED:20260107T110213Z
LAST-MODIFIED:20260107T110735Z
UID:10001398-1774119600-1774125000@visitvac.hu
SUMMARY:Freddie – Lélekbúvár koncert
DESCRIPTION:Fehérvári Gábor Alfréd\nLélekbúvár turné \nMotiváció a mindennapokban\, fény a sötétségben\, mely vezet\, ha engeded\, ha táplálod\, ha megbízol benne. Ha bízol magadban. \nHiszen Te MAGad vagy a belső tűz.\nDe ki vagy Te? \nÉn megmutatom Nektek ki vagyok\, dalokkal\, versekkel\, gondolatokkal\, hogy segíthessek felismerni azt\, hogy Ti kik vagytok\, s ami ugyanennyire fontos: Kik nem! \nLélekbúvár – Belső Tűz \nFehérvári Gábor Alfréd\, Freddie \nFreddie egy tehetségkutatót követően Mary Joe című dalával robbant be a köztudatba 2015-ben\, ezt követően Pioneer című slágerével megnyerte A Dal című előválogató műsort\, ezzel megszerezve a jogot\, hogy hazánkat képviselje a 63. Euróvíziós Dalfesztiválon Stockholmban 2016-ban.\nŐ lett az év legsokoldalúbb előadója\, miután elsöprő sikert aratott a Sztárban Sztár 2018-as évadában. 2024-ben megnyerte a Csináljuk a fesztivált! című televíziós műsort. 2024-ben az ÉV ÉNEKESE! \n• InStyle Style Award – Fiatal tehetség (2016)\n• Petőfi Zenei Díj – Az év felfedezettje (2016)\n• VIVA Comet – A legjobb dal (2016)\n• Instyle Style Award – Legstílusosabb férfi (2017)\n• Playboy man of the year – Az év előadóművésze (2019)\n• Petőfi Zenei Díj – Az év férfi előadója (2024) \nJegyára: 9990 Ft\nJegyek jegypénztárunkban kizárólag készpénzzel fizethetők! \nOnline jegyvásárlás:https://www.jegy.hu/program/freddie-lelekbuvar-belso-tuz-184086/1356161
URL:https://visitvac.hu/event/freddie-lelekbuvar-koncert/
LOCATION:Madách Imre Művelődési Központ\, Dr. Csányi László krt. 63.\, Vác\, 2600\, Magyarország
ATTACH;FMTTYPE=image/png:https://visitvac.hu/wp-content/uploads/2026/01/Freddie_0321.png
END:VEVENT
BEGIN:VEVENT
DTSTART;TZID=Europe/Budapest:20260321T190000
DTEND;TZID=Europe/Budapest:20260321T210000
DTSTAMP:20260424T124353
CREATED:20260107T111537Z
LAST-MODIFIED:20260107T111537Z
UID:10001399-1774119600-1774126800@visitvac.hu
SUMMARY:Lel-Tár Klub
DESCRIPTION:Klubest\nMárciusi vendégünk a kétszeres Kossuth-díjas magyar zeneszerző\, előadóművész\, zenész\, aki a Kaláka együttes tagja:\nRADVÁNYI BALÁZS\n1957-től 1965-ig a Kodály Zoltán alapította Lorántffy Zsuzsanna Zenei Általános Iskolába járt\, ahol az ott folyó zenei nevelést a mester személyesen ellenőrizte. 1965-től 1969-ig a Kvassay Jenő Híd-és Vízműépítő Technikumban tanult\, utána a Budapesti Műszaki Egyetem Felsőgeodézia Tanszékén dolgozott\, és 1976-ban földmérő mérnöki diplomát szerzett ugyanezen az egyetemen. Közben a zenével sem szakadt meg a kapcsolata\, az Építők aranykoszorús vegyeskarában énekelt\, csellózni és gitározni tanult.\n1970-től az 1969 novemberében megalakult Kaláka együttes tagja.\n„Fél évvel a kezdetek után csatlakoztam a fiúkhoz. Kellett nekik egy csellista\, aki énekelni is tud\, én meg Mikó Pista osztálytársa voltam\, korábban zenéltünk is együtt\, így adódott\, hogy megkeresett ’70 júniusában. Magnóra vettük a dalokat\, megtanultam\, s már én is velük pengettem.”[3]\n1993-ig a zenélés mellett a Budapesti Műszaki Egyetem Felsőgeodéziai Tanszékén is dolgozott. 1996-tól 2000-ig a Krónikás Ének-Zeneiskola gitáros-énekeseinek tanáraként tevékenykedett\, többek között az ő inspirálására megalakult Misztrál együttes tagjait is tanította. 2005-ben megalapította a Dalnokklubbot\, amely a budapesti Klebelsberg Kultúrkúriában azóta is folyamatosan működik.\nTöbbek között ezeken a hangszereken játszik: mandolin\, 12 húros gitár\, ukulele\, cuatro\, brácsa\, kalimba.\nSzerzőként és előadóként több mint 50 hanghordozón jelent meg.\nÖnálló kiadványai\nKaláka suite (1999): Radványi Balázs szerzeményei ének nélkül\nTiki Tiki Timbó (2004): Dalok\, nyelvtörők\, zenével illusztrált mesék\nA londoni mackók (2006): Tóth Krisztina gyermekversei\, a Radványi-Balog-Borzsák Trió zenei kíséretével\nTölgyből van a fakutya (2009): Nagy Bandó András saját verseit énekli\, Radványi Balázs zenéjére\, a Kaláka kíséretével\nFilm- és színházi zenék\nA Magyar Népmesék\, valamint a Mesék Mátyás királyról és a Mondák a magyar történelemből rajzfilmsorozat számos epizódjának zeneszerzője.\nA 2022-ben bemutatott Az unoka című film nyitó táncjelenetében hallható Mit titkolod? szerzője\, a rendező\, Deák Kristóf kérésére.\nVarró Dániel költővel közös műsora az Akinek a kedve dalos címet viseli\, amelyet rendszeresen előadnak a budapesti Puskin Moziban.\n2003 óta folyamatosan látható a Madách Színház műsorán A négyszögletű kerek erdő\, avagy a játéknak soha nincs vége\, Lázár Ervin mesejátéka. Ennek dalbetéteit és kísérőzenéit szerezte.\nA Kukamese Archiválva 2022. január 17-i dátummal a Wayback Machine-ben című\, a környezettudatos magatartásról szóló zenés mesejáték zeneszerzője\nFontosabb díjai\, elismerései:\nMagyar Köztársasági Arany Érdemkereszt (1994)\nBudapestért díj (1994)\nMagyar Művészetért díj (1999)\nKossuth-díj (2000 és 2020\, csoportos)\neMeRTon-díj (2003)\nPro Urbe Miskolc díj (2004)\nPrima Primissima díj (2004)\nFonogram – Magyar Zenei Díj – „Kaláka – Szabó Lőrinc” – az év hazai nép- vagy világzenei albuma (2013)\nMagyar Örökség díj (2014) \nBelépés ingyenes! \nHelyszín: Kamaraterem
URL:https://visitvac.hu/event/lel-tar-klub-2/
LOCATION:Madách Imre Művelődési Központ\, Dr. Csányi László krt. 63.\, Vác\, 2600\, Magyarország
ATTACH;FMTTYPE=image/png:https://visitvac.hu/wp-content/uploads/2026/01/Lel-tar_klub_0321.png
END:VEVENT
END:VCALENDAR