BEGIN:VCALENDAR
VERSION:2.0
PRODID:-//Visitvac - ECPv6.15.20//NONSGML v1.0//EN
CALSCALE:GREGORIAN
METHOD:PUBLISH
X-WR-CALNAME:Visitvac
X-ORIGINAL-URL:https://visitvac.hu
X-WR-CALDESC:Események Visitvac
REFRESH-INTERVAL;VALUE=DURATION:PT1H
X-Robots-Tag:noindex
X-PUBLISHED-TTL:PT1H
BEGIN:VTIMEZONE
TZID:Europe/Budapest
BEGIN:DAYLIGHT
TZOFFSETFROM:+0100
TZOFFSETTO:+0200
TZNAME:CEST
DTSTART:20250330T010000
END:DAYLIGHT
BEGIN:STANDARD
TZOFFSETFROM:+0200
TZOFFSETTO:+0100
TZNAME:CET
DTSTART:20251026T010000
END:STANDARD
BEGIN:DAYLIGHT
TZOFFSETFROM:+0100
TZOFFSETTO:+0200
TZNAME:CEST
DTSTART:20260329T010000
END:DAYLIGHT
BEGIN:STANDARD
TZOFFSETFROM:+0200
TZOFFSETTO:+0100
TZNAME:CET
DTSTART:20261025T010000
END:STANDARD
BEGIN:DAYLIGHT
TZOFFSETFROM:+0100
TZOFFSETTO:+0200
TZNAME:CEST
DTSTART:20270328T010000
END:DAYLIGHT
BEGIN:STANDARD
TZOFFSETFROM:+0200
TZOFFSETTO:+0100
TZNAME:CET
DTSTART:20271031T010000
END:STANDARD
END:VTIMEZONE
BEGIN:VEVENT
DTSTART;TZID=Europe/Budapest:20260306T180000
DTEND;TZID=Europe/Budapest:20260415T160000
DTSTAMP:20260424T043802
CREATED:20260317T090033Z
LAST-MODIFIED:20260317T090033Z
UID:10001498-1772820000-1776268800@visitvac.hu
SUMMARY:Zagyvai Noémi kiállítása
DESCRIPTION:Megnyitó ünnepség: március 6. 18 óra\nKiállítást megnyitja: Gömör Kata festőművész\nSaját verseit előadja: Vadóc Palóc (Babik Erzsébet) \nHelyszín: Átrium Galéria
URL:https://visitvac.hu/event/zagyvai-noemi-kiallitasa/
LOCATION:Madách Imre Művelődési Központ\, Dr. Csányi László krt. 63.\, Vác\, 2600\, Magyarország
ATTACH;FMTTYPE=image/png:https://visitvac.hu/wp-content/uploads/2026/03/zagyvai-noemi-kiallitasa_0306.png
END:VEVENT
BEGIN:VEVENT
DTSTART;TZID=Europe/Budapest:20260402T080000
DTEND;TZID=Europe/Budapest:20260419T170000
DTSTAMP:20260424T043802
CREATED:20260218T134627Z
LAST-MODIFIED:20260218T134627Z
UID:10001448-1775116800-1776618000@visitvac.hu
SUMMARY:A szeretet több a hitnél – Pilinszky kiállítás
DESCRIPTION:Kiállítás\nA kiállítás nem hagyományos értelembe vett irodalomtörténeti pályaképet kíván nyújtani\, hanem a\nköltő életművét és a legfontosabb\, mindannyiunkat egyaránt érintő témáit mutatja be: Isten\,\nszeretet\, hit\, részvét\, szenvedés\, a koncentrációs táborok botránya\, a megváltásra váró bűn. A témák\nfeldolgozása során Pilinszky idézetekből\, valamint kevéssé ismert prózai szövegekből került ki a\nválogatás oly módon\, hogy azok a mai látogató számára is aktuálisak\, érvényesek és emlékezetesek\nlegyenek. \nA kiállítás Vecsei H. Miklós & a QJÚB „A kocka kibontása” című Pilinszky előadás napján nyílik.\nMegtekinthető: április 2 – 19-ig. \nHelyszín: MIMK Aula \nA belépés díjtalan!
URL:https://visitvac.hu/event/a-szeretet-tobb-a-hitnel-pilinszky-kiallitas/
LOCATION:Madách Imre Művelődési Központ\, Dr. Csányi László krt. 63.\, Vác\, 2600\, Magyarország
ATTACH;FMTTYPE=image/png:https://visitvac.hu/wp-content/uploads/2026/02/Pilinszky-kiallitas_0402.png
END:VEVENT
BEGIN:VEVENT
DTSTART;TZID=Europe/Budapest:20260413T190000
DTEND;TZID=Europe/Budapest:20260413T203000
DTSTAMP:20260424T043802
CREATED:20260114T142814Z
LAST-MODIFIED:20260114T142814Z
UID:10001415-1776106800-1776112200@visitvac.hu
SUMMARY:Somogyi András ÚJ önálló estje!
DESCRIPTION:Kölcsön Arcok \nSomogyi András legújabb\, paródiákkal színesített stand up comedy előadása! \nJegyár: 8990 Ft\nOnline jegyvásárlás: https://www.tixa.hu/vac-somogyi-andras-40916\nJegyek kizárólag online kaphatók!
URL:https://visitvac.hu/event/somogyi-andras-uj-onallo-estje/
LOCATION:Madách Imre Művelődési Központ\, Dr. Csányi László krt. 63.\, Vác\, 2600\, Magyarország
ATTACH;FMTTYPE=image/png:https://visitvac.hu/wp-content/uploads/2026/01/somogyi-andras_0413.png
END:VEVENT
BEGIN:VEVENT
DTSTART;TZID=Europe/Budapest:20260415T100000
DTEND;TZID=Europe/Budapest:20260415T110000
DTSTAMP:20260424T043802
CREATED:20260114T145125Z
LAST-MODIFIED:20260114T145125Z
UID:10001417-1776247200-1776250800@visitvac.hu
SUMMARY:Antoine de Saint-Exupéry: A kis herceg
DESCRIPTION:Parlando Színház Kulturális Egyesület\nA zenés előadás az egész családnak szól\, hogy közösen járhassunk utána\, mit is jelent az a csodálatos szó\, hogy „megszelídíteni”. Bár ez a darab elsősorban gyerekeknek készült\, a felnőttekre történő kikacsintásokkal arra ösztönzi őket is\, hogy átgondolják az életüket. \nAntoine de Saint-Exupéry valószínűleg sosem írja meg leghíresebb könyvét\, ha nem lett volna pilóta. Pilóta évei alatt szerzett élményeit és a vele megesett történeteket ugyanis megtaláljuk ebben a művében is. \nA róka\, az iszákos\, az üzletember és a lámpagyújtogató csupa olyan embertípust jelenít meg\, akikkel a mai világban is találkozhatunk. \nA kis herceg a történet előre haladtával maga is formálódik\, bölcsebbé válik a találkozásai révén\, a pilótát pedig újra és újra meghökkenti szemléletmódjával\, amely különösnek tűnik\, de gyakran mégis a lényegre tapint.\n” Mert jól csak a szívével lát az ember. Ami igazán lényeges\, az a szemnek láthatatlan.” \nIdőtartam: 70 perc \nRendező: Kovács Róbert \nKoreográfusok: Bakó Gábor és Steidl Anita \nMűvészeti vezető: Dónusz Katalin \nJegyár: 2500 Ft\nJegyek hamarosan kaphatók jegypénztárunkban!
URL:https://visitvac.hu/event/antoine-de-saint-exupery-a-kis-herceg/
LOCATION:Madách Imre Művelődési Központ\, Dr. Csányi László krt. 63.\, Vác\, 2600\, Magyarország
ATTACH;FMTTYPE=image/png:https://visitvac.hu/wp-content/uploads/2026/01/husveti-csaladi-nap_0329.png
END:VEVENT
BEGIN:VEVENT
DTSTART;TZID=Europe/Budapest:20260415T190000
DTEND;TZID=Europe/Budapest:20260415T210000
DTSTAMP:20260424T043802
CREATED:20260309T131259Z
LAST-MODIFIED:20260309T131500Z
UID:10001484-1776279600-1776286800@visitvac.hu
SUMMARY:Holtverseny // Klub Kollektíva (16+)
DESCRIPTION:Előadja: Katona Péter Dániel \n„A váltás a világ legegyszerűbb dolga: addig nem ugrasz el\, amíg a másik meg nem érinti az ujjával a falat. Egyetlen folyamatos mozdulat vagytok.” Ezt a folyamatos mozdulatot mutatja be Totth Benedek műve\, amelynek fiatal szereplői nagy lendülettel vetik bele magukat azokba a mélységekbe\, ahonnét kievickélni már csak egymást lenyomva lehet. Milyen sorsok és történetek vannak egy érem mögött? Kik azok\, akiket eltakarnak a dobogón feszítve? Kik a gyerekeink? Ellenállhatatlanul sodródunk ezekkel a fiatalokkal a történetben. Süllyedünk velük a csendben\, a közönyben\, miközben ők a Stayin’ Alive-ot dúdolják a Madagaszkárból. \njátssza: Katona Péter Dániel \nrendező: Kovács Máté \nÍrta: Totth Benedek \nTotth Benedek regényéből a színházi változatot írta: Kovács Máté\, Nyulassy Attila\, Ugrai István \nsegédrendező és rendezőasszisztens: Bali V. Gergely \nzene: Remete Marcell\, Koltay Krisztián Sólyom \njelmez: Halma Ágnes \nvilágítástervező\, műszaki vezető: Tóth Bertalan \ndramaturg: Ugrai István \nA Klub Kollektíva produkciója. \nkülön köszönet: Moczó Martin\, Gátos Iván\, Barbárfivérek\, Vajda Kristóf\, Király Krisztina\, \nKultúrbrigád \nAz előadás időtartama: 100 perc \nA jegyek két szektorosak:\n1-9. sor: 6900\,-\n10-17. sor: 5900\,-
URL:https://visitvac.hu/event/holtverseny-klub-kollektiva-16/
LOCATION:Váci Dunakanyar Színház\, Dr. Csányi László krt. 58.\, Vác\, 2600\, Magyarország
ATTACH;FMTTYPE=image/jpeg:https://visitvac.hu/wp-content/uploads/2026/03/Holtverseny_0415.jpg
END:VEVENT
BEGIN:VEVENT
DTSTART;TZID=Europe/Budapest:20260416T180000
DTEND;TZID=Europe/Budapest:20260416T193000
DTSTAMP:20260424T043802
CREATED:20260114T145534Z
LAST-MODIFIED:20260114T145534Z
UID:10001418-1776362400-1776367800@visitvac.hu
SUMMARY:Orvos-Tóth Noémi előadása
DESCRIPTION:Előadás\nOrvos Tóth Noémi:\n„Klinikai szakpszichológus vagyok legfontosabb érdeklődési területeim a transzgenerációs traumák átadása\, a diszfunkcionális egyéni és családi működések generációk óta tartó ismétlődése és az ezekből való gyógyulás és a rugalmas alkalmazkodóképesség és a poszttraumás növekedés kialakításának lehetőségei.” \nJegyár: 9900 Ft\, 8900 Ft\, 7900 Ft \nJegyek csak online kaphatók!\nhttps://www.jegy.hu/program/hogyan-torjuk-meg-az-orokolt-csaladi-mintakat-orvos-toth-noemi-eloadasa-185156/1365351
URL:https://visitvac.hu/event/orvos-toth-noemi-eloadasa/
LOCATION:Madách Imre Művelődési Központ\, Dr. Csányi László krt. 63.\, Vác\, 2600\, Magyarország
ATTACH;FMTTYPE=image/png:https://visitvac.hu/wp-content/uploads/2026/01/orvos-toth-noemi_0416.png
END:VEVENT
BEGIN:VEVENT
DTSTART;TZID=Europe/Budapest:20260417T190000
DTEND;TZID=Europe/Budapest:20260417T210000
DTSTAMP:20260424T043802
CREATED:20260219T122751Z
LAST-MODIFIED:20260219T122751Z
UID:10001456-1776452400-1776459600@visitvac.hu
SUMMARY:Morpheus Színműhely: Az ördög - Új Időpont!!!
DESCRIPTION:Időpontváltozás!!! Új dátum: 04.17.\nTechnikai okok miatt új időpontban kerül megrendezésre az előadás\, a megvásárolt jegyek automatikusan érvényesek az áprilisi előadásra. Ha nem megfelelő az új időpont\, csak a helyszínen vásárolt jegyek visszaválthatók jegypénztárunkban március 2-ig. Az online vásárolt helyek a tixa.hu-n keresztül válthatók vissza. \nSzínmű 2 felvonásban \nKét ex-szerelmes hosszú idő után újra találkozik: a sikeres művészember\, János elvállalja\, hogy megfesti a gyönyörű\, de házas Jolán portréját. Hat éve már szerelmet vallottak egymásnak\, de az élet elsodorta őket egymás mellől\, érzelmeik mára már kihűltek\, felnőttek lettek\, felelősségteljesek\, és már csupán jóbarátként gondolnak egymásra.\nVége.\n… lenne\, ha ez igaz lenne. Azonban az életükbe betoppan az Ördög maga\, és alaposan felborítja a két önámító lélek életét. \n„Sehonnan sem jöttem\, és sehova sem megyek. Itt vagyok.”\nÉs amíg a ’fekete ember’ itt van\, addig a párosnak nem lehet nyugodalma. Szembesülnek saját elfojtott vágyaikkal\, a kis hazugságaikkal\, más emberek elvárásaival és az Ördög kísértése után már semmi sem lesz ugyanolyan\, mint azelőtt.\nMolnár Ferenc színműve\, ’Az ördög’\, meghozta számára a világhírnevet. \nJegyár: 3900Ft\, 4900 Ft\, 5900 Ft\nJegyek jegypénztárunkban kizárólag készpénzzel fizethetők! \nOnline jegyvásárlás:https://www.tixa.hu/molnar-ferenc-az-ordog-20260220
URL:https://visitvac.hu/event/morpheus-szinmuhely-az-ordog-uj-idopont/
LOCATION:Madách Imre Művelődési Központ\, Dr. Csányi László krt. 63.\, Vác\, 2600\, Magyarország
ATTACH;FMTTYPE=image/png:https://visitvac.hu/wp-content/uploads/2026/02/Az-ordog_0417.png
END:VEVENT
BEGIN:VEVENT
DTSTART;TZID=Europe/Budapest:20260418T140000
DTEND;TZID=Europe/Budapest:20260418T170000
DTSTAMP:20260424T043802
CREATED:20260317T123514Z
LAST-MODIFIED:20260317T123514Z
UID:10001502-1776520800-1776531600@visitvac.hu
SUMMARY:Sajdik 95 finisszázs – Csukás István születésének 90. évfordulója
DESCRIPTION:14:00 – Kurátori tárlatvezetés \n15:00 – Beszélgetés Kolodko Mihállyal: Csukás István és Sajdik Ferenc jelentősége művészetében \n16:00 – Halász Géza karikaturista előadása: „Mekkora poén? – első kézből a karikatúrákról” \n14:00 – 17:00 – Mesefüzér – készítés papírból Sajdik nyomán
URL:https://visitvac.hu/event/sajdik-95-finisszazs-csukas-istvan-szuletesenek-90-evforduloja/
LOCATION:Pannónia Ház\, Köztársaság u. 19.\, Vác\, 2600\, Magyarország
ATTACH;FMTTYPE=image/avif:https://visitvac.hu/wp-content/uploads/2026/03/Sajdik-95-finisszazs_0418.avif
END:VEVENT
BEGIN:VEVENT
DTSTART;TZID=Europe/Budapest:20260418T200000
DTEND;TZID=Europe/Budapest:20260418T220000
DTSTAMP:20260424T043802
CREATED:20260206T153856Z
LAST-MODIFIED:20260206T153856Z
UID:10001439-1776542400-1776549600@visitvac.hu
SUMMARY:Vörös István
DESCRIPTION:Zenekaros koncert\n” Meglepi az\, hogy itt vagyunk” \nDalok a Prognózistól napjainkig. \nVendég: Dudinszky Zoltán szaxofon\, klarinét \nA hazai kultrock elsőszámú képviselőjének több mint négy évtizedes pályafutását huszonöt hanghordozó\, három DVD-lemez\, számtalan élő koncert és zajos közönségsiker fémjelzi.\nHa azt mondjuk\, Tele van a város szerelemmel\, Én az időt nem sajnálom…\,\nKutya világ\, Minden viharon át\, Ne zavarjon senki\, Magányos utazó\, vagy a legújabb sikerdala\, a Minden percért kár\, a tinédzsertől a nagy generációig mindenki azonnal rávágja: Vörös István.\nA népszerű énekes\, gitáros\, dalszerző 17 évesen került Radics Béla helyére a Nevada zenekarba\, majd a Hadirock\, Prognózis\, Vörös István és a Prognózis megalapítása után 1999-től saját nevén koncertezik\, jelennek meg lemezei.\nA közönség a sokakat megérintő szövegvilágért\, az énekelhető dalokért\, és a magával ragadó koncerthangulatért szereti a szerző-előadó-énekes produkcióit. A koncert ültetett\, helyek elfoglalása érkezési sorrendben történik. \nA koncerten megvásárolható a nemrégiben megjelent Kavargó dupla cd 27 dallal és az eddig megjelent albumok CD-n és bakeliten.\nA Kultrock legyen veletek! \nA belépőjegy ára elővételben: 6800 Ft\, az előadás napján: 7600 Ft\nJegyek jegypénztárunkban készpénzzel fizethetők \nOnline jegyvásárlás: https://vorosistvan.hu/vorosistvanwebaruhaz/termek/koncertjegy-vac-meglepi-az-hogy-itt-vagyunk-2026-04-18-20-00-ora-madach-imre-muvelodesi-kozpont/
URL:https://visitvac.hu/event/voros-istvan/
LOCATION:Madách Imre Művelődési Központ\, Dr. Csányi László krt. 63.\, Vác\, 2600\, Magyarország
ATTACH;FMTTYPE=image/png:https://visitvac.hu/wp-content/uploads/2026/02/voros-istvan_0418.png
END:VEVENT
BEGIN:VEVENT
DTSTART;TZID=Europe/Budapest:20260419T100000
DTEND;TZID=Europe/Budapest:20260419T170000
DTSTAMP:20260424T043802
CREATED:20260302T141119Z
LAST-MODIFIED:20260302T141538Z
UID:10001470-1776592800-1776618000@visitvac.hu
SUMMARY:IV. Váci Zöld Fesztivál
DESCRIPTION:IV. Váci Zöld Fesztivál – 2026. április 19. (vasárnap) \n Vác\, Március 15. tér és környéke |  10.00–17.00\n\n\n\nIsmét zöldbe borul a belváros!  A IV. Váci Zöld Fesztivál célja idén is a helyi és környezetbarát termékek\, szolgáltatások népszerűsítése – 2026-ban pedig a fenntartható\, környezetbarát öltözködés kerül a középpontba.\n\n\nVárjuk a gyerekes családokat\, fiatalokat és idősebbeket egyaránt színes programokkal\, előadásokkal\, workshopokkal és bemutatókkal!\n\n\n\n Egész napos programok a fő helyszínen:\n\n\nHelyi és környezetbarát termékek standjai\nCivil és állami szervezetek kitelepülései\nGyereksarok\, kézműveskedés\nPecsétgyűjtő játék családoknak\nLekvárverseny kóstolással és szavazással\nA Duna–Ipoly Nemzeti Park Igazgatóság Dunavirág Vízibusza\n\n\n\n Kiemelt programok a Március 15. téren:\n\n\n 10.00 Megnyitó (felkérés alatt: Matkovich Ilona polgármester)\n 10.15–12.30 Lekvárverseny\n 10.30–12.00 és 14.30–16.00 Táltos Meseút bejárás Nelli vezetésével\n 13.00 Kutyaduma – bemutató a Zöld Menedék Alapítvány szervezésében\n 15.00 Lekvárverseny eredményhirdetés\n 16.00–17.45 I bike Vác felvonulás a Magyar Kerékpárosklub Dunakanyar szervezésében (gyülekező 15.30-tól)\n 16.30 Tombolasorsolás\n\n\n\nTársrendezvény: véradás Vác Város Önkormányzata és az Országos Vérellátó Szolgálat közreműködésével (helyszín egyeztetés alatt).\n\n\n\n Előadások a Curiában (Március 15. tér 20.)\n\n\nFenntartható divat\, zero waste életmód\, természetvédelem és innovatív textilipari megoldások – többek között:\n Kocsis Dóra – Környezettudatos élet gyerekkel\n Mengyán Eszter (Holyduck) – Tudatos\, fenntartható öltözködés\n Víg Zsuzsanna (Stitch Budapest) – Anyagismeret\n Takács Emese & Kiss Gergely (Fraxinea) – Gombából ruha\n\n\n\n Előprogram – 2026. április 17.\, péntek 17.00\n\n\nA Madách Imre Művelődési Központ (Bénik Gyula terem) ad otthont Szendőfi Balázs Hegyizene 2. című filmjének vetítésének\, amelyet közönségtalálkozó követ az alkotóval.\n\n\n\n Az előadásokon és a filmvetítésen a részvétel ingyenes!\n(A programváltozás jogát a szervezők fenntartják.)\n\n\n\n További információ:\nMagosfa Alapítvány – 06 20 984 3946\n magosfa@magosfa.hu\n\n\n\nSzervezők: Magosfa Alapítvány \, Bagolybükk Környezet- és Természetvédelmi Egyesület\n\n\n\nTalálkozzunk április 19-én\, és tegyünk együtt egy zöldebb jövőért!
URL:https://visitvac.hu/event/iv-vaci-zold-fesztival/
LOCATION:Március 15. tér\, Március 15. tér\, Vác\, Pest\, 2600\, Magyarország
ATTACH;FMTTYPE=image/png:https://visitvac.hu/wp-content/uploads/2026/03/IV.-Vaci-Zold-Fesztival_0419.png
ORGANIZER;CN="Magosfa Alap%C3%ADtv%C3%A1ny":MAILTO:magosfa@magosfa.hu
END:VEVENT
BEGIN:VEVENT
DTSTART;TZID=Europe/Budapest:20260419T190000
DTEND;TZID=Europe/Budapest:20260419T210000
DTSTAMP:20260424T043802
CREATED:20260309T140329Z
LAST-MODIFIED:20260309T140356Z
UID:10001485-1776625200-1776632400@visitvac.hu
SUMMARY:Fat Pig - Kövér disznó // Budapest Playhouse (16+)
DESCRIPTION:Szereplők: Balázs Andrea\, Pásztor Tibor\, Tóth Szilvia Lilla\, Réti Barnabás \nTom\, egy nagyvállalat feltörekvő munkatársa\, egy véletlen folytán megismerkedik a szabadszájú és őrjítően vicces Helennel\, aki meglehetősen molett alkata miatt erőteljesen eltér az aktuális szépségideáltól. Tom mégis gyengéd érzelmeket táplál iránta\, ám ahogyan kapcsolatuk elmélyül\, a munkahelyi viccek és szekírozások Helen alkatát illetően egyre inkább megmételyezik az életüket és alaposan próbára teszik Tom hitét és lojalitását. \nNeil LaBute szatírája a modern kori szépségideál kérdését járja körbe\, annak tükrében\, mennyire fontosak a külsőségek a siker és elismerés szempontjából és mennyire kényszerül megváltoztatni valaki önmagát az érvényesülés érdekében. \nAz ünnepelt amerikai szerző és forgatókönyvíró híres szatirikus komédiája először kerül Magyarországon színpadra. Az eredeti bemutató 2004-ben volt az Off-Broadwayn\, a darabot Legjobb Vígjáték kategóriában Olivier-díjra jelölték. \nA BUDAPEST PLAYHOUSE bemutatja​ \nAz előadás 16 éven aluliaknak nem ajánlott! \nFAT PIG – KÖVÉR DISZNÓ \nvígjáték 2 részben\, kb.130 percben\nNeil LaBute műve alapján fordította és színpadra alkalmazta: RÉTI BARNABÁS \nHelen……………….BALÁZS ANDREA \nTom………………….PÁSZTOR TIBOR \nJeannie…………….TÓTH SZILVIA LILLA \nCarter……………….RÉTI BARNABÁS \nDramaturg: VARSÁNYI ANNA \nProdukciós fotók: KÖŐ ADRIEN \nKoreográfus: SALLAK PETRA \nHangkeverés: CSUTORÁS BÁNK \nFény: PÁLMAI MELINDA \nKellék/Berendezés: NYITRAI ZOLTÁN \nJelmez/Smink/Haj: KATONA BÁLINT \nLátvány: IVÁNYI ÁRPÁD \nRendezőasszisztens: TÓTH ZSÓFIA \nRendezte: IVÁNYI ÁRPÁD \n  \nJegyár: 5900 Ft
URL:https://visitvac.hu/event/fat-pig-kover-diszno-budapest-playhouse-16/
LOCATION:Váci Dunakanyar Színház\, Dr. Csányi László krt. 58.\, Vác\, 2600\, Magyarország
ATTACH;FMTTYPE=image/jpeg:https://visitvac.hu/wp-content/uploads/2026/03/Fatpig_0419.jpg
END:VEVENT
BEGIN:VEVENT
DTSTART;TZID=Europe/Budapest:20260419T190000
DTEND;TZID=Europe/Budapest:20260419T213000
DTSTAMP:20260424T043802
CREATED:20260219T123651Z
LAST-MODIFIED:20260219T123651Z
UID:10001457-1776625200-1776634200@visitvac.hu
SUMMARY:Eric Chappell: SPANYOLHÁTHA (Hőguta)
DESCRIPTION:Vígjáték\nKét angol úriember érkezik egy spanyol villába. Egyikük a nejével\, Fay-jel\, a másik\, az idősödő sorozatszínész Howard pedig a nála húsz évvel fiatalabb Dodie-val. A párok mindössze egy kellemes hosszú hétvégét szeretnének eltölteni főnökük üresnek hitt\, dél-spanyol tengerparton fekvő fényűző nyaralójában\, ahol ráadásként még Raynor nyomozó és Kutya\, a gengszter is felbukkan. A furcsa párok furcsa találkozásához három teljesen egyforma\, ámde merőben más tartalmú táska szolgáltatja a végleges\, de annál inkább humoros szituációk sorozatát. \nSzereposztás: \nSam Spencer – Mihályfi Balázs \nFay Spencer – Pikali Gerda \nHoward Green – Beleznay Endre \nDodie – Csáki Edina \nRaynor vagy talán Kutya – Suhajda Dániel \nRaynor vagy talán Kutya – Barabás Kiss Zoltán/Kiss Zoltánt \nRendező: Beleznay Endre \nRendező munkatársa: Kiss Kriszta \nA darab Magyarországon a Concord Theatricals Ltd. és a Samuel French Ltd. engedélyével kerül színre. www.concordtheatricals.co.uk. \nA jogokat az Arany Kotta Szerzői Ügynökség közvetítette.\nEric Chappell darabjának eredeti címe Heatstroke (Hőguta).\nFordította: Galambos Attila. \nAZ ELŐADÁSRÓL VIDEO- VAGY HANGFELVÉTELT KÉSZÍTENI SZIGORÚAN TILOS! \nA változtatás jogát fenntartjuk!\nJegyár: 8900 Ft\, 9900Ft \nJegyek jegypénztárunkban készpénzzel fizethetők! \nhttps://hangjegyszinhaz.jegy.hu/program/eric-chappell-spanyolhatha-hoguta-188621/1401569
URL:https://visitvac.hu/event/eric-chappell-spanyolhatha-hoguta-2/
LOCATION:Madách Imre Művelődési Központ\, Dr. Csányi László krt. 63.\, Vác\, 2600\, Magyarország
ATTACH;FMTTYPE=image/png:https://visitvac.hu/wp-content/uploads/2026/02/Spanyolhatha_0419.png
END:VEVENT
END:VCALENDAR