BEGIN:VCALENDAR
VERSION:2.0
PRODID:-//Visitvac - ECPv6.15.20//NONSGML v1.0//EN
CALSCALE:GREGORIAN
METHOD:PUBLISH
X-ORIGINAL-URL:https://visitvac.hu
X-WR-CALDESC:Események Visitvac
REFRESH-INTERVAL;VALUE=DURATION:PT1H
X-Robots-Tag:noindex
X-PUBLISHED-TTL:PT1H
BEGIN:VTIMEZONE
TZID:Europe/Budapest
BEGIN:DAYLIGHT
TZOFFSETFROM:+0100
TZOFFSETTO:+0200
TZNAME:CEST
DTSTART:20250330T010000
END:DAYLIGHT
BEGIN:STANDARD
TZOFFSETFROM:+0200
TZOFFSETTO:+0100
TZNAME:CET
DTSTART:20251026T010000
END:STANDARD
BEGIN:DAYLIGHT
TZOFFSETFROM:+0100
TZOFFSETTO:+0200
TZNAME:CEST
DTSTART:20260329T010000
END:DAYLIGHT
BEGIN:STANDARD
TZOFFSETFROM:+0200
TZOFFSETTO:+0100
TZNAME:CET
DTSTART:20261025T010000
END:STANDARD
BEGIN:DAYLIGHT
TZOFFSETFROM:+0100
TZOFFSETTO:+0200
TZNAME:CEST
DTSTART:20270328T010000
END:DAYLIGHT
BEGIN:STANDARD
TZOFFSETFROM:+0200
TZOFFSETTO:+0100
TZNAME:CET
DTSTART:20271031T010000
END:STANDARD
END:VTIMEZONE
BEGIN:VEVENT
DTSTART;TZID=Europe/Budapest:20260630T200000
DTEND;TZID=Europe/Budapest:20260630T210000
DTSTAMP:20260423T042238
CREATED:20260304T113857Z
LAST-MODIFIED:20260304T113857Z
UID:10001474-1782849600-1782853200@visitvac.hu
SUMMARY:Professzorok koncertje
DESCRIPTION:Helyszín: Vác\, Piarista Kilátó Központ \nELŐADÓK:\nA Régi Zenei Napok mesterkurzusainak professzorai \nJegyár: 5 900 Ft\njegyvásárlási link: Professzorok koncertje – jegyvásárlás | Vác\, Piarista Kilátó Központ | jegymester.hu \nJegyek válthatók Vácon a Tourinform-irodában\, a programok előtt a helyszíneken\, valamint a www.jegymester.hu oldalon. \nJegyár kedvezmények:\nA koncertre a váci lakosok lakcímkártyájuk felmutatásával 50%-os kedvezménnyel válthatnak jegyet a helyszínen és a váci Tourinform irodában. \nDiákok és nyugdíjasok számára 10% kedvezményt biztosítunk. \nA Filharmónia Magyaroszág bérletesei -bérletük felmutatásával- 20% kedvezménnyel válthatnak jegyet az ország bármely pontján az általunk szervezett és értékesített felnőtt hangversenyekre. A kedvezmény bérletenként egy jegyre érvényesíthető koncertenként. \nA műsor-\, időpont-\, helyszín- és szereplőváltoztatás jogát fenntartjuk\, melynek függvényében a jegyár is változhat. \n\nMesterkurzus Professzorok Hangversenye – A Régi Zenei Napok Mesterei Színpadon \nA 42. Régi Zenei Napok egyik különleges pillanata\, amikor azok a nemzetközileg elismert mesterek\, akik a kurzusokat vezetik\, közös hangversenyt adnak Vácott. A koncerten színpadra lép Lucie Horsch (furulya)\, Szató Sunszuke (hegedű)\, Somlai Petra (fortepiano)\, Szutrély Katalin és Elisabeth Scholl (ének)\, Kertész Ildikó (fuvola)\, Vashegyi György (kamarazene)\, Nagy Réka (viola da gamba\, cselló) valamint Szokos Augustin (csembaló). A hangverseny valódi zenei ünnep: ritka alkalom\, hogy ennyi kivételes művész együtt\, egy színpadon varázsolja el a közönséget! \nEgyüttműködő partner a Haydneum – Magyar Régizenei Központ\, és a Sysart Kft. Orfeo Zenei Alapítványa.\nA Haydneum működését a Miniszterelnökség és a Bethlen Gábor Alapkezelő Zrt. támogatja.
URL:https://visitvac.hu/event/professzorok-koncertje/
LOCATION:Piarista Kilátó Központ\, Géza király tér 10.\, Vác\, 2600
ATTACH;FMTTYPE=image/jpeg:https://visitvac.hu/wp-content/uploads/2026/03/professzorok-koncertje_0630.jpg
ORGANIZER;CN="Filharm%C3%B3nia Magyarorsz%C3%A1g":MAILTO:filharmonia@filharmonia.hu
END:VEVENT
BEGIN:VEVENT
DTSTART;TZID=Europe/Budapest:20260704T150000
DTEND;TZID=Europe/Budapest:20260704T160000
DTSTAMP:20260423T042238
CREATED:20260304T115701Z
LAST-MODIFIED:20260304T115701Z
UID:10001477-1783177200-1783180800@visitvac.hu
SUMMARY:Hallgatók zárókoncertje
DESCRIPTION:Helyszín: Vác\, Piarista Kilátó Központ \nIngyenes! \n\nELŐADÓK:\nA Régi Zenei Napok mesterkurzusainak hallgatói \nMagyarországon nincs graduális régizenei képzés. Aki meg akar tanulni korhű hangszereken játszani\, magánúton kell tennie\, legtöbbször mesterkurzusokon. Ilyenkor néhány intenzív napon előre kiválasztott darabokon ismerkednek meg a – sokszor nem is annyira fiatal – zenészek a zenélés még magasabb szintjeivel. Kíváncsi az eredményre? Itt a lehetőség! A színes kamarakoncert műsorát a mesterkurzusokon elsajátított\, – tökéletesített zeneművek alkotják. (És csak halkan jegyezzük meg\, hogy a hét folyamán a kurzusok is nyilvánosak\, így\, ha nemcsak a végeredményre kíváncsi\, beletekinthet a műhelymunkába is!) \nEgyüttműködő partner a Haydneum – Magyar Régizenei Központ\, és a Sysart Kft. Orfeo Zenei Alapítványa.\nA Haydneum működését a Miniszterelnökség és a Bethlen Gábor Alapkezelő Zrt. támogatja.
URL:https://visitvac.hu/event/hallgatok-zarokoncertje/
LOCATION:Piarista Kilátó Központ\, Géza király tér 10.\, Vác\, 2600
ATTACH;FMTTYPE=image/jpeg:https://visitvac.hu/wp-content/uploads/2026/03/hallgatok-zarokoncertje_0704.jpg
ORGANIZER;CN="Filharm%C3%B3nia Magyarorsz%C3%A1g":MAILTO:filharmonia@filharmonia.hu
END:VEVENT
END:VCALENDAR