BEGIN:VCALENDAR
VERSION:2.0
PRODID:-//Visitvac - ECPv6.15.20//NONSGML v1.0//EN
CALSCALE:GREGORIAN
METHOD:PUBLISH
X-ORIGINAL-URL:https://visitvac.hu
X-WR-CALDESC:Események Visitvac
REFRESH-INTERVAL;VALUE=DURATION:PT1H
X-Robots-Tag:noindex
X-PUBLISHED-TTL:PT1H
BEGIN:VTIMEZONE
TZID:Europe/Budapest
BEGIN:DAYLIGHT
TZOFFSETFROM:+0100
TZOFFSETTO:+0200
TZNAME:CEST
DTSTART:20250330T010000
END:DAYLIGHT
BEGIN:STANDARD
TZOFFSETFROM:+0200
TZOFFSETTO:+0100
TZNAME:CET
DTSTART:20251026T010000
END:STANDARD
BEGIN:DAYLIGHT
TZOFFSETFROM:+0100
TZOFFSETTO:+0200
TZNAME:CEST
DTSTART:20260329T010000
END:DAYLIGHT
BEGIN:STANDARD
TZOFFSETFROM:+0200
TZOFFSETTO:+0100
TZNAME:CET
DTSTART:20261025T010000
END:STANDARD
BEGIN:DAYLIGHT
TZOFFSETFROM:+0100
TZOFFSETTO:+0200
TZNAME:CEST
DTSTART:20270328T010000
END:DAYLIGHT
BEGIN:STANDARD
TZOFFSETFROM:+0200
TZOFFSETTO:+0100
TZNAME:CET
DTSTART:20271031T010000
END:STANDARD
END:VTIMEZONE
BEGIN:VEVENT
DTSTART;TZID=Europe/Budapest:20260425T160000
DTEND;TZID=Europe/Budapest:20260425T180000
DTSTAMP:20260422T062116
CREATED:20260303T135437Z
LAST-MODIFIED:20260303T135820Z
UID:10001471-1777132800-1777140000@visitvac.hu
SUMMARY:Jótékonysági est & fotókiállítás
DESCRIPTION:Egy kép\, egy esély – jótékonysági est Vácott \n\n\n\nA Foton Alkotói Kör – Vác és a Közösen a Városért Egyesület szervezésében különleges jótékonysági eseményre hívunk!\n\n\nAz „Egy kép\, egy esély” című est teljes bevételét a Segítő kezek az állatokért – Örökélet farm Alapítvány támogatására fordítják a szervezők.\n\n\nAz est során bemutatkoznak a Foton Alkotói Kör – Vác művészei\, és a kiállított fotókat a rendezvény ideje alatt meg is vásárolhatod – így minden kép egy újabb esélyt jelent az állatok számára. \n\n\n\n Időpont: 2026. április 25.\n Helyszín: 2600 Vác\, Galamb utca 1.\n Kapunyitás: 15:30\n Kezdés: 16:00\n Állatbarát helyszín\n\n\n\nProgram:\n16:00 – Megnyitó beszédek\n16:30 – Zenei előadások\n17:00 – Beszélgetés Tárnyik Tamással és Makrai Krisztiánnal\n17:30 – Fotótárlat megnyitója\n18:00 – Tombola\n19:00 – Zárás\n\n\n\n A részvétel ingyenes\, de regisztrációhoz kötött.\nHa az online regisztráció nem sikerül\, az esemény napján 15:00-tól a helyszínen is tudsz regisztrálni.\n Regisztráció és további információ: fotonvac.hu\n\n\n\n Örömmel fogadunk állateledel-adományokat (táp\, konzerv\, alma\, répa és egyéb finomságok).\nA helyszínen a Közösen a Városért Egyesület adománygyűjtő dobozába is bedobhatod támogatásodat.\n\n\n\n Ha utalással segítenél:\nSzámlaszám: 10401103-50526978-77571009\nKözlemény: Jótékonysági est támogatás
URL:https://visitvac.hu/event/jotekonysagi-est-fotokiallitas/
LOCATION:PüspökVác Látogató és Rendezvény Központ\, Galamb utca 1.\, Vác\, 2600
ATTACH;FMTTYPE=image/jpeg:https://visitvac.hu/wp-content/uploads/2026/03/jotekonysagi-est_0425.jpg
ORGANIZER;CN="Foton Alkot%C3%B3i K%C3%B6r - V%C3%A1c":MAILTO:hello@fotonvac.hu
END:VEVENT
END:VCALENDAR