BEGIN:VCALENDAR
VERSION:2.0
PRODID:-//Visitvac - ECPv6.15.20//NONSGML v1.0//EN
CALSCALE:GREGORIAN
METHOD:PUBLISH
X-WR-CALNAME:Visitvac
X-ORIGINAL-URL:https://visitvac.hu
X-WR-CALDESC:Események Visitvac
REFRESH-INTERVAL;VALUE=DURATION:PT1H
X-Robots-Tag:noindex
X-PUBLISHED-TTL:PT1H
BEGIN:VTIMEZONE
TZID:Europe/Budapest
BEGIN:DAYLIGHT
TZOFFSETFROM:+0100
TZOFFSETTO:+0200
TZNAME:CEST
DTSTART:20250330T010000
END:DAYLIGHT
BEGIN:STANDARD
TZOFFSETFROM:+0200
TZOFFSETTO:+0100
TZNAME:CET
DTSTART:20251026T010000
END:STANDARD
BEGIN:DAYLIGHT
TZOFFSETFROM:+0100
TZOFFSETTO:+0200
TZNAME:CEST
DTSTART:20260329T010000
END:DAYLIGHT
BEGIN:STANDARD
TZOFFSETFROM:+0200
TZOFFSETTO:+0100
TZNAME:CET
DTSTART:20261025T010000
END:STANDARD
BEGIN:DAYLIGHT
TZOFFSETFROM:+0100
TZOFFSETTO:+0200
TZNAME:CEST
DTSTART:20270328T010000
END:DAYLIGHT
BEGIN:STANDARD
TZOFFSETFROM:+0200
TZOFFSETTO:+0100
TZNAME:CET
DTSTART:20271031T010000
END:STANDARD
END:VTIMEZONE
BEGIN:VEVENT
DTSTART;TZID=Europe/Budapest:20260328T180000
DTEND;TZID=Europe/Budapest:20260328T193000
DTSTAMP:20260419T152259
CREATED:20260325T093622Z
LAST-MODIFIED:20260325T093622Z
UID:10001509-1774720800-1774726200@visitvac.hu
SUMMARY:"Az első tavaszi nap" - a Vox Humana Énekkar hangversenye
DESCRIPTION:március 28-án\, szombaton\, 18 órakor\n\na Váci Bartók-Pikéthy Zeneművészeti \nSzakgimnázium és Zeneiskola \nCs. Nagy Tamás hangversenytermében. \n  \nMűsoron madrigálok\, népdalfeldolgozások\, klasszikus és kortárs világi kórusművek. \nKözreműködik: \nLachegyi Imre – furulya \nSzegeczki Edina – fuvola \nKovács Zoltán – fagott \nGál Csaba – zongora \nVezényel: Sándor Bence \nA belépés díjtalan. Minden kedves érdeklődőt szeretettel várnak a szervezők.
URL:https://visitvac.hu/event/az-elso-tavaszi-nap-a-vox-humana-enekkar-hangversenye/
LOCATION:Váci Bartók-Pikéthy Zeneművészeti Szakgimnázium és Zeneiskola\, Schuszter Konstantin tér 8.\, Vác\, Pest\, 2600\, Hungary
ATTACH;FMTTYPE=image/jpeg:https://visitvac.hu/wp-content/uploads/2026/03/vox-humana_0328.jpg
ORGANIZER;CN="Vox Humana %C3%89nekkar":MAILTO:vox.humana@freemail.hu
END:VEVENT
END:VCALENDAR