BEGIN:VCALENDAR
VERSION:2.0
PRODID:-//Visitvac - ECPv6.15.20//NONSGML v1.0//EN
CALSCALE:GREGORIAN
METHOD:PUBLISH
X-WR-CALNAME:Visitvac
X-ORIGINAL-URL:https://visitvac.hu
X-WR-CALDESC:Események Visitvac
REFRESH-INTERVAL;VALUE=DURATION:PT1H
X-Robots-Tag:noindex
X-PUBLISHED-TTL:PT1H
BEGIN:VTIMEZONE
TZID:Europe/Budapest
BEGIN:DAYLIGHT
TZOFFSETFROM:+0100
TZOFFSETTO:+0200
TZNAME:CEST
DTSTART:20240331T010000
END:DAYLIGHT
BEGIN:STANDARD
TZOFFSETFROM:+0200
TZOFFSETTO:+0100
TZNAME:CET
DTSTART:20241027T010000
END:STANDARD
BEGIN:DAYLIGHT
TZOFFSETFROM:+0100
TZOFFSETTO:+0200
TZNAME:CEST
DTSTART:20250330T010000
END:DAYLIGHT
BEGIN:STANDARD
TZOFFSETFROM:+0200
TZOFFSETTO:+0100
TZNAME:CET
DTSTART:20251026T010000
END:STANDARD
BEGIN:DAYLIGHT
TZOFFSETFROM:+0100
TZOFFSETTO:+0200
TZNAME:CEST
DTSTART:20260329T010000
END:DAYLIGHT
BEGIN:STANDARD
TZOFFSETFROM:+0200
TZOFFSETTO:+0100
TZNAME:CET
DTSTART:20261025T010000
END:STANDARD
BEGIN:DAYLIGHT
TZOFFSETFROM:+0100
TZOFFSETTO:+0200
TZNAME:CEST
DTSTART:20270328T010000
END:DAYLIGHT
BEGIN:STANDARD
TZOFFSETFROM:+0200
TZOFFSETTO:+0100
TZNAME:CET
DTSTART:20271031T010000
END:STANDARD
END:VTIMEZONE
BEGIN:VEVENT
DTSTART;TZID=Europe/Budapest:20251016T170000
DTEND;TZID=Europe/Budapest:20251231T170000
DTSTAMP:20260425T050743
CREATED:20250903T074235Z
LAST-MODIFIED:20250903T074346Z
UID:10001230-1760634000-1767200400@visitvac.hu
SUMMARY:Fényből szőtt ösvények - Mojzes Péter fotókiállítása
DESCRIPTION:Kalandozás a tájképfotózásban\, technikák és történetek egy természetszerető fotós szemével. Kapcsolódó beszélgetésekkel és tárlatvezetéssel. \nA kiállítás december 31-ig látogatható.
URL:https://visitvac.hu/event/fenybol-szott-osvenyek-mojzes-peter-fotokiallitasa/
LOCATION:Elefántos Ház\, Március 15. tér 23.\, Vác\, Pest\, 2600\, Magyarország
ORGANIZER;CN="Tragor Ign%C3%A1c M%C3%BAzeum":MAILTO:info@muzeumvac.hu
END:VEVENT
BEGIN:VEVENT
DTSTART;TZID=Europe/Budapest:20251114T180000
DTEND;TZID=Europe/Budapest:20260105T180000
DTSTAMP:20260425T050743
CREATED:20251105T143120Z
LAST-MODIFIED:20251105T143120Z
UID:10001336-1763143200-1767636000@visitvac.hu
SUMMARY:Mandalák
DESCRIPTION:Fülöp Jánosné Eszter kiállítása\nMegnyitó ünnepség: november 14. 18 óra\nKiállítást megnyitja: Németh Árpád festőművész\nHandpanen közreműködik: Kőrösi Gábor \nHelyszín: Kávézó Galéria
URL:https://visitvac.hu/event/mandalak/
LOCATION:Madách Imre Művelődési Központ\, Dr. Csányi László krt. 63.\, Vác\, 2600\, Magyarország
ATTACH;FMTTYPE=image/png:https://visitvac.hu/wp-content/uploads/2025/11/mandalak_mimk.png
END:VEVENT
BEGIN:VEVENT
DTSTART;TZID=Europe/Budapest:20251230T130000
DTEND;TZID=Europe/Budapest:20251230T180000
DTSTAMP:20260425T050743
CREATED:20251127T141558Z
LAST-MODIFIED:20251127T141558Z
UID:10001340-1767099600-1767117600@visitvac.hu
SUMMARY:XVIII. FORRALTBOR-FŐZŐ VERSENY
DESCRIPTION:Vendégvárók Váci Egyesülete\nVác Városa Polgárai\nés a városba érkező vendégekkel együtt \nKeressük Vác legjobb forralt borát! \nA csapatok saját eszközeikkel főznek\, a kóstolásból befolyt összeget (adományként fogadjuk)\, melyet a rendezvény után hátrányos helyzetben élő váci családnak fogjuk átadni! \n„Vác legjobb első három borának gazdája a hagyományoknak megfelelően csinos kis kupával és elismerő oklevéllel lesz gazdagabb.” \nMűsorvezető:\nFábián Nikoletta \nZene\, tánc:\nPajor Attila \nInfo: Fónagy István\nMobil: +36 30 961 5116 \nRegisztráció\, helyszín elfoglalása: 13:00-tól \nEredményhirdetés: 17:00-tól \nRegisztrálni az Ittali Étteremben (Vác\, Széchenyi utca) lehet\, csapatnév és rendszám leadásával\nNevezési díj: 3000 Ft / csapat \nA rendezvény fő támogatója: Vác Város Önkormányzata\nRendezvényszervező: Vendégvárók Váci Egyesülete \nSzeretettel várjuk\,\nSzeretettel látjuk!
URL:https://visitvac.hu/event/xviii-forraltbor-fozo-verseny/
LOCATION:Március 15. tér\, Március 15. tér\, Vác\, Pest\, 2600\, Magyarország
ATTACH;FMTTYPE=image/jpeg:https://visitvac.hu/wp-content/uploads/2025/11/584275279_10225153815912058_3838614106155126533_n.jpg
ORGANIZER;CN="Vend%C3%A9gv%C3%A1r%C3%B3k V%C3%A1ci Egyes%C3%BClete":MAILTO:fonwal@freemail.hu
END:VEVENT
BEGIN:VEVENT
DTSTART;TZID=Europe/Budapest:20260104T180000
DTEND;TZID=Europe/Budapest:20260104T193000
DTSTAMP:20260425T050743
CREATED:20251029T145440Z
LAST-MODIFIED:20251029T145440Z
UID:10001314-1767549600-1767555000@visitvac.hu
SUMMARY:27. Újévi koncert
DESCRIPTION:Dunakeszi Szimfonikus Zenekarral\nKöszöntsük együtt az új esztendőt\, hisz a zene örömöt\, reményt és békét hoz.\nAz újévi koncertek hagyományait tisztelve\, de egyedi és különleges programot\nkínálunk 2026. január 4-én\, vasárnap 18 órától Vác zeneszerető közönségének. \nEz az előadás több mint egy koncert\, rangos társadalmi esemény – kitűnő zenével\, neves\nfellépőkkel és tartalmas\, színes műsorral.\nAz újévi gálaműsorban Johann Strauss művei mellett az operairodalom legszebb\ngyöngyszemeit hallhatják\, de a musical műfajt kedvelők sem maradnak élmény nélkül. \nFellépő művészek:\nVörös Edit\nDomoszlai Sándor\nCzető-Fritz Éva\nCzető Roland\na Dunakeszi Szimfonikus Zenekar\nKarmester: Farkas Pál \nA belépőjegy ára: 8000 Ft\nJegyek jegypénztárunkban hamarosan kaphatók!
URL:https://visitvac.hu/event/27-ujevi-koncert/
LOCATION:Madách Imre Művelődési Központ\, Dr. Csányi László krt. 63.\, Vác\, 2600\, Magyarország
ATTACH;FMTTYPE=image/png:https://visitvac.hu/wp-content/uploads/2025/10/ujevi_koncert_mimk.png
END:VEVENT
END:VCALENDAR