BEGIN:VCALENDAR
VERSION:2.0
PRODID:-//Visitvac - ECPv6.15.20//NONSGML v1.0//EN
CALSCALE:GREGORIAN
METHOD:PUBLISH
X-ORIGINAL-URL:https://visitvac.hu
X-WR-CALDESC:Események Visitvac
REFRESH-INTERVAL;VALUE=DURATION:PT1H
X-Robots-Tag:noindex
X-PUBLISHED-TTL:PT1H
BEGIN:VTIMEZONE
TZID:Europe/Budapest
BEGIN:DAYLIGHT
TZOFFSETFROM:+0100
TZOFFSETTO:+0200
TZNAME:CEST
DTSTART:20250330T010000
END:DAYLIGHT
BEGIN:STANDARD
TZOFFSETFROM:+0200
TZOFFSETTO:+0100
TZNAME:CET
DTSTART:20251026T010000
END:STANDARD
BEGIN:DAYLIGHT
TZOFFSETFROM:+0100
TZOFFSETTO:+0200
TZNAME:CEST
DTSTART:20260329T010000
END:DAYLIGHT
BEGIN:STANDARD
TZOFFSETFROM:+0200
TZOFFSETTO:+0100
TZNAME:CET
DTSTART:20261025T010000
END:STANDARD
BEGIN:DAYLIGHT
TZOFFSETFROM:+0100
TZOFFSETTO:+0200
TZNAME:CEST
DTSTART:20270328T010000
END:DAYLIGHT
BEGIN:STANDARD
TZOFFSETFROM:+0200
TZOFFSETTO:+0100
TZNAME:CET
DTSTART:20271031T010000
END:STANDARD
END:VTIMEZONE
BEGIN:VEVENT
DTSTART;TZID=Europe/Budapest:20260112T190000
DTEND;TZID=Europe/Budapest:20260112T210000
DTSTAMP:20260425T050846
CREATED:20260107T091119Z
LAST-MODIFIED:20260107T091119Z
UID:10001380-1768244400-1768251600@visitvac.hu
SUMMARY:Ónodi Eszter // Burn Out Baby - A hatékony vezetés hat szabálya // Dumaszínház
DESCRIPTION:Dumaszínház – előadja: Ónodi Eszter (jegyek csak online) \n  \nLitkai Gergely: Burn Out Baby – A hatékony vezetés hat szabálya \nA 2024-ben megújult Átrium a Delta Produkció és a Dumaszínház együttműködésében bemutatja Litkai Gergely: Burn Out Baby – A hatékony vezetés hat szabálya című darabját\, amely Ónodi Eszter első önálló estjeként debütál. \nA siker titka? Vagy inkább ára? Egy kiégett felsővezető lép reflektorfénybe\, hogy megossza a hatékony vezetés hat szabályát\, de a motivációs tréning gyorsan abszurd vallomássá válik. Önbizalomtuning helyett önirónia\, inspiráló életvezetési tanácsok helyett groteszk szatíra veszi kezdetét\, miközben a nézők egy olyan világba kapnak betekintést\, amely egyszerre lehet ismerős és rémisztően abszurd. A történet egy motivációs előadásként indul\, de hamar kiderül\, hogy a főhős élete maga a nagyvállalati tragikomédia. A Litkai Gergely által írt szöveg pengeéles humorral és fájóan pontos társadalomkritikaként mutatja meg\, mi minden rejtőzhet a sikeres emberek mosolya mögött. \nÓnodi Eszter a többszörösen elismert\, valamint az év női menedzserének is megválasztott felsővezető\, Dr. Benczés Ágnes Judit\, phD\, MBA\, coach bőrébe bújva évtizedes tapasztalatát latba vetve most őszintén és hitelesen válaszol a következő kérdésekre: \nMi mozgat egy szervezetet? Mitől leszünk hitelesek? Miért felesleges a bizalom? Miért fontos az önzés? Létezik-e a munka és magánélet egyensúlya? Miért jobb sokszor a munka\, mint a család? Hogyan őrizzük meg integritásunkat ellenséges környezetben? Képzelt dolog-e a kiégés? Valóban alkalmatlan-e a Z-generáció a munkavégzésre? \nHa már meguntad a rengeteg\, mindenhol hallható\, sokszor elcsépelt frázisokat\, akkor itt a helyed! Ágnes előadása után ugyanis garantáltan nem ilyen elhasznált gondolatokkal térhetsz haza vagy vissza a munkahelyedre. \nALKOTÓK: \nSzövegkönyv: Litkai Gergely: Burn Out Baby – A hatékony vezetés hat szabálya\nDr. Benczés Ágnes Judit: Ónodi Eszter\nRendező: Kiss-Végh Emőke\nRendezőasszisztens: Szőnyi Franciska \nJelmez: Füzes Eszter \nFotó: Gordon Eszter \nGrafika: Pintér Csilla \nProducerek: Delta Produkció és Dumaszínház \nAz előadást keresleti alapon árazzuk! További tájékoztatásért\, kérjük\, látogassanak el az ehhez kapcsolódó információs oldalunkra: \nKereslet alapú (dinamikus) árazás \nJegyár: 7590 Ft
URL:https://visitvac.hu/event/onodi-eszter-burn-out-baby-a-hatekony-vezetes-hat-szabalya-dumaszinhaz/
LOCATION:Váci Dunakanyar Színház\, Dr. Csányi László krt. 58.\, Vác\, 2600\, Magyarország
ATTACH;FMTTYPE=image/jpeg:https://visitvac.hu/wp-content/uploads/2026/01/Onodi_0112.jpg
END:VEVENT
BEGIN:VEVENT
DTSTART;TZID=Europe/Budapest:20260115T190000
DTEND;TZID=Europe/Budapest:20260115T210000
DTSTAMP:20260425T050846
CREATED:20251029T110319Z
LAST-MODIFIED:20251029T110319Z
UID:10001285-1768503600-1768510800@visitvac.hu
SUMMARY:EgyÉletem // Thuróczy Szabolcs
DESCRIPTION:Előadja: Thuróczy Szabolcs // életrajzi stand up est (jegyek csak online) \nEbben a sorozatban híres művészek mesélnek az életükről\, a számukra meghatározó pillanatokról és kalandokról.\nStand up? Monodráma? Élettörténet? Mindezek keveréke. Itt a forgatókönyvet valóban az élet írja.  Személyesség\, humor\, kitárulkozás – ezek az EgyÉletem előadások kulcsszavai. \nA tirpák Robert De Niro – színész barátai csak így hívják. És a jó poénoknak mindig van alapja.\nThuróczy Szabolcs napjaink egyik legnépszerűbb magyar színésze. Rengeteg filmben (Tiszta szívvel\, Larry\, Drakulics elvtárs)\, sorozatban (Aranyélet\, Társas játék\, Besúgó)\, színházi előadásban (Pintér Béla és Társulata) láthattuk. Minden figurából képes izgalmas\, összetett karaktert felépíteni. Pedig csak jogi diplomája van\, a színészetet iskolában sosem tanulta. \nMint minden rendes nyírségi fiú\, ő is lassan érő típus volt. Eleinte focistának készült\, a Nyíregyházi Spartacus középpályása volt 18 éves koráig. Ám ekkor megszólította őt a művészet – bár eleinte nem értette\, mit akar tőle. Szülői nyomásra elvégezte a jogi egyetemet\, de közben Gaál Erzsébet és Zsótér Sándor előadásaiban átesett a tűzkeresztségen. És egyre jobban beindult vele az élet: jöttek a szerepek\, jöttek a filmek\, jöttek a kihívások. Nagybetűs színész és többgyerekes családapa lett az egykori jogászhallgatóból. \nEgy élete\, egy halála: Thuróczy Szabolcs ezen az estén kiáll a nézők elé és elmeséli az életét. \nSzereplő: Thuróczy Szabolcs\nRendező-producer: Lévai Balázs\nProdukciós menedzser: Fantoly Nikolett\nDramaturg: Gyulay Eszter\nLátvány\, VJ: Kőváry Dani\nFény: Ács István \nAz előadás hossza: kb. 90 perc
URL:https://visitvac.hu/event/egyeletem-thuroczy-szabolcs/
LOCATION:Váci Dunakanyar Színház\, Dr. Csányi László krt. 58.\, Vác\, 2600\, Magyarország
ATTACH;FMTTYPE=image/jpeg:https://visitvac.hu/wp-content/uploads/2025/10/thn_Thuroczy-Szabolcs-honlapra.jpg
END:VEVENT
BEGIN:VEVENT
DTSTART;TZID=Europe/Budapest:20260115T190000
DTEND;TZID=Europe/Budapest:20260115T210000
DTSTAMP:20260425T050846
CREATED:20251128T093755Z
LAST-MODIFIED:20251128T093755Z
UID:10001352-1768503600-1768510800@visitvac.hu
SUMMARY:Újévi Best of Musicals koncert
DESCRIPTION:Újévi musical gála\na négy népszerű musical énekes előadásában\, a Best of Musicals koncert sorozat 2026. évi első állomásán\, Vácon.\nMég a karácsonyi hangulatot magában hordozva\, de az új évet ünnepelve a musical irodalom legismertebb és legnépszerűbb slárereit hallhatják a koncertre látogatók. \nFellépő művészek: Mahó Andrea\, Sári Évi\, Egyházi Géza és Sándor Péter \nA műsor időtartama egy részben 110 perc \nFelcsendülnek többek közt az Operaház Fantomja\, Evita\, Nyomorultak\, Macskák\, Fame\, Notre Dame de Pari és Jekyll and Hyde híres dallamai. \nHelyszín: Színházterem \nJegyár: 5500 Ft\, 6500 Ft \nOnline jegyvásárlás: https://www.jegy.hu/program/ujevi-best-of-musicals-koncert-vac-184792/1362133
URL:https://visitvac.hu/event/ujevi-best-of-musicals-koncert/
LOCATION:Madách Imre Művelődési Központ\, Dr. Csányi László krt. 63.\, Vác\, 2600\, Magyarország
ATTACH;FMTTYPE=image/png:https://visitvac.hu/wp-content/uploads/2025/11/ujevi_best_of_musicals_koncert_0115.png
END:VEVENT
BEGIN:VEVENT
DTSTART;TZID=Europe/Budapest:20260116T180000
DTEND;TZID=Europe/Budapest:20260215T190000
DTSTAMP:20260425T050846
CREATED:20260107T100259Z
LAST-MODIFIED:20260107T100259Z
UID:10001387-1768586400-1771182000@visitvac.hu
SUMMARY:DUKE kiállítás
DESCRIPTION:Dunakanyar Képzőművészeti Egyesület kiállítása\nKiállítást megnyitja: Moór Györgyi \nMegtekinthető 2026. február 15-ig. \nHelyszín: Kávézó Galéria
URL:https://visitvac.hu/event/duke-kiallitas/
LOCATION:Madách Imre Művelődési Központ\, Dr. Csányi László krt. 63.\, Vác\, 2600\, Magyarország
ATTACH;FMTTYPE=image/png:https://visitvac.hu/wp-content/uploads/2026/01/DUKE_0116.png
END:VEVENT
BEGIN:VEVENT
DTSTART;TZID=Europe/Budapest:20260116T190000
DTEND;TZID=Europe/Budapest:20260116T210000
DTSTAMP:20260425T050846
CREATED:20251128T094057Z
LAST-MODIFIED:20251128T094057Z
UID:10001353-1768590000-1768597200@visitvac.hu
SUMMARY:Goldoni: Mirandolina
DESCRIPTION:Zenés vígjáték\nEgy fogadóban vagyunk\, ahol a fogadósné miatt lakik ott egy nagyon gazdag és egy nagyon szegény gróf\, egymással vetekednek a nő szerelméért. Mindketten megvetik a fiatalabb nőket\, csak\naz érett asszonyt szeretik. Érkezik egy Lovag\, aki viszont megveti a nőket\, semmire sem tartja\, irtózik mindegyiktől. Mirandolinát felbosszantja ez a nőgyűlölet\, és elhatározza\, magába bolondítja a férfit. Ehhez segítségül vesz két állástalan színésznőt\, hogy meg- tréfálja a grófokat és a lovagokat is\, és elindul az őrület. \nAz előadás hossza 120 perc\, egy szünettel. \nAz Art-Színtér és a Művészetek Völgye közös előadása \nSzereposztás: \nMirandolina: Szulák Andrea\nRipafratta lovag: Kerényi Miklós Máté\nAlbafiorita gróf: Kautzky Armand\nForlipopoli őrgróf: Laki Péter / Oláh Béla\nFabrizio: Nagy Péter János\nOrtenzia: Kisfaludy Zsófia / Pánics Lilla\nDejanlra: Marjai Virág \nRendező: Pozsgai Zsolt\nDíszlet- és jelmeztervező: Rákay Tamás\nZeneszerző: Fecske Dávid\nKoreográfus: Sebestyén Csaba\nRendezőasszisztens: Majláth Dóra \nJegyár: 5900 Ft\, 6900 Ft\nJegyek jegypénztárunkban kizárólag készpénzzel fizethetők valamint online is kaphatók: https://artszinter.jegy.hu/program/mirandolina-vac-184978/1363741
URL:https://visitvac.hu/event/goldoni-mirandolina/
LOCATION:Madách Imre Művelődési Központ\, Dr. Csányi László krt. 63.\, Vác\, 2600\, Magyarország
ATTACH;FMTTYPE=image/png:https://visitvac.hu/wp-content/uploads/2025/11/goldoni_mirandolina_0116.png
END:VEVENT
BEGIN:VEVENT
DTSTART;TZID=Europe/Budapest:20260117T150000
DTEND;TZID=Europe/Budapest:20260117T170000
DTSTAMP:20260425T050846
CREATED:20260107T100706Z
LAST-MODIFIED:20260107T100706Z
UID:10001388-1768662000-1768669200@visitvac.hu
SUMMARY:Madagascar
DESCRIPTION:Kisállat kiállítás\nIsmeretterjesztő bemutató\, állatsimogató \nGyönyörű papagájok a világ minden tájáról\nHüllők\, pókok\, teknősök\nMini nyuszik\, mini minnesotai kismalac\,\nKopasz tengerimalac\, degu\, sünik \nÓRIÁSI  MEGLEPETÉS : SZURIKÁTÁK !\nFOTÓZÁS ARA  PAPAGÁJJAL ÉS SOK MÁS CUKI  KISÁLLATKÁVAL!\nJegyek a helyszínen kaphatók\, csak készpénzzel fizethetők!\nJegyár:  2500 FT/GYERMEK\,  3000 FT/FELNŐTT \nHelyszín: 37-40 terem
URL:https://visitvac.hu/event/madagascar/
LOCATION:Madách Imre Művelődési Központ\, Dr. Csányi László krt. 63.\, Vác\, 2600\, Magyarország
ATTACH;FMTTYPE=image/png:https://visitvac.hu/wp-content/uploads/2026/01/Madagascar_0117.png
END:VEVENT
BEGIN:VEVENT
DTSTART;TZID=Europe/Budapest:20260117T190000
DTEND;TZID=Europe/Budapest:20260117T203000
DTSTAMP:20260425T050846
CREATED:20251128T102847Z
LAST-MODIFIED:20251128T102847Z
UID:10001354-1768676400-1768681800@visitvac.hu
SUMMARY:Készpénz kártya – Új Aradi Varga Show Vácon
DESCRIPTION:Készpénz kártya – Új Aradi Varga Show Vácon\nBLACK WEEK\nFIGYELEM! A 2026. január 17-i „Készpénz kártya” – Aradi Varga Show váci  előadására november 21–30. között 4500 Ft-os kedvezményes áron lehet online jegyeket vásárolni korlátozott számban\, a BLACK WEEK akció keretében. \nAz akció kizárólag online jegyvásárlásnál érvényes: https://www.tixa.hu/standupbrigad\nAz akció november végéig él. Jöjjön el\, és kezdje nevetéssel az új évet! \nA Karinthy-gyűrűs humoristák\, Aradi Tibor és Varga Ferenc József új esttel jelentkeznek: KÉSZPÉNZ KÁRTYA címmel egy szórakoztató\, szatirikus utazásra invitálják a közönséget. 90 perc humor\, irónia és nevetés. Az est során életre kelnek a mindennapi abszurditások\, legyen szó hivatali ügyintézésről\, társadalmi fonákságokról vagy politikai furcsaságokról. Legújabb kabaréjeleneteikkel\, zenés paródiákkal és stand up monológokkal várják a nézőket a már jól ismert Aradi-Varga stílusban. Kezdje nevetéssel az évet! Jöjjön el! Nézze meg! Mert az Aradi Varga Show élőben az igazi! \nA belépőjegy ára: 5490 Ft \nJegyek jegypénztárunkban készpénzzel fizethetők! \nOnline jegyvásárlás: https://www.tixa.hu/uj-aradivargashow-vac
URL:https://visitvac.hu/event/keszpenz-kartya-uj-aradi-varga-show-vacon/
LOCATION:Madách Imre Művelődési Központ\, Dr. Csányi László krt. 63.\, Vác\, 2600\, Magyarország
ATTACH;FMTTYPE=image/png:https://visitvac.hu/wp-content/uploads/2025/11/keszpenz_kartya_mimk.png
END:VEVENT
BEGIN:VEVENT
DTSTART;TZID=Europe/Budapest:20260118T160000
DTEND;TZID=Europe/Budapest:20260118T170000
DTSTAMP:20260425T050846
CREATED:20251128T103234Z
LAST-MODIFIED:20251128T103234Z
UID:10001355-1768752000-1768755600@visitvac.hu
SUMMARY:TAZE TSE félévi gála – Második előadás
DESCRIPTION:A TAZE TáncSport Egyesület\nidén három egyedi és különleges gálaműsorral készül\, ahol táncosaink egy igazi színes táncforgataggal kápráztatják el a közönséget! \nA színpadon megjelenik minden\, amit a tanáraink ebben a félévben megalkottak táncosainkkal:\nVersenytánc\nTársastánc\nHip hop\nSzínpadi táncok\nOvis tánc\nModern tánc\nSzenior táncbemutatók\nHigh Heels \nA gála különlegessége\, hogy minden korosztály képviselteti magát — a legkisebb ovisoktól a rutinos szeniorokig\, a kezdő táncosoktól a versenyzőkig. \nHárom előadás\, három élmény!\nMindhárom műsorban más-más csoportok lépnek színpadra\, így minden előadás egyedi és megismételhetetlen!\nFelkészítő tanárok:\nBerki Haddad Sabrina\,\nBordás Györgyi\nBődi Dénes\,\nKrecsik Enikő\,\nMarkovics Emese\,\nMiskolczi Nóri\,\nPap Nóri Lili\,\nPrehoda Jedlicska Inez\,\nPrókai Ági\,\nSoós Klára. \nA belépőjegy ára: 4.000 Ft/alkalom \nJegyek  kaphatók jegypénztárunkban\, melyek kizárólag készpénzzel fizethetők!\nValamint online https://www.jegy.hu/program/taze-tse-felevi-galamusor-ii-eloadas-185317/1366897
URL:https://visitvac.hu/event/taze-tse-felevi-gala-masodik-eloadas/
LOCATION:Madách Imre Művelődési Központ\, Dr. Csányi László krt. 63.\, Vác\, 2600\, Magyarország
ATTACH;FMTTYPE=image/png:https://visitvac.hu/wp-content/uploads/2025/11/taze_masodik_eloadas.png
END:VEVENT
END:VCALENDAR