BEGIN:VCALENDAR
VERSION:2.0
PRODID:-//Visitvac - ECPv6.15.20//NONSGML v1.0//EN
CALSCALE:GREGORIAN
METHOD:PUBLISH
X-ORIGINAL-URL:https://visitvac.hu
X-WR-CALDESC:Események Visitvac
REFRESH-INTERVAL;VALUE=DURATION:PT1H
X-Robots-Tag:noindex
X-PUBLISHED-TTL:PT1H
BEGIN:VTIMEZONE
TZID:Europe/Budapest
BEGIN:DAYLIGHT
TZOFFSETFROM:+0100
TZOFFSETTO:+0200
TZNAME:CEST
DTSTART:20250330T010000
END:DAYLIGHT
BEGIN:STANDARD
TZOFFSETFROM:+0200
TZOFFSETTO:+0100
TZNAME:CET
DTSTART:20251026T010000
END:STANDARD
BEGIN:DAYLIGHT
TZOFFSETFROM:+0100
TZOFFSETTO:+0200
TZNAME:CEST
DTSTART:20260329T010000
END:DAYLIGHT
BEGIN:STANDARD
TZOFFSETFROM:+0200
TZOFFSETTO:+0100
TZNAME:CET
DTSTART:20261025T010000
END:STANDARD
BEGIN:DAYLIGHT
TZOFFSETFROM:+0100
TZOFFSETTO:+0200
TZNAME:CEST
DTSTART:20270328T010000
END:DAYLIGHT
BEGIN:STANDARD
TZOFFSETFROM:+0200
TZOFFSETTO:+0100
TZNAME:CET
DTSTART:20271031T010000
END:STANDARD
END:VTIMEZONE
BEGIN:VEVENT
DTSTART;TZID=Europe/Budapest:20260428T100000
DTEND;TZID=Europe/Budapest:20260428T110000
DTSTAMP:20260424T031250
CREATED:20260309T144848Z
LAST-MODIFIED:20260309T144848Z
UID:10001491-1777370400-1777374000@visitvac.hu
SUMMARY:A holdkirály palotája // interaktív mesejáték bábokkal // Aranyszamár Színház
DESCRIPTION:interaktív mesejáték bábokkal \nÍró: Szász Ilona\nTervező: Orosz Klaudia Jászai-díjas\nZeneszerző: Novák János Jászai-díjas\nRendező: Szívós Károly Blattner-díjas \nJátsszák: Baranyai Anita\, Érsek-Csanádi Gyöngyi\, Erdei Gergő \n„Laimét a Holdkirály magával ragadta\,fekete várába hét lakattal zárta.Nyergeld fel lovadat\, indulj messzi útra\,fel az égbe\, alá a tengerbe\, a látóhatáron túlra…” \nTe is segíthetsz kiszabadítani a szépséges leányt: locsogj\, mint a tenger\, kopogj\, mint a kövek\, ciripelj\, mint a kabócák\, s meglátod a szerelmesek újra egymásra találnak.Az előadás a Nemzeti Kulturális Alap támogatásával jött létre. Ajánljuk mesénket 4 – 144 éves korig. \nJegyár: 2700\,-\nCsoportoknak kedvezményt biztosítunk.\nGyermekeknek: 2200\,- Csoportonként 3 kísérőnek díjtalan (a foglalási létszámban jelezzék a kísérőt is\, köszönöm)\nA kedvezmények ügyében keressenek a +36-30/975-5448-as telefonszámon vagy a jegypenztar@vacidunakanyarszinhaz.hu e-mail címen.
URL:https://visitvac.hu/event/a-holdkiraly-palotaja-interaktiv-mesejatek-babokkal-aranyszamar-szinhaz/
LOCATION:Váci Dunakanyar Színház\, Dr. Csányi László krt. 58.\, Vác\, 2600\, Magyarország
ATTACH;FMTTYPE=image/jpeg:https://visitvac.hu/wp-content/uploads/2026/03/Holdkiraly-palotaja_0428.jpg
END:VEVENT
BEGIN:VEVENT
DTSTART;TZID=Europe/Budapest:20260429T190000
DTEND;TZID=Europe/Budapest:20260429T203000
DTSTAMP:20260424T031250
CREATED:20260114T150615Z
LAST-MODIFIED:20260114T150615Z
UID:10001421-1777489200-1777494600@visitvac.hu
SUMMARY:Ráskó Eszter új önálló estje\, műsorvezető: Fülöp Viktor
DESCRIPTION:Dumaszínház est\nRáskó Eszter új önálló estje Vácon\, Fülöp Viktor műsorvezetésével. \nElőadásunkat 16 éven aluliaknak nem ajánljuk! \nFellépői kérésre 14 évnél fiatalabbakat még szülői kísérettel sem tudunk beengedni az előadásra! \nJegyár: 6890 Ft\, 7890 Ft\, 8990 Ft \nAz előadást keresleti alapon árazzuk!\nJegyek kizárólag online kaphatók!
URL:https://visitvac.hu/event/rasko-eszter-uj-onallo-estje-musorvezeto-fulop-viktor/
LOCATION:Madách Imre Művelődési Központ\, Dr. Csányi László krt. 63.\, Vác\, 2600\, Magyarország
ATTACH;FMTTYPE=image/png:https://visitvac.hu/wp-content/uploads/2026/01/rasko-eszter_0429.png
END:VEVENT
BEGIN:VEVENT
DTSTART;TZID=Europe/Budapest:20260501T100000
DTEND;TZID=Europe/Budapest:20260501T180000
DTSTAMP:20260424T031250
CREATED:20260414T125738Z
LAST-MODIFIED:20260414T125738Z
UID:10001512-1777629600-1777658400@visitvac.hu
SUMMARY:Váci Majális
DESCRIPTION:10:00 Katáng zenekar gyerekkoncertje\n11:00 Obsitos Dalárda és Dalkör\n12:00 „Jó ebédhez szól a nóta! – Faludi Szilvi\n14:00 Táncshow A TÁNC VILÁGNAPJA alkalmából\nKözreműködnek: Helyi tánciskolák növendékei\n15:00 Sarantis Mantzourakis buzukiművész\n16:00 Sztárvendég: Buch Tibor zenés műsora\n18:00 Don Attila és a Standby Line \n10:00 – 14:00 Vác Városi Idősügyi Tanács szervezésében Egészségügyi szűrés a váci lakosság részére. \nA nap folyamán: Ugrálóvár\, bubérékgömb\, lufihajtogató\,\narcfestés és csillámtetoválás várja a gyermekeket. \nSZERVEZŐ: VÁC VÁROS ÖNKORMÁNYZAT\, MADÁCH IMRE MŰVELŐDÉSI KÖZPONT | INFORMÁCIÓ: INFO@VAROSHAZA.VAC.HU. TOVÁBBI PROGRAMOK: WWW.VISITVAC.HU\nAZ ESEMÉNYEN FOTÓ- ÉS VIDEÓFELVÉTEL KÉSZÜL. A MŰSORVÁLTOZTATÁS JOGÁT FENNTARTJUK! \nA PROGRAM INGYENES. \nHelyszín: Duna-part\, Zenepavilon
URL:https://visitvac.hu/event/vaci-majalis/
LOCATION:Váci Duna-part\, József Attila stny. 1.\, Vác\, 2600\, Magyarország
ATTACH;FMTTYPE=image/jpeg:https://visitvac.hu/wp-content/uploads/2026/04/majalis-2026-plakat.jpg
ORGANIZER;CN="V%C3%A1c V%C3%A1ros %C3%96nkorm%C3%A1nyzata":MAILTO:szerveztitkar@varoshaza.vac.hu
END:VEVENT
BEGIN:VEVENT
DTSTART;TZID=Europe/Budapest:20260502T140000
DTEND;TZID=Europe/Budapest:20260502T170000
DTSTAMP:20260424T031250
CREATED:20260317T124104Z
LAST-MODIFIED:20260317T124104Z
UID:10001503-1777730400-1777741200@visitvac.hu
SUMMARY:Akvarell festés tegnap és ma – Workshop Tóth Angelika festőművésszel
DESCRIPTION:Tapasztald meg az akvarellezés könnyedségét!Ha mindig is szerettél volna elmerülni az akvarell festés felszabadító élményében\, de egyedül nem mertél nekivágni\, ez egy jó alkalom arra\, hogy professzionális vezetéssel próbáld ki a technikát. Az alkotásban Tóth Angelika hivatásos festőművész lesz segítségedre.\n\nMi vár rád?Egy inspiráló\, közös élmény\, ahol a tájkép\, a csendélet\, illetve egy előre felvázolt téma mentén tanulhatod az akvarellezést\, a hagyományostól egészen a modernkori vízfestésig. Az alkotás mellett fókuszba kerül a figyelem fontossága\, a természet iránti érzékeny látásmód\, valamint művészettörténeti érdekességekkel is gazdagodhatsz majd.\n\nSzeretettel várunk minden művészet barátot és kísérletezni vágyó érdeklődőt\, egy közös\, májusi kreatív programra.Ajánlott életkor: Felnőtteknek és gyerekeknek (9–10 éves kortól)Időpont: 2026. május 2. (szombat) 14:00–17:00Helyszín: Elefántos Ház\, Tragor Ignác Múzeum\, Vác (2600 Vác\, Március 15. tér 23.)A foglalkozás díja: 10.000 Ft/főA jegyek megválthatóak a Memento Mori Kiállítóhelyen\nLimitált létszám: Max 15 fő
URL:https://visitvac.hu/event/akvarell-festes-tegnap-es-ma-workshop-toth-angelika-festomuvesszel/
LOCATION:Elefántos Ház\, Március 15. tér 23.\, Vác\, Pest\, 2600\, Magyarország
ATTACH;FMTTYPE=image/avif:https://visitvac.hu/wp-content/uploads/2026/03/Akvarell-workshop_0502.avif
ORGANIZER;CN="Tragor Ign%C3%A1c M%C3%BAzeum":MAILTO:info@muzeumvac.hu
END:VEVENT
BEGIN:VEVENT
DTSTART;TZID=Europe/Budapest:20260502T200000
DTEND;TZID=Europe/Budapest:20260502T220000
DTSTAMP:20260424T031250
CREATED:20260219T124157Z
LAST-MODIFIED:20260219T124157Z
UID:10001458-1777752000-1777759200@visitvac.hu
SUMMARY:Rock and Roll party a Panoráma zenekarral
DESCRIPTION:Az együttes tagjai:\nTóth János – dob\, zenekarvezető\nPantali Gábor – gitár\, ének\nBocsányi Tibor – basszusgitár\, ének\nSchrick László – gitár\, ének \nBelépőjegy ára: 2500 Ft \nHelyszín: Jeszenszky terem \nA koncert ideje alatt kizárólag a Kávézóban vásárolt árucikkek fogyaszthatók! \nOnline jegyvásárlás:https://www.jegy.hu/program/panorama-koncert-188117/1396670
URL:https://visitvac.hu/event/rock-and-roll-party-a-panorama-zenekarral-2/
LOCATION:Madách Imre Művelődési Központ\, Dr. Csányi László krt. 63.\, Vác\, 2600\, Magyarország
ATTACH;FMTTYPE=image/jpeg:https://visitvac.hu/wp-content/uploads/2026/02/PANORAMA_0502.jpg
END:VEVENT
BEGIN:VEVENT
DTSTART;TZID=Europe/Budapest:20260503T180000
DTEND;TZID=Europe/Budapest:20260503T190000
DTSTAMP:20260424T031250
CREATED:20260309T150838Z
LAST-MODIFIED:20260309T150838Z
UID:10001492-1777831200-1777834800@visitvac.hu
SUMMARY:Face 2 Face Produkció // Úgy szeretném meghálálni
DESCRIPTION:Előadják: Face 2 Face produkció \nAnyák napi koncert a Váci Dunakanyar Színházban.\nAnyák napja alkalmából egy meghitt\, érzelmekkel teli koncertre várjuk a közönséget\, ahol a Face 2 Face Produkció előadásában csendülnek fel a 60-as\, 70-es és 80-as évek magyar könnyűzenéjének ikonikus dalai. \nOlyan slágerek hangzanak el\, amelyek generációkat kötnek össze\, és sokak számára személyes emlékeket idéznek fel. A Face 2 Face Produkció Vácon már többször telt ház előtt lépett fel – ez az est méltó folytatása ezeknek a közös zenei élményeknek. \nÉlő zene a magyar könnyűzene aranykorából\nKülönleges ajándék anyák napjára\nMeghitt\, ünnepi hangulat \nVálts jegyet időben\, és ünnepeljétek együtt az anyák napját egy különleges koncerten! \nJegyár: 4900 Ft
URL:https://visitvac.hu/event/face-2-face-produkcio-ugy-szeretnem-meghalalni/
LOCATION:Váci Dunakanyar Színház\, Dr. Csányi László krt. 58.\, Vác\, 2600\, Magyarország
ATTACH;FMTTYPE=image/jpeg:https://visitvac.hu/wp-content/uploads/2026/03/Face2face_0503.jpg
END:VEVENT
BEGIN:VEVENT
DTSTART;TZID=Europe/Budapest:20260503T190000
DTEND;TZID=Europe/Budapest:20260503T203000
DTSTAMP:20260424T031250
CREATED:20260219T124356Z
LAST-MODIFIED:20260219T124356Z
UID:10001459-1777834800-1777840200@visitvac.hu
SUMMARY:Kovács Kati szimfonikus koncert
DESCRIPTION:Turné 2026\nSzeretettel köszöntjük az édesanyákat Anyák napja alkalmából egy igazán különleges zenei élménnyel! \na Madách Imre Művelődési Központ színpadán lép fel Kovács Kati\, Kossuth-díjas\, Liszt Ferenc- és Primissima díjas előadóművész\, egy ünnepi hangulatú Anyák napi szimfonikus koncert keretében. \nAz est során Kovács Kati legismertebb és legszebb dalai szimfonikus hangszerelésben csendülnek fel\, meghitt\, emelkedett atmoszférát teremtve\, méltó módon köszöntve az édesanyákat és nagymamákat. Az előadás nem csupán koncert\, hanem közös ünnep is: a szeretet\, a hála és az összetartozás ünnepe. \nLepjük meg együtt az édesanyákat egy felejthetetlen zenei élménnyel Anyák napján Vácon! \nJegyár: 10.990 Ft\, 12.990 Ft \nOnline jegyvásárlás: https://www.jegy.hu/program/kovacs-kati-szimfonikus-anyak-napi-koncert-vac-187567/1391512
URL:https://visitvac.hu/event/kovacs-kati-szimfonikus-koncert/
LOCATION:Madách Imre Művelődési Központ\, Dr. Csányi László krt. 63.\, Vác\, 2600\, Magyarország
ATTACH;FMTTYPE=image/png:https://visitvac.hu/wp-content/uploads/2026/02/Kovacs-Kati_0503.png
END:VEVENT
END:VCALENDAR