BEGIN:VCALENDAR
VERSION:2.0
PRODID:-//Visitvac - ECPv6.15.20//NONSGML v1.0//EN
CALSCALE:GREGORIAN
METHOD:PUBLISH
X-WR-CALNAME:Visitvac
X-ORIGINAL-URL:https://visitvac.hu
X-WR-CALDESC:Események Visitvac
REFRESH-INTERVAL;VALUE=DURATION:PT1H
X-Robots-Tag:noindex
X-PUBLISHED-TTL:PT1H
BEGIN:VTIMEZONE
TZID:Europe/Budapest
BEGIN:DAYLIGHT
TZOFFSETFROM:+0100
TZOFFSETTO:+0200
TZNAME:CEST
DTSTART:20250330T010000
END:DAYLIGHT
BEGIN:STANDARD
TZOFFSETFROM:+0200
TZOFFSETTO:+0100
TZNAME:CET
DTSTART:20251026T010000
END:STANDARD
BEGIN:DAYLIGHT
TZOFFSETFROM:+0100
TZOFFSETTO:+0200
TZNAME:CEST
DTSTART:20260329T010000
END:DAYLIGHT
BEGIN:STANDARD
TZOFFSETFROM:+0200
TZOFFSETTO:+0100
TZNAME:CET
DTSTART:20261025T010000
END:STANDARD
BEGIN:DAYLIGHT
TZOFFSETFROM:+0100
TZOFFSETTO:+0200
TZNAME:CEST
DTSTART:20270328T010000
END:DAYLIGHT
BEGIN:STANDARD
TZOFFSETFROM:+0200
TZOFFSETTO:+0100
TZNAME:CET
DTSTART:20271031T010000
END:STANDARD
END:VTIMEZONE
BEGIN:VEVENT
DTSTART;TZID=Europe/Budapest:20260606T170000
DTEND;TZID=Europe/Budapest:20260606T190000
DTSTAMP:20260424T123224
CREATED:20260325T121621Z
LAST-MODIFIED:20260325T121621Z
UID:10001511-1780765200-1780772400@visitvac.hu
SUMMARY:Hol volt\, hol nem volt – mesél a színpad
DESCRIPTION:Gála előadás\na Thália Művészeti Egyesület szólistáival és Ifjúsági csoportjával. \nKoreográfia: Mézes Judit\nRendező: Bálint Brigitta\nMűvészeti vezető: Brenner Judit \nSzólisták: Grubits Blanka\, Szreseny Dóra\, Megyesi Enikő\, Nábelek Sára\, Veres Réka\, Vizhányó Zina \nFotó: Pomaházi Roland \nJegyár: 3000 Ft \nJegyek hamarosan kaphatók jegypénztárunkban!
URL:https://visitvac.hu/event/hol-volt-hol-nem-volt-mesel-a-szinpad/
LOCATION:Madách Imre Művelődési Központ\, Dr. Csányi László krt. 63.\, Vác\, 2600\, Magyarország
ATTACH;FMTTYPE=image/png:https://visitvac.hu/wp-content/uploads/2026/03/hol-volt-hol-nem-volt_0606.png
END:VEVENT
END:VCALENDAR