BEGIN:VCALENDAR
VERSION:2.0
PRODID:-//Visitvac - ECPv6.15.20//NONSGML v1.0//EN
CALSCALE:GREGORIAN
METHOD:PUBLISH
X-WR-CALNAME:Visitvac
X-ORIGINAL-URL:https://visitvac.hu
X-WR-CALDESC:Események Visitvac
REFRESH-INTERVAL;VALUE=DURATION:PT1H
X-Robots-Tag:noindex
X-PUBLISHED-TTL:PT1H
BEGIN:VTIMEZONE
TZID:Europe/Budapest
BEGIN:DAYLIGHT
TZOFFSETFROM:+0100
TZOFFSETTO:+0200
TZNAME:CEST
DTSTART:20240331T010000
END:DAYLIGHT
BEGIN:STANDARD
TZOFFSETFROM:+0200
TZOFFSETTO:+0100
TZNAME:CET
DTSTART:20241027T010000
END:STANDARD
BEGIN:DAYLIGHT
TZOFFSETFROM:+0100
TZOFFSETTO:+0200
TZNAME:CEST
DTSTART:20250330T010000
END:DAYLIGHT
BEGIN:STANDARD
TZOFFSETFROM:+0200
TZOFFSETTO:+0100
TZNAME:CET
DTSTART:20251026T010000
END:STANDARD
BEGIN:DAYLIGHT
TZOFFSETFROM:+0100
TZOFFSETTO:+0200
TZNAME:CEST
DTSTART:20260329T010000
END:DAYLIGHT
BEGIN:STANDARD
TZOFFSETFROM:+0200
TZOFFSETTO:+0100
TZNAME:CET
DTSTART:20261025T010000
END:STANDARD
BEGIN:DAYLIGHT
TZOFFSETFROM:+0100
TZOFFSETTO:+0200
TZNAME:CEST
DTSTART:20270328T010000
END:DAYLIGHT
BEGIN:STANDARD
TZOFFSETFROM:+0200
TZOFFSETTO:+0100
TZNAME:CET
DTSTART:20271031T010000
END:STANDARD
END:VTIMEZONE
BEGIN:VEVENT
DTSTART;TZID=Europe/Budapest:20251114T180000
DTEND;TZID=Europe/Budapest:20260105T180000
DTSTAMP:20260422T010207
CREATED:20251105T143120Z
LAST-MODIFIED:20251105T143120Z
UID:10001336-1763143200-1767636000@visitvac.hu
SUMMARY:Mandalák
DESCRIPTION:Fülöp Jánosné Eszter kiállítása\nMegnyitó ünnepség: november 14. 18 óra\nKiállítást megnyitja: Németh Árpád festőművész\nHandpanen közreműködik: Kőrösi Gábor \nHelyszín: Kávézó Galéria
URL:https://visitvac.hu/event/mandalak/
LOCATION:Madách Imre Művelődési Központ\, Dr. Csányi László krt. 63.\, Vác\, 2600\, Magyarország
ATTACH;FMTTYPE=image/png:https://visitvac.hu/wp-content/uploads/2025/11/mandalak_mimk.png
END:VEVENT
BEGIN:VEVENT
DTSTART;TZID=Europe/Budapest:20251113T190000
DTEND;TZID=Europe/Budapest:20251113T210000
DTSTAMP:20260422T010207
CREATED:20250918T102929Z
LAST-MODIFIED:20250918T103024Z
UID:10001263-1763060400-1763067600@visitvac.hu
SUMMARY:Clauságok
DESCRIPTION:LIPTAI CLAUDIA ÖNÁLLÓ TESTE \nEgy egész ország ismeri Liptai Claudiát\, most pedig az est folyamán őszintén\, rengeteg humorral és öniróniával beszél életéről\, pályájáról\, sőt\, színpadra viszi a legnagyobb félelmét is… \n„Az volt bennem\, kell lennie valaminek\, amit én magam hozok létre. Amit én írok\, én adom elő\, teljes egészében én vállalom érte a felelősséget. Szükséges\, hogy időnként túllépjünk azokon a határokon\, amelyeket magunk húzunk meg magunknak” – mesélte egyik interjújában a sokoldalú színésznő. \nIdőutazás\, ének-zene\, őrült történetek\, vidám és meghökkentő pillanatok – kár lenne róla lemaradni! \nA szervezők a változtatás jogát fenntartják. \nJegyár: 7500Ft\, 8500Ft\nJegyek online kaphatók: https://tinyurl.hu/EG16 \n 
URL:https://visitvac.hu/event/clausagok/
LOCATION:Madách Imre Művelődési Központ\, Dr. Csányi László krt. 63.\, Vác\, 2600\, Magyarország
CATEGORIES:Előadás
ATTACH;FMTTYPE=image/png:https://visitvac.hu/wp-content/uploads/2025/09/Nevtelen-terv-2025-04-14T133623.068.png
END:VEVENT
BEGIN:VEVENT
DTSTART;TZID=Europe/Budapest:20251112T100000
DTEND;TZID=Europe/Budapest:20251112T111500
DTSTAMP:20260422T010207
CREATED:20250918T102452Z
LAST-MODIFIED:20250918T102522Z
UID:10001262-1762941600-1762946100@visitvac.hu
SUMMARY:Csodálatos Andersen
DESCRIPTION:Zenés Mesejáték a Fellegjárók Társulat előadásában \nEgy zord\, viharos napon egy árva kislány téved Andersen szegényes pincelakásába. A kis Gerdát elbűvöli a bábszínház\, amelyben négy bábu árválkodik. A megelevenedett bábfigurák – az Ólomkatona\, a Táncosnő\, Zsófi rongybaba\, és Ole manó egy különleges küldetés teljesítésére kérik fel a kislányt: ölelje meg a Hókirálynőt\, hogy feloldódhasson a jég az emberek szívéről\, és egy boldogabb szeretetteljes világ köszönhessen ránk. \nBalázs Ágnes meséje egyfelől több ismert Andersen történetet is újra mesél\, másfelől a híres dán író mesekönyvének születéséről is szól. Nincsen olyan felnőtt és gyermek\, aki ne ismerné Hans Christian Andersen meséit\, de talán kevesen tudják\, hogy a nagy író élete önmagában is egy varázslatos mese volt. Világhírű ember szeretett volna lenni\, színészként\, majd színpadi szerzőként akarta meghódítani a nagyközönséget\, ám az igazi sikert\, a halhatatlanságot a mesék hozták el számára. Balázs Ágnes író\, különleges érzékenységgel mutatja be az anderseni lélek szépségeit. Zenéi\, dallamai\, fülbemászó muzsikái igazi kikapcsolódást ígérnek gyermekeknek és felnőtteknek egyaránt! A Fellegjárók Társulat remek szereposztással\, nagyszerű alkotókkal most egy igazi önfeledt előadást kínál! \nAlkotók: \n\nZene: Balázs Ágnes\, Hangszerelés: Fekete Mária\, Zenei Vezető: Endrődi Ágnes\,\nJelmez: Muladi Klára / Szabó Tünde\, Grafika: Faltisz Alexandra / Zimányi-Faltisz\nDániel\, Látvány:Tibibii\, Hangmérnök: Bachraty Gábor\, Fény: Czibor Attila\nKoreográfus: Bóbis László\n\nKreatív Producer- Rendező: Endrődi Ágnes \nA belépőjegy ára: 2.700 Ft \nJegyek jegypénztárunkban és online is kaphatók!\nhttps://www.jegy.hu/program/csodalatos-andersen-177475/1295218
URL:https://visitvac.hu/event/csodalatos-andersen/
LOCATION:Madách Imre Művelődési Központ\, Dr. Csányi László krt. 63.\, Vác\, 2600\, Magyarország
CATEGORIES:Gyermekprogram
ATTACH;FMTTYPE=image/png:https://visitvac.hu/wp-content/uploads/2025/09/Nevtelen-terv-2025-05-14T115144.025.png
END:VEVENT
BEGIN:VEVENT
DTSTART;TZID=Europe/Budapest:20251109T190000
DTEND;TZID=Europe/Budapest:20251109T210000
DTSTAMP:20260422T010207
CREATED:20250924T084033Z
LAST-MODIFIED:20250924T084033Z
UID:10001264-1762714800-1762722000@visitvac.hu
SUMMARY:Amerikai komédia
DESCRIPTION:New Yorkban vagyunk\, 1938-ban\, a La Paz nevű luxushajó fedélzetén. Egy munkamániás\, besavanyodott ifjú üzletasszony és egy sármőr kalandor viharos találkozásának lehetünk tanúi. A Monte Carlóba tartó tengeri úton különös figurák népesítik be a fedélzetet. Megjelenik például Tony vőlegénye\, a degenerált pénzarisztokrata\, egy brutális feleség és az asszony terrorja alatt szenvedő rémült kis férfi\, a tétova titkár\, akinek kétszer is egy tibeti hangtál változtatja meg az életét\, vagy épp Tony fékezhetetlen életkedvű anyja\, aki legalább tíz évvel szeretne fiatalabbnak látszani a saját lányánál. Mindenki menekül valami elől\, vagy valaki után. Nagy pénzek forognak kockán\, és aki csak teheti\, labdázik a másik szívével. Mindeközben pedig a luxushajón tombol a szving\, a dzsessztörténet máig élő\, legfényesebb korszakának vérpezsdítő muzsikája. \nAz egykori sikerelőadás 2025-től a Veres 1 Színház repertoárján éled újra. \nSZEREPLŐK: \n\nTony Roe – JANZA KATA / HORVÁTH MÓNIKA\nFrank Anderson – SIMON KORNÉL\nAlbert Morning – BÁLINT ÁDÁM\nAlphonse Sapault – HARNA PÉTER\nEdith Sapault – SIMÉNFALVY ÁGOTA / FALUSI MARIANN\nMrs. Irene Roe –  ZORGEL ENIKŐ\nPershing – OLÁH BÉLA / xxx\nWhitman\, riporter – PALOTAI ZOLTÁN\nTánckar: Géczi Olívia\, Kalmár Botond\, Maros-Szabó Réka\, Nagy Róbert\, Pálinkás Balázs\, Szeretva Renáta\nDíszlettervező: Széll Tímea\nJelmeztervező: Böhm Katalin\nZenei vezető: Vecsei László\nKoreográfus-asszisztens: Papp Éva\nKoreográfus: Vári Bertalan\nRendezőasszisztens: Páli Veronika\nRendező: Peller Károly
URL:https://visitvac.hu/event/amerikai-komedia/
LOCATION:Madách Imre Művelődési Központ\, Dr. Csányi László krt. 63.\, Vác\, 2600\, Magyarország
CATEGORIES:Előadás,Színház
ATTACH;FMTTYPE=image/png:https://visitvac.hu/wp-content/uploads/2025/09/Nevtelen-terv-2025-09-22T105754.276.png
END:VEVENT
BEGIN:VEVENT
DTSTART;TZID=Europe/Budapest:20251104T190000
DTEND;TZID=Europe/Budapest:20251104T203000
DTSTAMP:20260422T010207
CREATED:20250918T102133Z
LAST-MODIFIED:20250924T083621Z
UID:10001261-1762282800-1762288200@visitvac.hu
SUMMARY:Nyitott Akadémia - Buda László: Mit üzen az életed?
DESCRIPTION:Dr. Buda László orvos\, pszichiáter és pszichoterapeuta több év hallgatás után tavaly év végén új könyvvel és új előadással tért vissza! A Mit üzen az életed?\, ahogy a címe is sugallja\, az életút egészét vizsgálja. Mit üzen számunkra az\, ahol most tartunk\, ahogyan élünk? Hogyan jutottunk ide? Jó helyen vagyunk? Jó irányba megyünk? Értelmesek és vállalhatók a kompromisszumok\, vagy valami nagyon félresiklott az idők folyamán? Mit tehetünk\, ha az önvizsgálat során arra jutunk\, hogy nem élünk önazonos életet és valami igazabbra\, teljesebbre vágyunk? \nAz előadás arra hív\, hogy nagy léptékben vizsgáljuk meg azt\, ami körülöttünk és bennünk van. Ha távolabbról és felülről tekintünk rá arra\, amit máskor közelről nézünk\, jó eséllyel máshogy fogjuk látni azt\, és másféle fontossági sorrendek\, utak\, megoldási lehetőségek is kirajzolódhatnak. \nDr. Buda László munkájában legfontosabbnak tartja a testi és lelki aspektusok együttes vizsgálatát\, mély pszichológiai mozgatórugók feltárását\, dogmamentességet\, szabadságot\, érzelemgazdagságot\, játékosságot\, hatékonyságot\, eleganciát\, könnyedséget\, alázatot. Aki ellátogat az előadásra\, mindezeket megtapasztalhatja. \nJegyvásárlás: https://nyitottakademia.hu/rendezvenyek/vac/mit-uzen-az-eleted-2252
URL:https://visitvac.hu/event/nyitott-akademia-buda-laszlo-mit-uzen-az-eleted/
LOCATION:Madách Imre Művelődési Központ\, Dr. Csányi László krt. 63.\, Vác\, 2600\, Magyarország
CATEGORIES:Előadás
ATTACH;FMTTYPE=image/png:https://visitvac.hu/wp-content/uploads/2025/09/Budai.png
END:VEVENT
BEGIN:VEVENT
DTSTART;TZID=Europe/Budapest:20251103T173000
DTEND;TZID=Europe/Budapest:20251103T183000
DTSTAMP:20260422T010207
CREATED:20251020T083702Z
LAST-MODIFIED:20251020T083702Z
UID:10001266-1762191000-1762194600@visitvac.hu
SUMMARY:Eljött a Te időd! Te irányítasz!
DESCRIPTION:A munkád az élet minden területére hatást gyakorol: a mindennapjaidra\, a hangulatodra és a családodra is.\nVáltoztass\, mielőtt késő lenne! \nIsmerd meg a 3 lépéses szabadságképletet\, és vedd át az irányítást az életed felett!\n• Úgy érzed\, váltanod kellene\, de nem tudod\, merre indulj?\n• Elbizonytalanodtál\, hogy jó helyen vagy-e?\n• Szeretnéd végre megteremteni a munka-magánélet egyensúlyát?\n• Fáradtnak\, kiégettnek érzed magad\, és változtatni akarsz?\nAkkor nem is kérdés\, hogy itt a helyed! \nA rendezvény díjmentes\, de előzetes regisztrációhoz kötött!\nRegisztrálj most!\nhttps://docs.google.com/forms/d/e/1FAIpQLSfG4-LeCdZPMcD7zKVxdgFkAhxUfhq05BnYwCHp94KByVf0AA/viewform
URL:https://visitvac.hu/event/eljott-a-te-idod-te-iranyitasz/
LOCATION:Madách Imre Művelődési Központ\, Dr. Csányi László krt. 63.\, Vác\, 2600\, Magyarország
CATEGORIES:Előadás
ATTACH;FMTTYPE=image/png:https://visitvac.hu/wp-content/uploads/2025/10/Frantic-4.png
END:VEVENT
BEGIN:VEVENT
DTSTART;TZID=Europe/Budapest:20251030T190000
DTEND;TZID=Europe/Budapest:20251030T210000
DTSTAMP:20260422T010207
CREATED:20250918T084106Z
LAST-MODIFIED:20250918T084106Z
UID:10001260-1761850800-1761858000@visitvac.hu
SUMMARY:Eric Chappell: SPANYOLHÁTHA (Hőguta)
DESCRIPTION:Két angol úriember érkezik egy spanyol villába. Egyikük a nejével\, Fay-jel\, a másik\, az idősödő sorozatszínész Howard pedig a nála húsz évvel fiatalabb Dodie-val. A párok mindössze egy kellemes hosszú hétvégét szeretnének eltölteni főnökük üresnek hitt\, dél-spanyol tengerparton fekvő fényűző nyaralójában\, ahol ráadásként még Raynor nyomozó és Kutya\, a gengszter is felbukkan. A furcsa párok furcsa találkozásához három teljesen egyforma\, ámde merőben más tartalmú táska szolgáltatja a végleges\, de annál inkább humoros szituációk sorozatát. \nSzereposztás: \n\nSam Spencer – Mihályfi Balázs\nFay Spencer – Pikali Gerda\nHoward Green – Beleznay Endre\nDodie – Nyári Dia\nRaynor vagy talán Kutya – Suhajda Dániel\nRaynor vagy talán Kutya – Barabás Kiss Zoltán\n\nRendező: Beleznay Endre \nAZ ELŐADÁSRÓL VIDEO- VAGY HANGFELVÉTELT KÉSZÍTENI SZIGORÚAN TILOS! \nA változtatás jogát fenntartjuk!\nJegyár: 7900 Ft\, 8900Ft\nJegyek online kaphatók!\nhttps://hangjegyszinhaz.jegy.hu/program/eric-chappell-spanyolhatha-hoguta-181741/1331757
URL:https://visitvac.hu/event/eric-chappell-spanyolhatha-hoguta/
LOCATION:Madách Imre Művelődési Központ\, Dr. Csányi László krt. 63.\, Vác\, 2600\, Magyarország
CATEGORIES:Előadás,Színház
ATTACH;FMTTYPE=image/png:https://visitvac.hu/wp-content/uploads/2025/09/Nevtelen-terv-2025-09-12T091304.012.png
END:VEVENT
END:VCALENDAR