BEGIN:VCALENDAR
VERSION:2.0
PRODID:-//Visitvac - ECPv6.15.20//NONSGML v1.0//EN
CALSCALE:GREGORIAN
METHOD:PUBLISH
X-ORIGINAL-URL:https://visitvac.hu
X-WR-CALDESC:Események Visitvac
REFRESH-INTERVAL;VALUE=DURATION:PT1H
X-Robots-Tag:noindex
X-PUBLISHED-TTL:PT1H
BEGIN:VTIMEZONE
TZID:Europe/Budapest
BEGIN:DAYLIGHT
TZOFFSETFROM:+0100
TZOFFSETTO:+0200
TZNAME:CEST
DTSTART:20240331T010000
END:DAYLIGHT
BEGIN:STANDARD
TZOFFSETFROM:+0200
TZOFFSETTO:+0100
TZNAME:CET
DTSTART:20241027T010000
END:STANDARD
BEGIN:DAYLIGHT
TZOFFSETFROM:+0100
TZOFFSETTO:+0200
TZNAME:CEST
DTSTART:20250330T010000
END:DAYLIGHT
BEGIN:STANDARD
TZOFFSETFROM:+0200
TZOFFSETTO:+0100
TZNAME:CET
DTSTART:20251026T010000
END:STANDARD
BEGIN:DAYLIGHT
TZOFFSETFROM:+0100
TZOFFSETTO:+0200
TZNAME:CEST
DTSTART:20260329T010000
END:DAYLIGHT
BEGIN:STANDARD
TZOFFSETFROM:+0200
TZOFFSETTO:+0100
TZNAME:CET
DTSTART:20261025T010000
END:STANDARD
BEGIN:DAYLIGHT
TZOFFSETFROM:+0100
TZOFFSETTO:+0200
TZNAME:CEST
DTSTART:20270328T010000
END:DAYLIGHT
BEGIN:STANDARD
TZOFFSETFROM:+0200
TZOFFSETTO:+0100
TZNAME:CET
DTSTART:20271031T010000
END:STANDARD
END:VTIMEZONE
BEGIN:VEVENT
DTSTART;TZID=Europe/Budapest:20251130T190000
DTEND;TZID=Europe/Budapest:20251130T210000
DTSTAMP:20260422T012031
CREATED:20251029T125230Z
LAST-MODIFIED:20251029T125230Z
UID:10001294-1764529200-1764536400@visitvac.hu
SUMMARY:ELMARAD! - Legyen ünnep!
DESCRIPTION:Kedves érdeklődők!\nSajnálattal értesítünk mindenkit\, hogy a „Legyen Ünnep – musical est” elmarad. \nA megváltott jegyek visszaválhatók a vásárlás helyszínén\, illetve online a jegyvásárlás felületén. \nKöszönjük a megértést és az együttműködést! \nJegyek jegypénztárunkban kaphatók!\nOnline jegyvásárlás: https://www.jegy.hu/program/legyen-unnep-179768/1314502
URL:https://visitvac.hu/event/elmarad-legyen-unnep/
LOCATION:Madách Imre Művelődési Központ\, Dr. Csányi László krt. 63.\, Vác\, 2600\, Magyarország
ATTACH;FMTTYPE=image/png:https://visitvac.hu/wp-content/uploads/2025/10/legyen_unnep_elmarad_mimk-1.png
END:VEVENT
BEGIN:VEVENT
DTSTART;TZID=Europe/Budapest:20251130T160000
DTEND;TZID=Europe/Budapest:20251130T180000
DTSTAMP:20260422T012031
CREATED:20251127T143814Z
LAST-MODIFIED:20251128T084326Z
UID:10001341-1764518400-1764525600@visitvac.hu
SUMMARY:Adventi kézműves foglalkozás 1.
DESCRIPTION:Szeretettel várunk minden kreatívkodni vágyót\,\nKicsit és Nagyot\, az adventi vasárnapokon.\nAlkalmanként\, más-más ünnepi alkotás készíthető\, így érdemes mindegyik hétvégén felkeresni a foglalkozásokat. \nBálint Brigitta és Dr. Vargha Nóra vezetésével: ünnepváró kézműves foglalkozás gyerekeknek\nAngyalka karácsonyfadísz és képeslap készítés \nHelyszín: Curia épülete \nA foglalkozások ingyenesek!
URL:https://visitvac.hu/event/adventi-kezmuves-foglalkozas-1/
LOCATION:Curia\, Március 15. tér 20.\, Vác\, 2600\, Magyarország
ATTACH;FMTTYPE=image/png:https://visitvac.hu/wp-content/uploads/2025/11/adventi_kezmuves_foglalkozas.png
END:VEVENT
BEGIN:VEVENT
DTSTART;TZID=Europe/Budapest:20251129T200000
DTEND;TZID=Europe/Budapest:20251129T220000
DTSTAMP:20260422T012031
CREATED:20251029T123958Z
LAST-MODIFIED:20251029T123958Z
UID:10001293-1764446400-1764453600@visitvac.hu
SUMMARY:Hajdu Klára & Szakonyi Milán – Váci Jazz Tükör
DESCRIPTION:ÜNNEPELJ VELEM ADVENTI KONCERT\nHajdu Klára és Szakonyi Milán neve ismerősen csenghet a jazz és a könnyűzene rajongóinak egyaránt.\nKlára a hazai jazz élet kiemelkedő énekes-dalszerzője és tanára. 15 éves\, kétszeres Fonogram-jelölt quartetjének dalait Európától Mexikóig pörgetik a rádiók és több mint 30 országban streamelik őket a rajongók.\nMilán hazánk egyik legkülönlegesebb hangú énekese\, aki amellett\, hogy 10 évig énekelt a Fonogram-díjas Balázs Elemér Groupban\, a magyar könnyűzenei élet oszlopos tagja. Együtt zenél és énekel Boggie-val és Romhányi Áronnal.\nKlára és Milán duójának sajátos stílusa finom akusztikus muzsika\, amiben a pop és a jazz elemei ízlésesen keverednek.\nA páros 8. éve dolgozik együtt\, de már énekeltek Münchenben\, Londonban\, Kanadában és még az USA-ban is.\n”You’re Gonna Rise” című első közös szerzeményükre a szakma is felfigyelt\, hiszen beválogatták ‘A Dal 2019’ TOP30 dala közé\, „Ne nézz vissza” című dalukat pedig Fonogram Magyar Zenei Díjra jelölték.\nErre az ünnepi koncertre a páros elhozza saját dalait és a számukra legkedvesebb karácsonyi dalokat\, amiket gitárkísérettel és looperrel adnak elő. \nA belépőjegy ára: 2.500 Ft \nJegyek jegypénztárunkban kaphatók!\nOnline jegyvásárlás: https://www.jegy.hu/program/vaci-jazz-tukor-hajdu-klaraszakonyi-milan-182862/1342522 \nHelyszín: Jeszenszky terem
URL:https://visitvac.hu/event/hajdu-klara-szakonyi-milan-vaci-jazz-tukor/
LOCATION:Madách Imre Művelődési Központ\, Dr. Csányi László krt. 63.\, Vác\, 2600\, Magyarország
ATTACH;FMTTYPE=image/png:https://visitvac.hu/wp-content/uploads/2025/10/hajdu_klara_szakonyi_milan_vaci_jazz_tukor_mimk.png
END:VEVENT
BEGIN:VEVENT
DTSTART;TZID=Europe/Budapest:20251129T190000
DTEND;TZID=Europe/Budapest:20251129T213000
DTSTAMP:20260422T012031
CREATED:20251029T122221Z
LAST-MODIFIED:20251029T122221Z
UID:10001292-1764442800-1764451800@visitvac.hu
SUMMARY:21 az egyben – Új időpontban!
DESCRIPTION:Kedves Nézőink!\nSzeretnénk tájékoztatni Önöket\, hogy az október 14-én 19.00 órára\, Vácra a Madách Imre Művelődési Központba meghirdetett a 21 az egyben című előadásunk betegség miatt más időpontban kerül megrendezésre. \nA jegyek automatikusan érvényesek az új időpontra: 2025.november.29. \nHa tehát továbbra is részt kíván venni az eseményen\, a belépőjegyeivel kapcsolatban további teendője nincs\, az előadáshoz jó szórakozást kívánunk! \nTermészetesen megértjük\, ha ez az új dátum az Ön számára nem megfelelő\, ezért biztosítjuk az Ön számára a belépőjegyek visszaváltásának lehetőségét. Amennyiben szeretne élni ezzel a lehetőséggel\, kérjük\, a vásárláskor használt e-mail címéről „21 az egyben – Vác – Jegyvisszaváltás” tárggyal írjon egy egyszerű üzenetet a support@funcode.hu e-mail címre. \nA jegyek visszaváltására 2025.október.26-ig van lehetőség\, a határidő lejárta után már nem kérhető a jegyek visszaváltása. \nA visszaváltás során a vásárlás tényleges értékét (beleértve a vásárlás során alkalmazott díjakat is) a vásárláskor használt bankkártyára térítjük vissza – ennek megtörténtéről külön e-mail visszaigazolást küldünk. \nCsányi Sándor új színdarabja \nMit szólnál\, ha egy jelenetet nem egyszer\, hanem huszonegyszer játszanánk el –\nméghozzá huszonegy teljesen különböző stílusban? Ugyanaz a helyzet egy krimiben\,\nvígjátékban\, némafilmben vagy akár egy musicalben?\nHogy nézne ki\, ha Tarantino rendezné… vagy ha Scorsese? \nCsányi Sándor legújabb\, rendhagyó darabjában a határok és a szabályok eltűnnek! Itt csak\nhárom színész van\, akiket semmi sem állíthat meg ! Mi történik\, ha az egyik szereplő be van\nrúgva? Vagy ha éppen az előadás előtt született gyereke? Esetleg nem tudja a szövegét?\nA „21 az egyben” visszarepít minket a színház alapjaihoz: amikor nincs más\, csak a\nszínészek\, a játék és a spontaneitás. Ha vágysz egy este alatt huszonegy különböző világra\,\nha szereted az őrült humort\, és ha igazán jól akarsz szórakozni\, itt a helyed!\nNe hagyd ki Csányi Sándor új darabját\, mert ilyet még biztosan nem láttál! \nSzereplők:\nBányai Kelemen Barna\nCsányi Sándor\nPál András\nAz előadás 90 perc szünet nélkül\, vígjáték.\n12 éves kortól ajánljuk. \nJegyár: 9900 Ft\, 10.900 Ft\, 11.900 Ft\nOnline jegyvásárlás: https://csanyisandor.funcode.hu/events/126306
URL:https://visitvac.hu/event/21-az-egyben-uj-idopontban/
LOCATION:Madách Imre Művelődési Központ\, Dr. Csányi László krt. 63.\, Vác\, 2600\, Magyarország
ATTACH;FMTTYPE=image/png:https://visitvac.hu/wp-content/uploads/2025/10/21_az_egyben_mimk.png
END:VEVENT
BEGIN:VEVENT
DTSTART;TZID=Europe/Budapest:20251128T190000
DTEND;TZID=Europe/Budapest:20251128T203000
DTSTAMP:20260422T012031
CREATED:20251029T120858Z
LAST-MODIFIED:20251127T134335Z
UID:10001291-1764356400-1764361800@visitvac.hu
SUMMARY:ELMARAD - Kollányi Zsuzsi – NŐj fel!
DESCRIPTION:Az előadás egészségügyi okok miatt elmarad.\nÚj időpontról hamarosan tájékoztatjuk az érdeklődőket. A vásárolt jegyek az új időpontra is érvényesek lesznek.\nMegértésüket köszönjük! \nÖnismereti előadás\nMeghívott vendég: Dr. Hevesi Kriszta \nKollányi Zsuzsi és Bánhidi Emese közös podcastje a NŐj FEL! most Vácra érkezik\, hogy Te is teljesen a részese lehess ennek az élménynek. Az előadás során Kollányi Zsuzsi és a meghívott vendég\, Dr. Hevesi Kriszta őszintén és tabuk nélkül\, interaktívan osztják meg gondolataikat önismeret témában. \nCsatlakozz Te is élőben a NŐj FEL!-hez – NŐkért\, NŐknek\, nem csak NŐkkel! \nJegyár: 4990 Ft\nJegyek jegypénztárunkban és online is kaphatók!\nhttps://www.jegy.hu/program/noj-fel-live-182460/1338633 \nHelyszín: Jeszenszky terem
URL:https://visitvac.hu/event/kollanyi-zsuzsi-noj-fel/
LOCATION:Madách Imre Művelődési Központ\, Dr. Csányi László krt. 63.\, Vác\, 2600\, Magyarország
ATTACH;FMTTYPE=image/png:https://visitvac.hu/wp-content/uploads/2025/10/noj_fel_mimk.png
END:VEVENT
BEGIN:VEVENT
DTSTART;TZID=Europe/Budapest:20251126T100000
DTEND;TZID=Europe/Budapest:20251126T110000
DTSTAMP:20260422T012031
CREATED:20251029T114209Z
LAST-MODIFIED:20251029T114209Z
UID:10001290-1764151200-1764154800@visitvac.hu
SUMMARY:Milyen hangszerek vannak? – A Magyar Zene Háza programja
DESCRIPTION:Interaktív ismeretterjesztő műsor gyerekeknek\nAzt minden rendes gyerek tudja\, hogyha fakanállal ráüt egy fazékra\, akkor az megkondul. A legtöbb gyerek tehát már korán megismerkedik az ütőhangszerek világával. Azonban a rendes gyerekek itt nem állnak meg\, hamar felfedezik\, milyen szép\, öblös hangjuk lesz\, ha belefújnak egy sörös üvegbe/csőbe/nagyitól kapott műanyag izébe\, azaz hamar felfedezik az aerofon hangszerek működését is. És ha a szomszéd eddig még mindig nem költözött volna el\, akkor általában nincs megállás a húros hangszerek kipróbálásáig. \nSőnfeld Mátyás\, zenész\, zenepedagógus\, a Zenebatyu program megálmodójával hamar be fogjuk bizonyítani: értő kezekben\, bármi lehet hangszer! A Hangadó Junior szórakoztató családi műsorának ezen alkalmán tehát ennek a nagy feladatnak vágunk neki\, reméljük sok-sok nevetés közepette! A műsor vezetője  Tarr Feri\, a Zene Háza koncertpedagógusa lesz. \nA belépőjegy ára: 2.000 Ft \nJegyek jegypénztárunkban is kaphatók! \nOnline jegyvásárlás: https://www.jegy.hu/program/milyen-hangszerek-vannak-magyar-zene-haza-177735/1298537 \nHelyszín: Színházterem
URL:https://visitvac.hu/event/milyen-hangszerek-vannak-a-magyar-zene-haza-programja/
LOCATION:Madách Imre Művelődési Központ\, Dr. Csányi László krt. 63.\, Vác\, 2600\, Magyarország
ATTACH;FMTTYPE=image/png:https://visitvac.hu/wp-content/uploads/2025/10/milyen_hangszerek_vannak_mimk.png
END:VEVENT
BEGIN:VEVENT
DTSTART;TZID=Europe/Budapest:20251124T190000
DTEND;TZID=Europe/Budapest:20251124T203000
DTSTAMP:20260422T012031
CREATED:20251029T113746Z
LAST-MODIFIED:20251029T113746Z
UID:10001289-1764010800-1764016200@visitvac.hu
SUMMARY:Loveshake – AZ ÉLET ÖSSZERÁZ
DESCRIPTION:Színházi duett\nA formabontó darab egy párkapcsolati történet\, amelyben Rezes Judit és Szabó Győző népszerű dalok és izgalmas koreográfiák segítségével mutatják be kapcsolatuk ívét\, annak csodáit és nehézségeit. Történeteik saját történetek\, megélt\, igazi állomások. Az előadás személyes érintettséggel\, őszintén és kendőzetlenül mesél nekünk róluk\, magunkról. Valóság és fikció keserédes keveréke a közismert színész pár által megálmodott egyszerre vicces és szívszorító előadás. Szórakoztató\, ironikus és gyakran fájdalmas helyzeteket megmutató játék\, amelynek történetei egyediek\, mégis mindenki számára ismerősek. \nNő: Rezes Judit\nFérfi: Szabó Győző\nDramaturg: Enyedi Éva\nDalszöveg: Máthé Zsolt\nZenei vezető: Wagner-Puskás Péter\nKoreográfus: Kurucz Sándor\, Lehoczky György\nAsztali zene: Sáry Sándor\nA zenekar: Wagner-Puskás Péter\, Urbán Marcell\, Kovács Norbert\, Miskolczi Márk\, Csizmás András\nProducer: Kövesd Zsuzsa és Gerlóczi Judit (Delta Produkció)\, Rezes Judit\, Szabó Győző\nKoprodukciós partner: NUBU \nJegyár: 7500 Ft\, 8500 Ft\, (dinamikus jegyárazás)\nJegyek online kaphatók: https://dudasjegyshop.hu/esemeny/lsh-vac-251124/
URL:https://visitvac.hu/event/loveshake-az-elet-osszeraz/
LOCATION:Madách Imre Művelődési Központ\, Dr. Csányi László krt. 63.\, Vác\, 2600\, Magyarország
ATTACH;FMTTYPE=image/png:https://visitvac.hu/wp-content/uploads/2025/10/loveshake_mimk.png
END:VEVENT
BEGIN:VEVENT
DTSTART;TZID=Europe/Budapest:20251122T190000
DTEND;TZID=Europe/Budapest:20251122T220000
DTSTAMP:20260422T012031
CREATED:20251029T112506Z
LAST-MODIFIED:20251029T112506Z
UID:10001287-1763838000-1763848800@visitvac.hu
SUMMARY:Hiperkarma koncert
DESCRIPTION:Kapunyitás: 18.00 óra\nElőzenekar: 19.00 óra –  Hangácsi Márton\n20.00 – Hiperkarma koncert \nLesz itt minden: zúzás\, rap\, balladák\, régi dalok\, új dalok\, érdekességek\, meglepetések\, és még hosszan sorolhatnánk\, a lényeg\, hogy érdemes most megnézni ezt a kirobbanó formában lévő különleges zenekart! \nA belépőjegy ára: 6.000 Ft\nOnline jegyvásárlás: https://www.tixa.hu/hiperkarma-madach-2025
URL:https://visitvac.hu/event/hiperkarma-koncert/
LOCATION:Madách Imre Művelődési Központ\, Dr. Csányi László krt. 63.\, Vác\, 2600\, Magyarország
ATTACH;FMTTYPE=image/png:https://visitvac.hu/wp-content/uploads/2025/10/hiperkarma_mimk.png
END:VEVENT
BEGIN:VEVENT
DTSTART;TZID=Europe/Budapest:20251122T190000
DTEND;TZID=Europe/Budapest:20251122T210000
DTSTAMP:20260422T012031
CREATED:20251029T113320Z
LAST-MODIFIED:20251029T113320Z
UID:10001288-1763838000-1763845200@visitvac.hu
SUMMARY:Molnár Ferenc: A doktor úr
DESCRIPTION:Vígjáték a Körúti Színház előadásában\nA legtöbbet játszott magyar drámaíró\, Molnár Ferenc első színpadi művét 1902-ben mutatták be. A darab a békebeli hangulatot idézi\, de a mai kor emberének is van üzenete. A doktor úrban mindenki keresi önmagát\, keresi a siker lehetőségét\, és ennek érdekében csal\, hazudik\, lop\, játszik kisebb-nagyobb szerepeket. Sárkány\, a híres ügyvéd a legkülönbözőbb fogásokkal mindig eléri védence felmentését\, bármilyen gazember is legyen az. Puzsér\, a valaha látott legszimpatikusabb betörő már 18-szor ült börtönben\, de „hű” segítőtársa Sárkánynak. Puzsér az igazság bajnoka\, s a végén még talán az is kiderül\, hogy ő az egyetlen gavallér és tisztességes ember a darabban. \nFőbb szerepekben: Beleznay Endre\, Lipták Péter\, Placskó Emese\, Oroszi Tamás\, Farkasinszky Edit\, Galambos Zoltán \nRendezte: Galambos Zoltán \nA belépőjegy ára: 6.400 Ft és 6.900 Ft\nJegyek jegypénztárunkban kizárólag készpénzzel fizethetők!\nOnline jegyvásárlás: https://www.jegy.hu/program/molnar-ferenc-a-doktor-ur-178161/1302814
URL:https://visitvac.hu/event/molnar-ferenc-a-doktor-ur/
LOCATION:Madách Imre Művelődési Központ\, Dr. Csányi László krt. 63.\, Vác\, 2600\, Magyarország
ATTACH;FMTTYPE=image/png:https://visitvac.hu/wp-content/uploads/2025/10/molnar_ferenc_a_doktor_ur.png
END:VEVENT
BEGIN:VEVENT
DTSTART;TZID=Europe/Budapest:20251121T180000
DTEND;TZID=Europe/Budapest:20251121T200000
DTSTAMP:20260422T012031
CREATED:20251119T110619Z
LAST-MODIFIED:20251119T110619Z
UID:10001339-1763748000-1763755200@visitvac.hu
SUMMARY:VÁC TEGNAP ÉS MA – a Forte Fotóklub Vác kiállítása
DESCRIPTION:A VÁC 950 jubileumi év lezárásaként egy igazi összművészeti estnek ad otthont a Váci Dunakanyar Színház. Az ingyenes esemény meglepetésekkel és a műfajok izgalmas kavalkádjával várja a váciakat.18 ÓRA KIÁLLÍTÁSMEGNYITÓVÁC TEGNAP ÉS MA – a Forte Fotóklub Vác kiállítása.A kiállítást megnyitja Cservenák Péter\, a Forte Fotóklub Vác elnöke \n19 ÓRA VÁCI ZENÉS IRODALMI ESTKlenyán Csaba klarinétművészVáci Költők Baráti TársaságaBoda Mária // Beszkid JózsefLel-Tár együttes // Pápay EszterAz esten fellépő előadók és alkotók közösségi felajánlásként vállalták a fellépést.Köszöntőt mond: Matkovich Ilona\, Vác város polgármestereA belépés díjtalan!A helyfoglalás érkezési sorrendben történik.A programváltoztatás jogát fenntartjuk!A rendezvényeken kép és hangfelvétel készül. \nSzervezők:Vác Város ÖnkormányzatVáci Dunakanyar SzínházMadách Imre Művelődési KözpontForte Fotóklub VácVác és Környéke TDM Nonprofit Kft. \nInformáció: info@varoshaza.vac.huIdőpont:2025. november 21. 18:00 óraHelyszín: Váci Dunakanyar Színház
URL:https://visitvac.hu/event/vac-tegnap-es-ma-a-forte-fotoklub-vac-kiallitasa/
LOCATION:Váci Dunakanyar Színház\, Dr. Csányi László krt. 58.\, Vác\, 2600\, Magyarország
ATTACH;FMTTYPE=image/jpeg:https://visitvac.hu/wp-content/uploads/2025/11/forte_fotoklub_kiallitasmegnyito_11_21.jpg
ORGANIZER;CN="V%C3%A1c V%C3%A1ros %C3%96nkorm%C3%A1nyzata":MAILTO:szerveztitkar@varoshaza.vac.hu
END:VEVENT
BEGIN:VEVENT
DTSTART;TZID=Europe/Budapest:20251114T190000
DTEND;TZID=Europe/Budapest:20251114T210000
DTSTAMP:20260422T012031
CREATED:20251029T112016Z
LAST-MODIFIED:20251029T112016Z
UID:10001286-1763146800-1763154000@visitvac.hu
SUMMARY:Lel-Tár Klub
DESCRIPTION:Koncert\nNovemberi vendégünk: Fejér Simon lesz\, Hangszervándor című előadásával. \nHangszervándor – Hangszerek a világ négy égtájáról – Hangszerbemutató\nA Hangszervándor című előadás egy különleges zenei utazás\, amely a világ számos népének zenei kultúrájába nyújt betekintést egy mesébe ágyazott\, látványos hangszerbemutató keretében. \nAz előadás középpontjában Shiriki\, az indián fiú áll\, aki egy világ körüli útra indul\, hogy megtalálja azt a csodálatos hangszert\, amelynek hangja még az eget is könnyekre fakasztja. A célja nemes: megmenteni faluját a pusztító szárazságtól. Útja során különféle kultúrák zenei hagyományaival ismerkedik meg\, így a közönség is részese lehet ennek a rendhagyó és élményszerű felfedezésnek. \nFejér Simon Pál zenész\, dalszerző a nagysikerű Lengemesék és Csongor és Tünde c. animációs filmek zeneszerzője kalauzol el minket ezen az izgalmas zenei utazáson.\nTalálkozhatunk itt afrikai nyelvdobbal\, török s azzal\, kínai tök dudával\, de hallhatunk mongol torok éneket\, lófejes hegedűt\, vagy sakktáblából készült cigarbox blues gitárt.\nFöldrajz\, népviselet\, népi dialektusok\, némi gasztronómia\, autentikus énekek és sok humor szövi át az előadást.\nA műsor igazi családos program! Természetesen sok hangszer és nép van még a világon melyek nem fértek bele ebbe az előadásba\, de a világ összes hangszerét életünk végéig hallgathatnánk! \nBelépés ingyenes! \nHelyszín: Kamaraterem
URL:https://visitvac.hu/event/lel-tar-klub/
LOCATION:Madách Imre Művelődési Központ\, Dr. Csányi László krt. 63.\, Vác\, 2600\, Magyarország
ATTACH;FMTTYPE=image/png:https://visitvac.hu/wp-content/uploads/2025/10/Frantic-19.png
END:VEVENT
BEGIN:VEVENT
DTSTART;TZID=Europe/Budapest:20251114T180000
DTEND;TZID=Europe/Budapest:20260105T180000
DTSTAMP:20260422T012031
CREATED:20251105T143120Z
LAST-MODIFIED:20251105T143120Z
UID:10001336-1763143200-1767636000@visitvac.hu
SUMMARY:Mandalák
DESCRIPTION:Fülöp Jánosné Eszter kiállítása\nMegnyitó ünnepség: november 14. 18 óra\nKiállítást megnyitja: Németh Árpád festőművész\nHandpanen közreműködik: Kőrösi Gábor \nHelyszín: Kávézó Galéria
URL:https://visitvac.hu/event/mandalak/
LOCATION:Madách Imre Művelődési Központ\, Dr. Csányi László krt. 63.\, Vác\, 2600\, Magyarország
ATTACH;FMTTYPE=image/png:https://visitvac.hu/wp-content/uploads/2025/11/mandalak_mimk.png
END:VEVENT
BEGIN:VEVENT
DTSTART;TZID=Europe/Budapest:20251030T190000
DTEND;TZID=Europe/Budapest:20251030T210000
DTSTAMP:20260422T012031
CREATED:20250918T084106Z
LAST-MODIFIED:20250918T084106Z
UID:10001260-1761850800-1761858000@visitvac.hu
SUMMARY:Eric Chappell: SPANYOLHÁTHA (Hőguta)
DESCRIPTION:Két angol úriember érkezik egy spanyol villába. Egyikük a nejével\, Fay-jel\, a másik\, az idősödő sorozatszínész Howard pedig a nála húsz évvel fiatalabb Dodie-val. A párok mindössze egy kellemes hosszú hétvégét szeretnének eltölteni főnökük üresnek hitt\, dél-spanyol tengerparton fekvő fényűző nyaralójában\, ahol ráadásként még Raynor nyomozó és Kutya\, a gengszter is felbukkan. A furcsa párok furcsa találkozásához három teljesen egyforma\, ámde merőben más tartalmú táska szolgáltatja a végleges\, de annál inkább humoros szituációk sorozatát. \nSzereposztás: \n\nSam Spencer – Mihályfi Balázs\nFay Spencer – Pikali Gerda\nHoward Green – Beleznay Endre\nDodie – Nyári Dia\nRaynor vagy talán Kutya – Suhajda Dániel\nRaynor vagy talán Kutya – Barabás Kiss Zoltán\n\nRendező: Beleznay Endre \nAZ ELŐADÁSRÓL VIDEO- VAGY HANGFELVÉTELT KÉSZÍTENI SZIGORÚAN TILOS! \nA változtatás jogát fenntartjuk!\nJegyár: 7900 Ft\, 8900Ft\nJegyek online kaphatók!\nhttps://hangjegyszinhaz.jegy.hu/program/eric-chappell-spanyolhatha-hoguta-181741/1331757
URL:https://visitvac.hu/event/eric-chappell-spanyolhatha-hoguta/
LOCATION:Madách Imre Művelődési Központ\, Dr. Csányi László krt. 63.\, Vác\, 2600\, Magyarország
CATEGORIES:Előadás,Színház
ATTACH;FMTTYPE=image/png:https://visitvac.hu/wp-content/uploads/2025/09/Nevtelen-terv-2025-09-12T091304.012.png
END:VEVENT
END:VCALENDAR